{"text_format":"1","workbook":"xlsx","n_sheets":6,"sheets":["申込一覧表A","印刷","種目人数表B","混成申込","初期設定","DAT"],"not_rendered":{"charts":0,"images":0,"macros":1,"external_links":0,"defined_names":8,"comments":2,"pivot_tables":0},"unopened":[],"bounds":{"document_bytes":16777216,"sheet_cells":100000,"rows_first":2000,"rows_last":500,"rows_between":2000,"halvings":0,"cell_chars":16384,"cell_head_chars":4096},"cells_cut":0,"cells_raw":0,"read":"whole","date_system":"1900"}

{"sheet":"申込一覧表A","index":0,"n_rows":97,"n_cols":35,"rows_kept":97,"cut":false,"hidden":false,"merged":[[0,1,0,2],[0,3,0,6],[0,7,0,9],[0,10,0,11],[0,12,0,13],[0,14,0,15],[0,16,0,17],[0,18,0,22],[1,1,1,2],[1,3,1,6],[1,7,1,9],[1,10,1,11],[1,12,1,13],[1,14,1,15],[1,16,1,17],[1,18,1,22],[3,1,3,2]]}
["項目","所属コード",null,"所属名",null,null,null,"所在地",null,null,"電話",null,"携帯電話",null,"代表者名",null,"申込責任者",null,"大　　会　　名"]
["入力",100000,null,{"$f":"IF(B2=\"\",\"\",VLOOKUP(B2,初期設定!$D$2:$I$513,4,FALSE))","v":"群馬陸協"}]
[]
[null,"上段の"]
[]
["No","氏　　名","学年","ﾌﾘｶﾞﾅ","ローマ字","男１・女２","国籍","生年月日","ナンバーカード","4R","16R","32R","ｺｰﾄﾞ","種目1","記録","大会","ｺｰﾄﾞ","種目2","記録","大会","ｺｰﾄﾞ","種目3","記録","大会","所属ｺｰﾄﾞ",null,"注",null,"ｺｰﾄﾞ","種目",null,null,null,null,"学年\n性"]
[1,null,null,null,null,null,null,null,null,null,null,null,null,{"$f":"IF(M7=\"\",\"\",VLOOKUP(LEFT(M7,3),kyougi,2,1))","v":""},null,null,null,{"$f":"IF(Q7=\"\",\"\",VLOOKUP(LEFT(Q7,3),kyougi,2,1))","v":""},null,null,null,{"$f":"IF(U7=\"\",\"\",VLOOKUP(LEFT(U7,3),kyougi,2,1))","v":""},null,null,{"$f":"IF($B$2=\"\",\"\",$B$2)","v":100000},{"$f":"IF(Y7=\"\",\"\",VLOOKUP(Y7,初期設定!$D$1:$I$416,3,FALSE))","v":"群馬陸協"},"・","このフォームに",{"$f":"IF(初期設定!A2=\"\",\"\",初期設定!A2)","v":"002"},{"$f":"IF(初期設定!B2=\"\",\"\",初期設定!B2)","v":"100m"},null,null,null,null,1]
[2,null,null,null,null,null,null,null,null,null,null,null,null,{"$f":"IF(M8=\"\",\"\",VLOOKUP(LEFT(M8,3),kyougi,2,1))","v":""},null,null,null,{"$f":"IF(Q8=\"\",\"\",VLOOKUP(LEFT(Q8,3),kyougi,2,1))","v":""},null,null,null,{"$f":"IF(U8=\"\",\"\",VLOOKUP(LEFT(U8,3),kyougi,2,1))","v":""},null,null,100000,{"$f":"IF(Y8=\"\",\"\",VLOOKUP(Y8,初期設定!$D$1:$I$416,3,FALSE))","v":"群馬陸協"},null,"必要事項を入力し",{"$f":"IF(初期設定!A3=\"\",\"\",初期設定!A3)","v":"003"},{"$f":"IF(初期設定!B3=\"\",\"\",初期設定!B3)","v":"200m"},null,null,null,null,2]
[3,null,null,null,null,null,null,null,null,null,null,null,null,"",null,null,null,{"$f":"IF(Q9=\"\",\"\",VLOOKUP(LEFT(Q9,3),kyougi,2,1))","v":""},null,null,null,{"$f":"IF(U9=\"\",\"\",VLOOKUP(LEFT(U9,3),kyougi,2,1))","v":""},null,null,100000,{"$f":"IF(Y9=\"\",\"\",VLOOKUP(Y9,初期設定!$D$1:$I$416,3,FALSE))","v":"群馬陸協"},null,"メールにて送付",{"$f":"IF(初期設定!A4=\"\",\"\",初期設定!A4)","v":"004"},{"$f":"IF(初期設定!B4=\"\",\"\",初期設定!B4)","v":"300m"},null,null,null,null,3]
[4,null,null,null,null,null,null,null,null,null,null,null,null,"",null,null,null,{"$f":"IF(Q10=\"\",\"\",VLOOKUP(LEFT(Q10,3),kyougi,2,1))","v":""},null,null,null,{"$f":"IF(U10=\"\",\"\",VLOOKUP(LEFT(U10,3),kyougi,2,1))","v":""},null,null,100000,{"$f":"IF(Y10=\"\",\"\",VLOOKUP(Y10,初期設定!$D$1:$I$416,3,FALSE))","v":"群馬陸協"},null,"してください。",{"$f":"IF(初期設定!A5=\"\",\"\",初期設定!A5)","v":"005"},{"$f":"IF(初期設定!B5=\"\",\"\",初期設定!B5)","v":"400m"},null,null,null,null,4]
[5,null,null,null,null,null,null,null,null,null,null,null,null,"",null,null,null,{"$f":"IF(Q11=\"\",\"\",VLOOKUP(LEFT(Q11,3),kyougi,2,1))","v":""},null,null,null,{"$f":"IF(U11=\"\",\"\",VLOOKUP(LEFT(U11,3),kyougi,2,1))","v":""},null,null,100000,{"$f":"IF(Y11=\"\",\"\",VLOOKUP(Y11,初期設定!$D$1:$I$416,3,FALSE))","v":"群馬陸協"},"・","種目、所属コードは",{"$f":"IF(初期設定!A6=\"\",\"\",初期設定!A6)","v":"006"},{"$f":"IF(初期設定!B6=\"\",\"\",初期設定!B6)","v":"800m"},null,null,null,null,5]
[6,null,null,null,null,null,null,null,null,null,null,null,null,"",null,null,null,"",null,null,null,"",null,null,100000,{"$f":"IF(Y12=\"\",\"\",VLOOKUP(Y12,初期設定!$D$1:$I$416,3,FALSE))","v":"群馬陸協"},null,"初期設定のページを",{"$f":"IF(初期設定!A8=\"\",\"\",初期設定!A8)","v":"008"},{"$f":"IF(初期設定!B8=\"\",\"\",初期設定!B8)","v":"1500m"},null,null,null,null,6]
[7,null,null,null,null,null,null,null,null,null,null,null,null,"",null,null,null,"",null,null,null,"",null,null,100000,{"$f":"IF(Y13=\"\",\"\",VLOOKUP(Y13,初期設定!$D$1:$I$416,3,FALSE))","v":"群馬陸協"},null,"確認してください。",{"$f":"IF(初期設定!A9=\"\",\"\",初期設定!A9)","v":"010"},{"$f":"IF(初期設定!B9=\"\",\"\",初期設定!B9)","v":"3000m"}]
[8,null,null,null,null,null,null,null,null,null,null,null,null,"",null,null,null,"",null,null,null,"",null,null,100000,{"$f":"IF(Y14=\"\",\"\",VLOOKUP(Y14,初期設定!$D$1:$I$416,3,FALSE))","v":"群馬陸協"},"・","不明な箇所は、",{"$f":"IF(初期設定!A10=\"\",\"\",初期設定!A10)","v":"011"},{"$f":"IF(初期設定!B10=\"\",\"\",初期設定!B10)","v":"5000m"}]
[9,null,null,null,null,null,null,null,null,null,null,null,null,"",null,null,null,"",null,null,null,"",null,null,100000,{"$f":"IF(Y15=\"\",\"\",VLOOKUP(Y15,初期設定!$D$1:$I$416,3,FALSE))","v":"群馬陸協"},null,"空欄でも結構です。",{"$f":"IF(初期設定!A11=\"\",\"\",初期設定!A11)","v":"012"},{"$f":"IF(初期設定!B11=\"\",\"\",初期設定!B11)","v":"10000m"}]
[10,null,null,null,null,null,null,null,null,null,null,null,null,"",null,null,null,"",null,null,null,"",null,null,100000,{"$f":"IF(Y16=\"\",\"\",VLOOKUP(Y16,初期設定!$D$1:$I$416,3,FALSE))","v":"群馬陸協"},"・","記録は、できるだけ",{"$f":"IF(初期設定!A12=\"\",\"\",初期設定!A12)","v":"032"},{"$f":"IF(初期設定!B12=\"\",\"\",初期設定!B12)","v":"110mH(中学男子)"}]
[11,null,null,null,null,null,null,null,null,null,null,null,null,"",null,null,null,"",null,null,null,"",null,null,100000,{"$f":"IF(Y17=\"\",\"\",VLOOKUP(Y17,初期設定!$D$1:$I$416,3,FALSE))","v":"群馬陸協"},null,"記入して下さい。",{"$f":"IF(初期設定!A13=\"\",\"\",初期設定!A13)","v":"033"},{"$f":"IF(初期設定!B13=\"\",\"\",初期設定!B13)","v":"110mJH(0.991m)"}]
[12,null,null,null,null,null,null,null,null,null,null,null,null,"",null,null,null,"",null,null,null,"",null,null,100000,{"$f":"IF(Y18=\"\",\"\",VLOOKUP(Y18,初期設定!$D$1:$I$416,3,FALSE))","v":"群馬陸協"},null,"その場合、点や",{"$f":"IF(初期設定!A14=\"\",\"\",初期設定!A14)","v":"034"},{"$f":"IF(初期設定!B14=\"\",\"\",初期設定!B14)","v":"110mH"}]
[13,null,null,null,null,null,null,null,null,null,null,null,null,"",null,null,null,"",null,null,null,"",null,null,100000,{"$f":"IF(Y19=\"\",\"\",VLOOKUP(Y19,初期設定!$D$1:$I$416,3,FALSE))","v":"群馬陸協"},null,"単位記号を抜いて",{"$f":"IF(初期設定!A15=\"\",\"\",初期設定!A15)","v":"036"},{"$f":"IF(初期設定!B15=\"\",\"\",初期設定!B15)","v":"300mH(男）"}]
[14,null,null,null,null,null,null,null,null,null,null,null,null,"",null,null,null,"",null,null,null,"",null,null,100000,{"$f":"IF(Y20=\"\",\"\",VLOOKUP(Y20,初期設定!$D$1:$I$416,3,FALSE))","v":"群馬陸協"},null,"記入して下さい。",{"$f":"IF(初期設定!A16=\"\",\"\",初期設定!A16)","v":"037"},{"$f":"IF(初期設定!B16=\"\",\"\",初期設定!B16)","v":"400mH(男）"}]
[15,null,null,null,null,null,null,null,null,null,null,null,null,"",null,null,null,"",null,null,null,"",null,null,100000,{"$f":"IF(Y21=\"\",\"\",VLOOKUP(Y21,初期設定!$D$1:$I$416,3,FALSE))","v":"群馬陸協"},"例","5m25→00525",{"$f":"IF(初期設定!A17=\"\",\"\",初期設定!A17)","v":"042"},{"$f":"IF(初期設定!B17=\"\",\"\",初期設定!B17)","v":"100mH(中学女子)"}]
[16,null,null,null,null,null,null,null,null,null,null,null,null,"",null,null,null,"",null,null,null,"",null,null,100000,{"$f":"IF(Y22=\"\",\"\",VLOOKUP(Y22,初期設定!$D$1:$I$416,3,FALSE))","v":"群馬陸協"},null,"12秒25→0001225",{"$f":"IF(初期設定!A18=\"\",\"\",初期設定!A18)","v":"043"},{"$f":"IF(初期設定!B18=\"\",\"\",初期設定!B18)","v":"100mYH(0.762m)"}]
[17,null,null,null,null,null,null,null,null,null,null,null,null,"",null,null,null,"",null,null,null,"",null,null,100000,{"$f":"IF(Y23=\"\",\"\",VLOOKUP(Y23,初期設定!$D$1:$I$416,3,FALSE))","v":"群馬陸協"},null,"12分15秒23",{"$f":"IF(初期設定!A19=\"\",\"\",初期設定!A19)","v":"044"},{"$f":"IF(初期設定!B19=\"\",\"\",初期設定!B19)","v":"100mH(女)"}]
[18,null,null,null,null,null,null,null,null,null,null,null,null,"",null,null,null,"",null,null,null,"",null,null,100000,{"$f":"IF(Y24=\"\",\"\",VLOOKUP(Y24,初期設定!$D$1:$I$416,3,FALSE))","v":"群馬陸協"},null,"　　→0121523",{"$f":"IF(初期設定!A20=\"\",\"\",初期設定!A20)","v":"045"},{"$f":"IF(初期設定!B20=\"\",\"\",初期設定!B20)","v":"200mH"}]
[19,null,null,null,null,null,null,null,null,null,null,null,null,"",null,null,null,"",null,null,null,"",null,null,100000,{"$f":"IF(Y25=\"\",\"\",VLOOKUP(Y25,初期設定!$D$1:$I$416,3,FALSE))","v":"群馬陸協"},null,"26m23→02623",{"$f":"IF(初期設定!A21=\"\",\"\",初期設定!A21)","v":"046"},{"$f":"IF(初期設定!B21=\"\",\"\",初期設定!B21)","v":"400mH(女）"}]
[20,null,null,null,null,null,null,null,null,null,null,null,null,"",null,null,null,"",null,null,null,"",null,null,100000,{"$f":"IF(Y26=\"\",\"\",VLOOKUP(Y26,初期設定!$D$1:$I$416,3,FALSE))","v":"群馬陸協"},null,"数字は半角で",{"$f":"IF(初期設定!A22=\"\",\"\",初期設定!A22)","v":"047"},{"$f":"IF(初期設定!B22=\"\",\"\",初期設定!B22)","v":"300mH(女）"}]
[21,null,null,null,null,null,null,null,null,null,null,null,null,"",null,null,null,"",null,null,null,"",null,null,100000,{"$f":"IF(Y27=\"\",\"\",VLOOKUP(Y27,初期設定!$D$1:$I$416,3,FALSE))","v":"群馬陸協"},null,"お願いします。",{"$f":"IF(初期設定!A23=\"\",\"\",初期設定!A23)","v":"053"},{"$f":"IF(初期設定!B23=\"\",\"\",初期設定!B23)","v":"3000mSC"}]
[22,null,null,null,null,null,null,null,null,null,null,null,null,"",null,null,null,"",null,null,null,"",null,null,100000,{"$f":"IF(Y28=\"\",\"\",VLOOKUP(Y28,初期設定!$D$1:$I$416,3,FALSE))","v":"群馬陸協"},null,"桁は必ずそろえて",{"$f":"IF(初期設定!A24=\"\",\"\",初期設定!A24)","v":"060"},{"$f":"IF(初期設定!B24=\"\",\"\",初期設定!B24)","v":"3000競歩"}]
[23,null,null,null,null,null,null,null,null,null,null,null,null,"",null,null,null,"",null,null,null,"",null,null,100000,{"$f":"IF(Y29=\"\",\"\",VLOOKUP(Y29,初期設定!$D$1:$I$416,3,FALSE))","v":"群馬陸協"},null,"下さい。",{"$f":"IF(初期設定!A25=\"\",\"\",初期設定!A25)","v":"061"},{"$f":"IF(初期設定!B25=\"\",\"\",初期設定!B25)","v":"5000競歩"}]
[24,null,null,null,null,null,null,null,null,null,null,null,null,"",null,null,null,"",null,null,null,"",null,null,100000,{"$f":"IF(Y30=\"\",\"\",VLOOKUP(Y30,初期設定!$D$1:$I$416,3,FALSE))","v":"群馬陸協"},"・","種目コードの後ろ",{"$f":"IF(初期設定!A26=\"\",\"\",初期設定!A26)","v":"062"},{"$f":"IF(初期設定!B26=\"\",\"\",初期設定!B26)","v":"10000競歩"}]
[25,null,null,null,null,null,null,null,null,null,null,null,null,"",null,null,null,"",null,null,null,"",null,null,100000,{"$f":"IF(Y31=\"\",\"\",VLOOKUP(Y31,初期設定!$D$1:$I$416,3,FALSE))","v":"群馬陸協"},null,"には通常00を記入",{"$f":"IF(初期設定!A27=\"\",\"\",初期設定!A27)","v":"071"},{"$f":"IF(初期設定!B27=\"\",\"\",初期設定!B27)","v":"走高跳"}]
[26,null,null,null,null,null,{"$f":"IF(B32=\"\",\"\",\"JPN\")","v":""},null,null,null,null,null,null,"",null,null,null,"",null,null,null,"",null,null,100000,{"$f":"IF(Y32=\"\",\"\",VLOOKUP(Y32,初期設定!$D$1:$I$416,3,FALSE))","v":"群馬陸協"},null,"して下さい。",{"$f":"IF(初期設定!A28=\"\",\"\",初期設定!A28)","v":"072"},{"$f":"IF(初期設定!B28=\"\",\"\",初期設定!B28)","v":"棒高跳"}]
[27,null,null,null,null,null,"",null,null,null,null,null,null,"",null,null,null,"",null,null,null,"",null,null,100000,{"$f":"IF(Y33=\"\",\"\",VLOOKUP(Y33,初期設定!$D$1:$I$416,3,FALSE))","v":"群馬陸協"},"・","印刷ボタンを押すと",{"$f":"IF(初期設定!A29=\"\",\"\",初期設定!A29)","v":"073"},{"$f":"IF(初期設定!B29=\"\",\"\",初期設定!B29)","v":"走幅跳"}]
[28,null,null,null,null,null,"",null,null,null,null,null,null,"",null,null,null,"",null,null,null,"",null,null,100000,{"$f":"IF(Y34=\"\",\"\",VLOOKUP(Y34,初期設定!$D$1:$I$416,3,FALSE))","v":"群馬陸協"},null,"印刷用フォームが",{"$f":"IF(初期設定!A30=\"\",\"\",初期設定!A30)","v":"074"},{"$f":"IF(初期設定!B30=\"\",\"\",初期設定!B30)","v":"三段跳"}]
[29,null,null,null,null,null,"",null,null,null,null,null,null,"",null,null,null,"",null,null,null,"",null,null,100000,{"$f":"IF(Y35=\"\",\"\",VLOOKUP(Y35,初期設定!$D$1:$I$416,3,FALSE))","v":"群馬陸協"},null,"作成されますので、",{"$f":"IF(初期設定!A31=\"\",\"\",初期設定!A31)","v":"081"},{"$f":"IF(初期設定!B31=\"\",\"\",初期設定!B31)","v":"砲7k(一般男)"}]
[30,null,null,null,null,null,"",null,null,null,null,null,null,"",null,null,null,"",null,null,null,"",null,null,100000,{"$f":"IF(Y36=\"\",\"\",VLOOKUP(Y36,初期設定!$D$1:$I$416,3,FALSE))","v":"群馬陸協"},null,"それを印刷して",{"$f":"IF(初期設定!A32=\"\",\"\",初期設定!A32)","v":"082"},{"$f":"IF(初期設定!B32=\"\",\"\",初期設定!B32)","v":"砲6k(高校男)"}]
[31,null,null,null,null,null,"",null,null,null,null,null,null,{"$f":"IF(M37=\"\",\"\",VLOOKUP(LEFT(M37,3),kyougi,2,1))","v":""},null,null,null,"",null,null,null,"",null,null,100000,{"$f":"IF(Y37=\"\",\"\",VLOOKUP(Y37,初期設定!$D$1:$I$416,3,FALSE))","v":"群馬陸協"},null,"使用してください。",{"$f":"IF(初期設定!A33=\"\",\"\",初期設定!A33)","v":"083"},{"$f":"IF(初期設定!B33=\"\",\"\",初期設定!B33)","v":"砲5k(中男)"}]
[32,null,null,null,null,null,"",null,null,null,null,null,null,"",null,null,null,"",null,null,null,"",null,null,100000,{"$f":"IF(Y38=\"\",\"\",VLOOKUP(Y38,初期設定!$D$1:$I$416,3,FALSE))","v":"群馬陸協"},"・","リレーチームが複数",{"$f":"IF(初期設定!A34=\"\",\"\",初期設定!A34)","v":"084"},{"$f":"IF(初期設定!B34=\"\",\"\",初期設定!B34)","v":"砲4k(女)"}]
[33,null,null,null,null,null,"",null,null,null,null,null,null,"",null,null,null,"",null,null,null,"",null,null,100000,{"$f":"IF(Y39=\"\",\"\",VLOOKUP(Y39,初期設定!$D$1:$I$416,3,FALSE))","v":"群馬陸協"},null,"ある場合は、A,B",{"$f":"IF(初期設定!A35=\"\",\"\",初期設定!A35)","v":"085"},{"$f":"IF(初期設定!B35=\"\",\"\",初期設定!B35)","v":"砲2k(中女)"}]
[34,null,null,null,null,null,"",null,null,null,null,null,null,"",null,null,null,"",null,null,null,"",null,null,100000,{"$f":"IF(Y40=\"\",\"\",VLOOKUP(Y40,初期設定!$D$1:$I$416,3,FALSE))","v":"群馬陸協"},null,"というようにチーム",{"$f":"IF(初期設定!A36=\"\",\"\",初期設定!A36)","v":"086"},{"$f":"IF(初期設定!B36=\"\",\"\",初期設定!B36)","v":"円盤2k"}]
[35,null,null,null,null,null,"",null,null,null,null,null,null,"",null,null,null,"",null,null,null,"",null,null,100000,{"$f":"IF(Y41=\"\",\"\",VLOOKUP(Y41,初期設定!$D$1:$I$416,3,FALSE))","v":"群馬陸協"},null,"が分かるようにして",{"$f":"IF(初期設定!A37=\"\",\"\",初期設定!A37)","v":"087"},{"$f":"IF(初期設定!B37=\"\",\"\",初期設定!B37)","v":"円1.75k(高男)"}]
[36,null,null,null,null,null,"",null,null,null,null,null,null,"",null,null,null,"",null,null,null,"",null,null,100000,{"$f":"IF(Y42=\"\",\"\",VLOOKUP(Y42,初期設定!$D$1:$I$416,3,FALSE))","v":"群馬陸協"},null,"下さい。",{"$f":"IF(初期設定!A38=\"\",\"\",初期設定!A38)","v":"088"},{"$f":"IF(初期設定!B38=\"\",\"\",初期設定!B38)","v":"円1k女"}]
[37,null,null,null,null,null,"",null,null,null,null,null,null,"",null,null,null,"",null,null,null,"",null,null,100000,{"$f":"IF(Y43=\"\",\"\",VLOOKUP(Y43,初期設定!$D$1:$I$416,3,FALSE))","v":"群馬陸協"},null,null,{"$f":"IF(初期設定!A39=\"\",\"\",初期設定!A39)","v":"089"},{"$f":"IF(初期設定!B39=\"\",\"\",初期設定!B39)","v":"ﾊﾝﾏｰ7k"}]
[38,null,null,null,null,null,"",null,null,null,null,null,null,"",null,null,null,"",null,null,null,"",null,null,100000,{"$f":"IF(Y44=\"\",\"\",VLOOKUP(Y44,初期設定!$D$1:$I$416,3,FALSE))","v":"群馬陸協"},null,null,{"$f":"IF(初期設定!A40=\"\",\"\",初期設定!A40)","v":"090"},{"$f":"IF(初期設定!B40=\"\",\"\",初期設定!B40)","v":"ﾊﾝﾏｰ6k(高男)"}]
[39,null,null,null,null,null,"",null,null,null,null,null,null,"",null,null,null,"",null,null,null,"",null,null,100000,{"$f":"IF(Y45=\"\",\"\",VLOOKUP(Y45,初期設定!$D$1:$I$416,3,FALSE))","v":"群馬陸協"},null,null,{"$f":"IF(初期設定!A41=\"\",\"\",初期設定!A41)","v":"092"},{"$f":"IF(初期設定!B41=\"\",\"\",初期設定!B41)","v":"やり男"}]
[40,null,null,null,null,null,"",null,null,null,null,null,null,"",null,null,null,"",null,null,null,"",null,null,100000,{"$f":"IF(Y46=\"\",\"\",VLOOKUP(Y46,初期設定!$D$1:$I$416,3,FALSE))","v":"群馬陸協"},null,null,{"$f":"IF(初期設定!A42=\"\",\"\",初期設定!A42)","v":"093"},{"$f":"IF(初期設定!B42=\"\",\"\",初期設定!B42)","v":"やり女"}]
[41,null,null,null,null,null,"",null,null,null,null,null,null,"",null,null,null,"",null,null,null,"",null,null,100000,{"$f":"IF(Y47=\"\",\"\",VLOOKUP(Y47,初期設定!$D$1:$I$416,3,FALSE))","v":"群馬陸協"},null,null,{"$f":"IF(初期設定!A43=\"\",\"\",初期設定!A43)","v":"094"},{"$f":"IF(初期設定!B43=\"\",\"\",初期設定!B43)","v":"ﾊﾝﾏｰ4k女"}]
[42,null,null,null,null,null,"",null,null,null,null,null,null,"",null,null,null,"",null,null,null,"",null,null,100000,{"$f":"IF(Y48=\"\",\"\",VLOOKUP(Y48,初期設定!$D$1:$I$416,3,FALSE))","v":"群馬陸協"},null,null,{"$f":"IF(初期設定!A44=\"\",\"\",初期設定!A44)","v":"096"},{"$f":"IF(初期設定!B44=\"\",\"\",初期設定!B44)","v":"円1.5k(中男)"}]
[43,null,null,null,null,null,"",null,null,null,null,null,null,"",null,null,null,"",null,null,null,"",null,null,100000,{"$f":"IF(Y49=\"\",\"\",VLOOKUP(Y49,初期設定!$D$1:$I$416,3,FALSE))","v":"群馬陸協"},null,null,{"$f":"IF(初期設定!A45=\"\",\"\",初期設定!A45)","v":"099"},{"$f":"IF(初期設定!B45=\"\",\"\",初期設定!B45)","v":"ｼﾞｬﾍﾞﾘｯｸｽﾛｰ"}]
[44,null,null,null,null,null,"",null,null,null,null,null,null,"",null,null,null,"",null,null,null,"",null,null,100000,{"$f":"IF(Y50=\"\",\"\",VLOOKUP(Y50,初期設定!$D$1:$I$416,3,FALSE))","v":"群馬陸協"},null,null,{"$f":"IF(初期設定!A46=\"\",\"\",初期設定!A46)","v":"201"},{"$f":"IF(初期設定!B46=\"\",\"\",初期設定!B46)","v":"混成10種"}]
[45,null,null,null,null,null,"",null,null,null,null,null,null,"",null,null,null,"",null,null,null,"",null,null,100000,{"$f":"IF(Y51=\"\",\"\",VLOOKUP(Y51,初期設定!$D$1:$I$416,3,FALSE))","v":"群馬陸協"},null,null,{"$f":"IF(初期設定!A47=\"\",\"\",初期設定!A47)","v":"202"},{"$f":"IF(初期設定!B47=\"\",\"\",初期設定!B47)","v":"混成７種"}]
[46,null,null,null,null,null,"",null,null,null,null,null,null,"",null,null,null,"",null,null,null,"",null,null,100000,{"$f":"IF(Y52=\"\",\"\",VLOOKUP(Y52,初期設定!$D$1:$I$416,3,FALSE))","v":"群馬陸協"},null,null,{"$f":"IF(初期設定!A48=\"\",\"\",初期設定!A48)","v":"210"},{"$f":"IF(初期設定!B48=\"\",\"\",初期設定!B48)","v":"混成８種"}]
[47,null,null,null,null,null,"",null,null,null,null,null,null,"",null,null,null,"",null,null,null,"",null,null,100000,{"$f":"IF(Y53=\"\",\"\",VLOOKUP(Y53,初期設定!$D$1:$I$416,3,FALSE))","v":"群馬陸協"},null,null,{"$f":"IF(初期設定!A49=\"\",\"\",初期設定!A49)","v":"213"},{"$f":"IF(初期設定!B49=\"\",\"\",初期設定!B49)","v":"混成４種(中男)"}]
[48,null,null,null,null,null,"",null,null,null,null,null,null,"",null,null,null,"",null,null,null,"",null,null,100000,{"$f":"IF(Y54=\"\",\"\",VLOOKUP(Y54,初期設定!$D$1:$I$416,3,FALSE))","v":"群馬陸協"},null,null,{"$f":"IF(初期設定!A50=\"\",\"\",初期設定!A50)","v":"214"},{"$f":"IF(初期設定!B50=\"\",\"\",初期設定!B50)","v":"混成４種(中女)"}]
[49,null,null,null,null,null,"",null,null,null,null,null,null,"",null,null,null,"",null,null,null,"",null,null,100000,{"$f":"IF(Y55=\"\",\"\",VLOOKUP(Y55,初期設定!$D$1:$I$416,3,FALSE))","v":"群馬陸協"},null,null,{"$f":"IF(初期設定!A51=\"\",\"\",初期設定!A51)","v":"216"},{"$f":"IF(初期設定!B51=\"\",\"\",初期設定!B51)","v":"男子スプリント"}]
[50,null,null,null,null,null,"",null,null,null,null,null,null,"",null,null,null,"",null,null,null,"",null,null,100000,{"$f":"IF(Y56=\"\",\"\",VLOOKUP(Y56,初期設定!$D$1:$I$416,3,FALSE))","v":"群馬陸協"},null,null,{"$f":"IF(初期設定!A52=\"\",\"\",初期設定!A52)","v":"217"},{"$f":"IF(初期設定!B52=\"\",\"\",初期設定!B52)","v":"女子スプリント"}]
[51,null,null,null,null,null,"",null,null,null,null,null,null,"",null,null,null,"",null,null,null,"",null,null,100000,{"$f":"IF(Y57=\"\",\"\",VLOOKUP(Y57,初期設定!$D$1:$I$416,3,FALSE))","v":"群馬陸協"},null,null,{"$f":"IF(初期設定!A53=\"\",\"\",初期設定!A53)","v":"422"},{"$f":"IF(初期設定!B53=\"\",\"\",初期設定!B53)","v":"150m"}]
[52,null,null,null,null,null,"",null,null,null,null,null,null,"",null,null,null,"",null,null,null,"",null,null,100000,{"$f":"IF(Y58=\"\",\"\",VLOOKUP(Y58,初期設定!$D$1:$I$416,3,FALSE))","v":"群馬陸協"},null,null,{"$f":"IF(初期設定!A54=\"\",\"\",初期設定!A54)","v":"999"},{"$f":"IF(初期設定!B54=\"\",\"\",初期設定!B54)","v":"ｴﾗｰ"}]
[53,null,null,null,null,null,"",null,null,null,null,null,null,"",null,null,null,"",null,null,null,"",null,null,100000,{"$f":"IF(Y59=\"\",\"\",VLOOKUP(Y59,初期設定!$D$1:$I$416,3,FALSE))","v":"群馬陸協"},null,null,{"$f":"IF(初期設定!A55=\"\",\"\",初期設定!A55)","v":""},{"$f":"IF(初期設定!B55=\"\",\"\",初期設定!B55)","v":""}]
[54,null,null,null,null,null,"",null,null,null,null,null,null,"",null,null,null,"",null,null,null,"",null,null,100000,{"$f":"IF(Y60=\"\",\"\",VLOOKUP(Y60,初期設定!$D$1:$I$416,3,FALSE))","v":"群馬陸協"},null,null,{"$f":"IF(初期設定!A56=\"\",\"\",初期設定!A56)","v":""},{"$f":"IF(初期設定!B56=\"\",\"\",初期設定!B56)","v":""}]
[55,null,null,null,null,null,"",null,null,null,null,null,null,"",null,null,null,"",null,null,null,"",null,null,100000,{"$f":"IF(Y61=\"\",\"\",VLOOKUP(Y61,初期設定!$D$1:$I$416,3,FALSE))","v":"群馬陸協"},null,null,{"$f":"IF(初期設定!A57=\"\",\"\",初期設定!A57)","v":""},{"$f":"IF(初期設定!B57=\"\",\"\",初期設定!B57)","v":""}]
[56,null,null,null,null,null,"",null,null,null,null,null,null,"",null,null,null,"",null,null,null,"",null,null,100000,{"$f":"IF(Y62=\"\",\"\",VLOOKUP(Y62,初期設定!$D$1:$I$416,3,FALSE))","v":"群馬陸協"},null,null,{"$f":"IF(初期設定!A58=\"\",\"\",初期設定!A58)","v":""},{"$f":"IF(初期設定!B58=\"\",\"\",初期設定!B58)","v":""}]
[57,null,null,null,null,null,"",null,null,null,null,null,null,"",null,null,null,"",null,null,null,"",null,null,100000,{"$f":"IF(Y63=\"\",\"\",VLOOKUP(Y63,初期設定!$D$1:$I$416,3,FALSE))","v":"群馬陸協"},null,null,{"$f":"IF(初期設定!A59=\"\",\"\",初期設定!A59)","v":""},{"$f":"IF(初期設定!B59=\"\",\"\",初期設定!B59)","v":""}]
[58,null,null,null,null,null,"",null,null,null,null,null,null,"",null,null,null,"",null,null,null,"",null,null,100000,{"$f":"IF(Y64=\"\",\"\",VLOOKUP(Y64,初期設定!$D$1:$I$416,3,FALSE))","v":"群馬陸協"},null,null,{"$f":"IF(初期設定!A60=\"\",\"\",初期設定!A60)","v":""},{"$f":"IF(初期設定!B60=\"\",\"\",初期設定!B60)","v":""}]
[59,null,null,null,null,null,"",null,null,null,null,null,null,"",null,null,null,"",null,null,null,"",null,null,100000,{"$f":"IF(Y65=\"\",\"\",VLOOKUP(Y65,初期設定!$D$1:$I$416,3,FALSE))","v":"群馬陸協"},null,null,{"$f":"IF(初期設定!A61=\"\",\"\",初期設定!A61)","v":""},{"$f":"IF(初期設定!B61=\"\",\"\",初期設定!B61)","v":""}]
[60,null,null,null,null,null,"",null,null,null,null,null,null,"",null,null,null,"",null,null,null,"",null,null,100000,{"$f":"IF(Y66=\"\",\"\",VLOOKUP(Y66,初期設定!$D$1:$I$416,3,FALSE))","v":"群馬陸協"},null,null,{"$f":"IF(初期設定!A62=\"\",\"\",初期設定!A62)","v":""},{"$f":"IF(初期設定!B62=\"\",\"\",初期設定!B62)","v":""}]
[61,null,null,null,null,null,"",null,null,null,null,null,null,"",null,null,null,"",null,null,null,"",null,null,100000,{"$f":"IF(Y67=\"\",\"\",VLOOKUP(Y67,初期設定!$D$1:$I$416,3,FALSE))","v":"群馬陸協"},null,null,{"$f":"IF(初期設定!A63=\"\",\"\",初期設定!A63)","v":""},{"$f":"IF(初期設定!B63=\"\",\"\",初期設定!B63)","v":""}]
[62,null,null,null,null,null,"",null,null,null,null,null,null,"",null,null,null,"",null,null,null,"",null,null,100000,{"$f":"IF(Y68=\"\",\"\",VLOOKUP(Y68,初期設定!$D$1:$I$416,3,FALSE))","v":"群馬陸協"},null,null,{"$f":"IF(初期設定!A64=\"\",\"\",初期設定!A64)","v":""},{"$f":"IF(初期設定!B64=\"\",\"\",初期設定!B64)","v":""}]
[63,null,null,null,null,null,"",null,null,null,null,null,null,"",null,null,null,"",null,null,null,"",null,null,100000,{"$f":"IF(Y69=\"\",\"\",VLOOKUP(Y69,初期設定!$D$1:$I$416,3,FALSE))","v":"群馬陸協"},null,null,{"$f":"IF(初期設定!A65=\"\",\"\",初期設定!A65)","v":""},{"$f":"IF(初期設定!B65=\"\",\"\",初期設定!B65)","v":""}]
[64,null,null,null,null,null,"",null,null,null,null,null,null,"",null,null,null,"",null,null,null,"",null,null,100000,{"$f":"IF(Y70=\"\",\"\",VLOOKUP(Y70,初期設定!$D$1:$I$416,3,FALSE))","v":"群馬陸協"},null,null,{"$f":"IF(初期設定!A66=\"\",\"\",初期設定!A66)","v":""},{"$f":"IF(初期設定!B66=\"\",\"\",初期設定!B66)","v":""}]
[65,null,null,null,null,null,"",null,null,null,null,null,null,"",null,null,null,"",null,null,null,"",null,null,100000,{"$f":"IF(Y71=\"\",\"\",VLOOKUP(Y71,初期設定!$D$1:$I$416,3,FALSE))","v":"群馬陸協"},null,null,{"$f":"IF(初期設定!A67=\"\",\"\",初期設定!A67)","v":""},{"$f":"IF(初期設定!B67=\"\",\"\",初期設定!B67)","v":""}]
[66,null,null,null,null,null,{"$f":"IF(B72=\"\",\"\",\"JPN\")","v":""},null,null,null,null,null,null,{"$f":"IF(M72=\"\",\"\",VLOOKUP(LEFT(M72,3),kyougi,2,1))","v":""},null,null,null,{"$f":"IF(Q72=\"\",\"\",VLOOKUP(LEFT(Q72,3),kyougi,2,1))","v":""},null,null,null,{"$f":"IF(U72=\"\",\"\",VLOOKUP(LEFT(U72,3),kyougi,2,1))","v":""},null,null,{"$f":"IF($B$2=\"\",\"\",$B$2)","v":100000},{"$f":"IF(Y72=\"\",\"\",VLOOKUP(Y72,初期設定!$D$1:$I$416,3,FALSE))","v":"群馬陸協"},null,null,{"$f":"IF(初期設定!A68=\"\",\"\",初期設定!A68)","v":""},{"$f":"IF(初期設定!B68=\"\",\"\",初期設定!B68)","v":""}]
[67,null,null,null,null,null,"",null,null,null,null,null,null,"",null,null,null,"",null,null,null,"",null,null,100000,{"$f":"IF(Y73=\"\",\"\",VLOOKUP(Y73,初期設定!$D$1:$I$416,3,FALSE))","v":"群馬陸協"},null,null,{"$f":"IF(初期設定!A69=\"\",\"\",初期設定!A69)","v":""},{"$f":"IF(初期設定!B69=\"\",\"\",初期設定!B69)","v":""}]
[68,null,null,null,null,null,"",null,null,null,null,null,null,"",null,null,null,"",null,null,null,"",null,null,100000,{"$f":"IF(Y74=\"\",\"\",VLOOKUP(Y74,初期設定!$D$1:$I$416,3,FALSE))","v":"群馬陸協"},null,null,{"$f":"IF(初期設定!A70=\"\",\"\",初期設定!A70)","v":""},{"$f":"IF(初期設定!B70=\"\",\"\",初期設定!B70)","v":""}]
[69,null,null,null,null,null,"",null,null,null,null,null,null,"",null,null,null,"",null,null,null,"",null,null,100000,{"$f":"IF(Y75=\"\",\"\",VLOOKUP(Y75,初期設定!$D$1:$I$416,3,FALSE))","v":"群馬陸協"},null,null,{"$f":"IF(初期設定!A78=\"\",\"\",初期設定!A78)","v":""},{"$f":"IF(初期設定!B78=\"\",\"\",初期設定!B78)","v":""}]
[70,null,null,null,null,null,"",null,null,null,null,null,null,"",null,null,null,"",null,null,null,"",null,null,100000,{"$f":"IF(Y76=\"\",\"\",VLOOKUP(Y76,初期設定!$D$1:$I$416,3,FALSE))","v":"群馬陸協"},null,null,{"$f":"IF(初期設定!A79=\"\",\"\",初期設定!A79)","v":""},{"$f":"IF(初期設定!B79=\"\",\"\",初期設定!B79)","v":""}]
[71,null,null,null,null,null,"",null,null,null,null,null,null,"",null,null,null,"",null,null,null,"",null,null,100000,{"$f":"IF(Y77=\"\",\"\",VLOOKUP(Y77,初期設定!$D$1:$I$416,3,FALSE))","v":"群馬陸協"},null,null,{"$f":"IF(初期設定!A80=\"\",\"\",初期設定!A80)","v":""},{"$f":"IF(初期設定!B80=\"\",\"\",初期設定!B80)","v":""}]
[72,null,null,null,null,null,"",null,null,null,null,null,null,"",null,null,null,"",null,null,null,"",null,null,100000,{"$f":"IF(Y78=\"\",\"\",VLOOKUP(Y78,初期設定!$D$1:$I$416,3,FALSE))","v":"群馬陸協"},null,null,{"$f":"IF(初期設定!A81=\"\",\"\",初期設定!A81)","v":""},{"$f":"IF(初期設定!B81=\"\",\"\",初期設定!B81)","v":""}]
[73,null,null,null,null,null,"",null,null,null,null,null,null,"",null,null,null,"",null,null,null,"",null,null,100000,{"$f":"IF(Y79=\"\",\"\",VLOOKUP(Y79,初期設定!$D$1:$I$416,3,FALSE))","v":"群馬陸協"},null,null,{"$f":"IF(初期設定!A82=\"\",\"\",初期設定!A82)","v":""},{"$f":"IF(初期設定!B82=\"\",\"\",初期設定!B82)","v":""}]
[74,null,null,null,null,null,"",null,null,null,null,null,null,"",null,null,null,"",null,null,null,"",null,null,100000,{"$f":"IF(Y80=\"\",\"\",VLOOKUP(Y80,初期設定!$D$1:$I$416,3,FALSE))","v":"群馬陸協"}]
[75,null,null,null,null,null,"",null,null,null,null,null,null,"",null,null,null,"",null,null,null,"",null,null,100000,{"$f":"IF(Y81=\"\",\"\",VLOOKUP(Y81,初期設定!$D$1:$I$416,3,FALSE))","v":"群馬陸協"}]
[76,null,null,null,null,null,"",null,null,null,null,null,null,"",null,null,null,"",null,null,null,"",null,null,100000,{"$f":"IF(Y82=\"\",\"\",VLOOKUP(Y82,初期設定!$D$1:$I$416,3,FALSE))","v":"群馬陸協"}]
[77,null,null,null,null,null,"",null,null,null,null,null,null,"",null,null,null,"",null,null,null,"",null,null,100000,{"$f":"IF(Y83=\"\",\"\",VLOOKUP(Y83,初期設定!$D$1:$I$416,3,FALSE))","v":"群馬陸協"}]
[78,null,null,null,null,null,"",null,null,null,null,null,null,"",null,null,null,"",null,null,null,"",null,null,100000,{"$f":"IF(Y84=\"\",\"\",VLOOKUP(Y84,初期設定!$D$1:$I$416,3,FALSE))","v":"群馬陸協"}]
[79,null,null,null,null,null,"",null,null,null,null,null,null,"",null,null,null,"",null,null,null,"",null,null,100000,{"$f":"IF(Y85=\"\",\"\",VLOOKUP(Y85,初期設定!$D$1:$I$416,3,FALSE))","v":"群馬陸協"}]
[80,null,null,null,null,null,"",null,null,null,null,null,null,"",null,null,null,"",null,null,null,"",null,null,100000,{"$f":"IF(Y86=\"\",\"\",VLOOKUP(Y86,初期設定!$D$1:$I$416,3,FALSE))","v":"群馬陸協"}]
[81,null,null,null,null,null,"",null,null,null,null,null,null,"",null,null,null,"",null,null,null,"",null,null,100000,{"$f":"IF(Y87=\"\",\"\",VLOOKUP(Y87,初期設定!$D$1:$I$416,3,FALSE))","v":"群馬陸協"}]
[82,null,null,null,null,null,"",null,null,null,null,null,null,"",null,null,null,"",null,null,null,"",null,null,100000,{"$f":"IF(Y88=\"\",\"\",VLOOKUP(Y88,初期設定!$D$1:$I$416,3,FALSE))","v":"群馬陸協"}]
[83,null,null,null,null,null,"",null,null,null,null,null,null,"",null,null,null,"",null,null,null,"",null,null,100000,{"$f":"IF(Y89=\"\",\"\",VLOOKUP(Y89,初期設定!$D$1:$I$416,3,FALSE))","v":"群馬陸協"}]
[84,null,null,null,null,null,"",null,null,null,null,null,null,"",null,null,null,"",null,null,null,"",null,null,100000,{"$f":"IF(Y90=\"\",\"\",VLOOKUP(Y90,初期設定!$D$1:$I$416,3,FALSE))","v":"群馬陸協"}]
[85,null,null,null,null,null,"",null,null,null,null,null,null,"",null,null,null,"",null,null,null,"",null,null,100000,{"$f":"IF(Y91=\"\",\"\",VLOOKUP(Y91,初期設定!$D$1:$I$416,3,FALSE))","v":"群馬陸協"}]
[86,null,null,null,null,null,"",null,null,null,null,null,null,"",null,null,null,"",null,null,null,"",null,null,100000,{"$f":"IF(Y92=\"\",\"\",VLOOKUP(Y92,初期設定!$D$1:$I$416,3,FALSE))","v":"群馬陸協"}]
[87,null,null,null,null,null,"",null,null,null,null,null,null,"",null,null,null,"",null,null,null,"",null,null,100000,{"$f":"IF(Y93=\"\",\"\",VLOOKUP(Y93,初期設定!$D$1:$I$416,3,FALSE))","v":"群馬陸協"}]
[88,null,null,null,null,null,"",null,null,null,null,null,null,"",null,null,null,"",null,null,null,"",null,null,100000,{"$f":"IF(Y94=\"\",\"\",VLOOKUP(Y94,初期設定!$D$1:$I$416,3,FALSE))","v":"群馬陸協"}]
[89,null,null,null,null,null,"",null,null,null,null,null,null,"",null,null,null,"",null,null,null,"",null,null,100000,{"$f":"IF(Y95=\"\",\"\",VLOOKUP(Y95,初期設定!$D$1:$I$416,3,FALSE))","v":"群馬陸協"}]
[90,null,null,null,null,null,"",null,null,null,null,null,null,"",null,null,null,"",null,null,null,"",null,null,100000,{"$f":"IF(Y96=\"\",\"\",VLOOKUP(Y96,初期設定!$D$1:$I$416,3,FALSE))","v":"群馬陸協"}]
[null,null,null,null,null,null,null,null,null,{"$f":"IF(COUNTA(J7:J96)=0,0,IF(COUNTA(J7:J96)<=6,1,IF(COUNTA(J7:J96)>=13,3,2)))","v":0},{"$f":"IF(COUNTA(K7:K96)=0,0,IF(COUNTA(K7:K96)<=6,1,IF(COUNTA(K7:K96)>=13,3,2)))","v":0},{"$f":"IF(COUNTA(L7:L96)=0,0,IF(COUNTA(L7:L96)<=6,1,IF(COUNTA(L7:L96)>=13,3,2)))","v":0}]

{"sheet":"印刷","index":1,"n_rows":39,"n_cols":24,"rows_kept":39,"cut":false,"hidden":false,"merged":[[0,7,0,16],[1,3,1,7],[1,20,1,22],[2,3,2,9],[2,11,2,13],[2,15,2,17],[2,20,2,22],[3,12,3,15],[3,16,3,19],[3,20,3,23]]}
[null,"所属ｺｰﾄﾞ",null,{"$f":"IF(申込一覧表A!B2=\"\",\"\",申込一覧表A!B2)","v":100000},null,null,"大会名",{"$f":"IF(申込一覧表A!S2=\"\",\"\",申込一覧表A!S2)","v":""},null,null,null,null,null,null,null,null,null,null,"大会申込一覧表（Ａ）",null,null,null,null,"NO.1"]
[null,"所属名",null,{"$f":"IF(申込一覧表A!D2=\"\",\"\",申込一覧表A!D2)","v":"群馬陸協"},null,null,null,null,null,null,null,null,null,null,null,null,null,null,"代表者名",null,{"$f":"IF(申込一覧表A!O2=\"\",\"\",申込一覧表A!O2)","v":""}]
[null,"所在地",null,{"$f":"IF(申込一覧表A!H2=\"\",\"\",申込一覧表A!H2)","v":""},null,null,null,null,null,null,"電話",{"$f":"IF(申込一覧表A!K2=\"\",\"\",申込一覧表A!K2)","v":""},null,null,"携帯電話",{"$f":"IF(申込一覧表A!M2=\"\",\"\",申込一覧表A!M2)","v":""},null,null,"申込責任者",null,{"$f":"IF(申込一覧表A!Q2=\"\",\"\",申込一覧表A!Q2)","v":""}]
[null,null,null,null,null,null,null,null,null,"４R","16R","32R","１種目",null,null,null,"２種目",null,null,null,"３種目"]
[null,"氏　　名","学","ﾌﾘｶﾞﾅ","ローマ字","性","国籍","生年月日","Zken","記録","記録","記録","ｺｰﾄﾞ","種目1","記録","大会","ｺｰﾄﾞ","種目2","記録","大会","ｺｰﾄﾞ","種目3","記録","大会"]
[61,null,null,null,null,null,"",null,null,null,null,null,null,"",null,null,null,"",null,null,null,""]
[62,null,null,null,null,null,"",null,null,null,null,null,null,"",null,null,null,"",null,null,null,""]
[63,null,null,null,null,null,"",null,null,null,null,null,null,"",null,null,null,"",null,null,null,""]
[64,null,null,null,null,null,"",null,null,null,null,null,null,"",null,null,null,"",null,null,null,""]
[65,null,null,null,null,null,"",null,null,null,null,null,null,"",null,null,null,"",null,null,null,""]
[66,null,null,null,null,null,"",null,null,null,null,null,null,"",null,null,null,"",null,null,null,""]
[67,null,null,null,null,null,"",null,null,null,null,null,null,"",null,null,null,"",null,null,null,""]
[68,null,null,null,null,null,"",null,null,null,null,null,null,"",null,null,null,"",null,null,null,""]
[69,null,null,null,null,null,"",null,null,null,null,null,null,"",null,null,null,"",null,null,null,""]
[70,null,null,null,null,null,"",null,null,null,null,null,null,"",null,null,null,"",null,null,null,""]
[71,null,null,null,null,null,"",null,null,null,null,null,null,"",null,null,null,"",null,null,null,""]
[72,null,null,null,null,null,"",null,null,null,null,null,null,"",null,null,null,"",null,null,null,""]
[73,null,null,null,null,null,"",null,null,null,null,null,null,"",null,null,null,"",null,null,null,""]
[74,null,null,null,null,null,"",null,null,null,null,null,null,"",null,null,null,"",null,null,null,""]
[75,null,null,null,null,null,"",null,null,null,null,null,null,"",null,null,null,"",null,null,null,""]
[76,null,null,null,null,null,"",null,null,null,null,null,null,"",null,null,null,"",null,null,null,""]
[77,null,null,null,null,null,"",null,null,null,null,null,null,"",null,null,null,"",null,null,null,""]
[78,null,null,null,null,null,"",null,null,null,null,null,null,"",null,null,null,"",null,null,null,""]
[79,null,null,null,null,null,"",null,null,null,null,null,null,"",null,null,null,"",null,null,null,""]
[80,null,null,null,null,null,"",null,null,null,null,null,null,"",null,null,null,"",null,null,null,""]
[81,null,null,null,null,null,"",null,null,null,null,null,null,"",null,null,null,"",null,null,null,""]
[82,null,null,null,null,null,"",null,null,null,null,null,null,"",null,null,null,"",null,null,null,""]
[83,null,null,null,null,null,"",null,null,null,null,null,null,"",null,null,null,"",null,null,null,""]
[84,null,null,null,null,null,"",null,null,null,null,null,null,"",null,null,null,"",null,null,null,""]
[85,null,null,null,null,null,"",null,null,null,null,null,null,"",null,null,null,"",null,null,null,""]
[86,null,null,null,null,null,"",null,null,null,null,null,null,"",null,null,null,"",null,null,null,""]
[87,null,null,null,null,null,"",null,null,null,null,null,null,"",null,null,null,"",null,null,null,""]
[88,null,null,null,null,null,"",null,null,null,null,null,null,"",null,null,null,"",null,null,null,""]
[89,null,null,null,null,null,"",null,null,null,null,null,null,"",null,null,null,"",null,null,null,""]
[90,null,null,null,null,null,"",null,null,null,null,null,null,"",null,null,null,"",null,null,null,""]
[null,null,null,null,null,null,null,null,null,null,null,null,"個人申込種目数",null,null,null,{"$f":"COUNTA(申込一覧表A!M7:M96)+COUNTA(申込一覧表A!Q7:Q96)+COUNTA(申込一覧表A!U7:U96)","v":0},"種目"]
["　　申込人員",null,null,{"$f":"COUNTA(申込一覧表A!B7:B96)","v":0},"人",null,null,null,null,null,null,null,"リレー申込数",null,null,null,{"$f":"SUM(申込一覧表A!J97:L97)","v":0},"種目","　　申込料金",null,null,null,{"$f":"Q36*1000+Q37*1000","v":0},"円"]
[]
[null,null,null,null,null,null,null,null,null,null,null,null,null,null,null,null,null,null,null,null,null,"群馬陸上競技協会"]

{"sheet":"種目人数表B","index":2,"n_rows":55,"n_cols":6,"rows_kept":55,"cut":false,"hidden":false,"merged":[[1,2,1,5],[2,2,2,5]]}
[null,"申込一覧表Ｂ表"]
[null,"大会名",{"$f":"IF(申込一覧表A!S2=\"\",\"\",申込一覧表A!S2)","v":""}]
[null,"学校名",{"$f":"IF(申込一覧表A!D2=\"\",\"\",申込一覧表A!D2)","v":"群馬陸協"}]
[]
["code","男子","種目人数","code","女子","種目人数"]
["002",{"$f":"IF(A6=\"\",\"\",VLOOKUP(A6,kyougi,2,FALSE))","v":"100m"},{"$f":"SUMPRODUCT((申込一覧表A!$F$2:$F$91=1)*(LEFT(申込一覧表A!$M$2:$M$91,3)=A6))+SUMPRODUCT((申込一覧表A!$F$2:$F$91=1)*(LEFT(申込一覧表A!$Q$2:$Q$91,3)=A6))+SUMPRODUCT((申込一覧表A!$F$2:$F$91=1)*(LEFT(申込一覧表A!$U$2:$U$91,3)=A6))","v":0},"002",{"$f":"IF(D6=\"\",\"\",VLOOKUP(D6,kyougi,2,FALSE))","v":"100m"},{"$f":"IF(D6=\"\",\"\",SUMPRODUCT((申込一覧表A!$F$2:$F$91=2)*(LEFT(申込一覧表A!$M$2:$M$91,3)=D6))+SUMPRODUCT((申込一覧表A!$F$2:$F$91=2)*(LEFT(申込一覧表A!$Q$2:$Q$91,3)=D6))+SUMPRODUCT((申込一覧表A!$F$2:$F$91=2)*(LEFT(申込一覧表A!$U$2:$U$91,3)=D6)))","v":0}]
["003","200m",{"$f":"SUMPRODUCT((申込一覧表A!$F$2:$F$91=1)*(LEFT(申込一覧表A!$M$2:$M$91,3)=A7))+SUMPRODUCT((申込一覧表A!$F$2:$F$91=1)*(LEFT(申込一覧表A!$Q$2:$Q$91,3)=A7))+SUMPRODUCT((申込一覧表A!$F$2:$F$91=1)*(LEFT(申込一覧表A!$U$2:$U$91,3)=A7))","v":0},"003","200m",{"$f":"SUMPRODUCT((申込一覧表A!$F$2:$F$91=2)*(LEFT(申込一覧表A!$M$2:$M$91,3)=D7))+SUMPRODUCT((申込一覧表A!$F$2:$F$91=2)*(LEFT(申込一覧表A!$Q$2:$Q$91,3)=D7))+SUMPRODUCT((申込一覧表A!$F$2:$F$91=2)*(LEFT(申込一覧表A!$U$2:$U$91,3)=D7))","v":0}]
["004","300m",{"$f":"SUMPRODUCT((申込一覧表A!$F$2:$F$91=1)*(LEFT(申込一覧表A!$M$2:$M$91,3)=A8))+SUMPRODUCT((申込一覧表A!$F$2:$F$91=1)*(LEFT(申込一覧表A!$Q$2:$Q$91,3)=A8))+SUMPRODUCT((申込一覧表A!$F$2:$F$91=1)*(LEFT(申込一覧表A!$U$2:$U$91,3)=A8))","v":0},"004","300m",{"$f":"SUMPRODUCT((申込一覧表A!$F$2:$F$91=2)*(LEFT(申込一覧表A!$M$2:$M$91,3)=D8))+SUMPRODUCT((申込一覧表A!$F$2:$F$91=2)*(LEFT(申込一覧表A!$Q$2:$Q$91,3)=D8))+SUMPRODUCT((申込一覧表A!$F$2:$F$91=2)*(LEFT(申込一覧表A!$U$2:$U$91,3)=D8))","v":0}]
["005","400m",{"$f":"SUMPRODUCT((申込一覧表A!$F$2:$F$91=1)*(LEFT(申込一覧表A!$M$2:$M$91,3)=A9))+SUMPRODUCT((申込一覧表A!$F$2:$F$91=1)*(LEFT(申込一覧表A!$Q$2:$Q$91,3)=A9))+SUMPRODUCT((申込一覧表A!$F$2:$F$91=1)*(LEFT(申込一覧表A!$U$2:$U$91,3)=A9))","v":0},"005","400m",{"$f":"SUMPRODUCT((申込一覧表A!$F$2:$F$91=2)*(LEFT(申込一覧表A!$M$2:$M$91,3)=D9))+SUMPRODUCT((申込一覧表A!$F$2:$F$91=2)*(LEFT(申込一覧表A!$Q$2:$Q$91,3)=D9))+SUMPRODUCT((申込一覧表A!$F$2:$F$91=2)*(LEFT(申込一覧表A!$U$2:$U$91,3)=D9))","v":0}]
["006","800m",{"$f":"SUMPRODUCT((申込一覧表A!$F$2:$F$91=1)*(LEFT(申込一覧表A!$M$2:$M$91,3)=A10))+SUMPRODUCT((申込一覧表A!$F$2:$F$91=1)*(LEFT(申込一覧表A!$Q$2:$Q$91,3)=A10))+SUMPRODUCT((申込一覧表A!$F$2:$F$91=1)*(LEFT(申込一覧表A!$U$2:$U$91,3)=A10))","v":0},"006","800m",{"$f":"SUMPRODUCT((申込一覧表A!$F$2:$F$91=2)*(LEFT(申込一覧表A!$M$2:$M$91,3)=D10))+SUMPRODUCT((申込一覧表A!$F$2:$F$91=2)*(LEFT(申込一覧表A!$Q$2:$Q$91,3)=D10))+SUMPRODUCT((申込一覧表A!$F$2:$F$91=2)*(LEFT(申込一覧表A!$U$2:$U$91,3)=D10))","v":0}]
["008","1500m",{"$f":"SUMPRODUCT((申込一覧表A!$F$2:$F$91=1)*(LEFT(申込一覧表A!$M$2:$M$91,3)=A11))+SUMPRODUCT((申込一覧表A!$F$2:$F$91=1)*(LEFT(申込一覧表A!$Q$2:$Q$91,3)=A11))+SUMPRODUCT((申込一覧表A!$F$2:$F$91=1)*(LEFT(申込一覧表A!$U$2:$U$91,3)=A11))","v":0},"008","1500m",{"$f":"SUMPRODUCT((申込一覧表A!$F$2:$F$91=2)*(LEFT(申込一覧表A!$M$2:$M$91,3)=D11))+SUMPRODUCT((申込一覧表A!$F$2:$F$91=2)*(LEFT(申込一覧表A!$Q$2:$Q$91,3)=D11))+SUMPRODUCT((申込一覧表A!$F$2:$F$91=2)*(LEFT(申込一覧表A!$U$2:$U$91,3)=D11))","v":0}]
["010","3000m",{"$f":"SUMPRODUCT((申込一覧表A!$F$2:$F$91=1)*(LEFT(申込一覧表A!$M$2:$M$91,3)=A12))+SUMPRODUCT((申込一覧表A!$F$2:$F$91=1)*(LEFT(申込一覧表A!$Q$2:$Q$91,3)=A12))+SUMPRODUCT((申込一覧表A!$F$2:$F$91=1)*(LEFT(申込一覧表A!$U$2:$U$91,3)=A12))","v":0},"010","3000m",{"$f":"SUMPRODUCT((申込一覧表A!$F$2:$F$91=2)*(LEFT(申込一覧表A!$M$2:$M$91,3)=D12))+SUMPRODUCT((申込一覧表A!$F$2:$F$91=2)*(LEFT(申込一覧表A!$Q$2:$Q$91,3)=D12))+SUMPRODUCT((申込一覧表A!$F$2:$F$91=2)*(LEFT(申込一覧表A!$U$2:$U$91,3)=D12))","v":0}]
["011","5000m",{"$f":"SUMPRODUCT((申込一覧表A!$F$2:$F$91=1)*(LEFT(申込一覧表A!$M$2:$M$91,3)=A13))+SUMPRODUCT((申込一覧表A!$F$2:$F$91=1)*(LEFT(申込一覧表A!$Q$2:$Q$91,3)=A13))+SUMPRODUCT((申込一覧表A!$F$2:$F$91=1)*(LEFT(申込一覧表A!$U$2:$U$91,3)=A13))","v":0},"011","5000m",{"$f":"SUMPRODUCT((申込一覧表A!$F$2:$F$91=2)*(LEFT(申込一覧表A!$M$2:$M$91,3)=D13))+SUMPRODUCT((申込一覧表A!$F$2:$F$91=2)*(LEFT(申込一覧表A!$Q$2:$Q$91,3)=D13))+SUMPRODUCT((申込一覧表A!$F$2:$F$91=2)*(LEFT(申込一覧表A!$U$2:$U$91,3)=D13))","v":0}]
["012","10000m",{"$f":"SUMPRODUCT((申込一覧表A!$F$2:$F$91=1)*(LEFT(申込一覧表A!$M$2:$M$91,3)=A14))+SUMPRODUCT((申込一覧表A!$F$2:$F$91=1)*(LEFT(申込一覧表A!$Q$2:$Q$91,3)=A14))+SUMPRODUCT((申込一覧表A!$F$2:$F$91=1)*(LEFT(申込一覧表A!$U$2:$U$91,3)=A14))","v":0},"012","10000m",{"$f":"SUMPRODUCT((申込一覧表A!$F$2:$F$91=2)*(LEFT(申込一覧表A!$M$2:$M$91,3)=D14))+SUMPRODUCT((申込一覧表A!$F$2:$F$91=2)*(LEFT(申込一覧表A!$Q$2:$Q$91,3)=D14))+SUMPRODUCT((申込一覧表A!$F$2:$F$91=2)*(LEFT(申込一覧表A!$U$2:$U$91,3)=D14))","v":0}]
["032","110mH(中学男子)",{"$f":"SUMPRODUCT((申込一覧表A!$F$2:$F$91=1)*(LEFT(申込一覧表A!$M$2:$M$91,3)=A15))+SUMPRODUCT((申込一覧表A!$F$2:$F$91=1)*(LEFT(申込一覧表A!$Q$2:$Q$91,3)=A15))+SUMPRODUCT((申込一覧表A!$F$2:$F$91=1)*(LEFT(申込一覧表A!$U$2:$U$91,3)=A15))","v":0},"042","100mH(中学女子)",{"$f":"SUMPRODUCT((申込一覧表A!$F$2:$F$91=2)*(LEFT(申込一覧表A!$M$2:$M$91,3)=D15))+SUMPRODUCT((申込一覧表A!$F$2:$F$91=2)*(LEFT(申込一覧表A!$Q$2:$Q$91,3)=D15))+SUMPRODUCT((申込一覧表A!$F$2:$F$91=2)*(LEFT(申込一覧表A!$U$2:$U$91,3)=D15))","v":0}]
["033","110mJH(0.991m)",{"$f":"SUMPRODUCT((申込一覧表A!$F$2:$F$91=1)*(LEFT(申込一覧表A!$M$2:$M$91,3)=A16))+SUMPRODUCT((申込一覧表A!$F$2:$F$91=1)*(LEFT(申込一覧表A!$Q$2:$Q$91,3)=A16))+SUMPRODUCT((申込一覧表A!$F$2:$F$91=1)*(LEFT(申込一覧表A!$U$2:$U$91,3)=A16))","v":0},"043","100mYH(0.762m)",{"$f":"SUMPRODUCT((申込一覧表A!$F$2:$F$91=2)*(LEFT(申込一覧表A!$M$2:$M$91,3)=D16))+SUMPRODUCT((申込一覧表A!$F$2:$F$91=2)*(LEFT(申込一覧表A!$Q$2:$Q$91,3)=D16))+SUMPRODUCT((申込一覧表A!$F$2:$F$91=2)*(LEFT(申込一覧表A!$U$2:$U$91,3)=D16))","v":0}]
["034","110mH",{"$f":"SUMPRODUCT((申込一覧表A!$F$2:$F$91=1)*(LEFT(申込一覧表A!$M$2:$M$91,3)=A17))+SUMPRODUCT((申込一覧表A!$F$2:$F$91=1)*(LEFT(申込一覧表A!$Q$2:$Q$91,3)=A17))+SUMPRODUCT((申込一覧表A!$F$2:$F$91=1)*(LEFT(申込一覧表A!$U$2:$U$91,3)=A17))","v":0},"044","100mH(女)",{"$f":"SUMPRODUCT((申込一覧表A!$F$2:$F$91=2)*(LEFT(申込一覧表A!$M$2:$M$91,3)=D17))+SUMPRODUCT((申込一覧表A!$F$2:$F$91=2)*(LEFT(申込一覧表A!$Q$2:$Q$91,3)=D17))+SUMPRODUCT((申込一覧表A!$F$2:$F$91=2)*(LEFT(申込一覧表A!$U$2:$U$91,3)=D17))","v":0}]
["036","300mH(男）",{"$f":"SUMPRODUCT((申込一覧表A!$F$2:$F$91=1)*(LEFT(申込一覧表A!$M$2:$M$91,3)=A18))+SUMPRODUCT((申込一覧表A!$F$2:$F$91=1)*(LEFT(申込一覧表A!$Q$2:$Q$91,3)=A18))+SUMPRODUCT((申込一覧表A!$F$2:$F$91=1)*(LEFT(申込一覧表A!$U$2:$U$91,3)=A18))","v":0},"045","200mH",{"$f":"SUMPRODUCT((申込一覧表A!$F$2:$F$91=2)*(LEFT(申込一覧表A!$M$2:$M$91,3)=D18))+SUMPRODUCT((申込一覧表A!$F$2:$F$91=2)*(LEFT(申込一覧表A!$Q$2:$Q$91,3)=D18))+SUMPRODUCT((申込一覧表A!$F$2:$F$91=2)*(LEFT(申込一覧表A!$U$2:$U$91,3)=D18))","v":0}]
["037","400mH(男）",{"$f":"SUMPRODUCT((申込一覧表A!$F$2:$F$91=1)*(LEFT(申込一覧表A!$M$2:$M$91,3)=A19))+SUMPRODUCT((申込一覧表A!$F$2:$F$91=1)*(LEFT(申込一覧表A!$Q$2:$Q$91,3)=A19))+SUMPRODUCT((申込一覧表A!$F$2:$F$91=1)*(LEFT(申込一覧表A!$U$2:$U$91,3)=A19))","v":0},"046","400mH(女）",{"$f":"SUMPRODUCT((申込一覧表A!$F$2:$F$91=2)*(LEFT(申込一覧表A!$M$2:$M$91,3)=D19))+SUMPRODUCT((申込一覧表A!$F$2:$F$91=2)*(LEFT(申込一覧表A!$Q$2:$Q$91,3)=D19))+SUMPRODUCT((申込一覧表A!$F$2:$F$91=2)*(LEFT(申込一覧表A!$U$2:$U$91,3)=D19))","v":0}]
["053","3000mSC",{"$f":"SUMPRODUCT((申込一覧表A!$F$2:$F$91=1)*(LEFT(申込一覧表A!$M$2:$M$91,3)=A20))+SUMPRODUCT((申込一覧表A!$F$2:$F$91=1)*(LEFT(申込一覧表A!$Q$2:$Q$91,3)=A20))+SUMPRODUCT((申込一覧表A!$F$2:$F$91=1)*(LEFT(申込一覧表A!$U$2:$U$91,3)=A20))","v":0},"053","3000mSC",{"$f":"SUMPRODUCT((申込一覧表A!$F$2:$F$91=2)*(LEFT(申込一覧表A!$M$2:$M$91,3)=D20))+SUMPRODUCT((申込一覧表A!$F$2:$F$91=2)*(LEFT(申込一覧表A!$Q$2:$Q$91,3)=D20))+SUMPRODUCT((申込一覧表A!$F$2:$F$91=2)*(LEFT(申込一覧表A!$U$2:$U$91,3)=D20))","v":0}]
["060","3000競歩",{"$f":"SUMPRODUCT((申込一覧表A!$F$2:$F$91=1)*(LEFT(申込一覧表A!$M$2:$M$91,3)=A21))+SUMPRODUCT((申込一覧表A!$F$2:$F$91=1)*(LEFT(申込一覧表A!$Q$2:$Q$91,3)=A21))+SUMPRODUCT((申込一覧表A!$F$2:$F$91=1)*(LEFT(申込一覧表A!$U$2:$U$91,3)=A21))","v":0},"060","3000競歩",{"$f":"SUMPRODUCT((申込一覧表A!$F$2:$F$91=2)*(LEFT(申込一覧表A!$M$2:$M$91,3)=D21))+SUMPRODUCT((申込一覧表A!$F$2:$F$91=2)*(LEFT(申込一覧表A!$Q$2:$Q$91,3)=D21))+SUMPRODUCT((申込一覧表A!$F$2:$F$91=2)*(LEFT(申込一覧表A!$U$2:$U$91,3)=D21))","v":0}]
["061","5000競歩",{"$f":"SUMPRODUCT((申込一覧表A!$F$2:$F$91=1)*(LEFT(申込一覧表A!$M$2:$M$91,3)=A22))+SUMPRODUCT((申込一覧表A!$F$2:$F$91=1)*(LEFT(申込一覧表A!$Q$2:$Q$91,3)=A22))+SUMPRODUCT((申込一覧表A!$F$2:$F$91=1)*(LEFT(申込一覧表A!$U$2:$U$91,3)=A22))","v":0},"061","5000競歩",{"$f":"SUMPRODUCT((申込一覧表A!$F$2:$F$91=2)*(LEFT(申込一覧表A!$M$2:$M$91,3)=D22))+SUMPRODUCT((申込一覧表A!$F$2:$F$91=2)*(LEFT(申込一覧表A!$Q$2:$Q$91,3)=D22))+SUMPRODUCT((申込一覧表A!$F$2:$F$91=2)*(LEFT(申込一覧表A!$U$2:$U$91,3)=D22))","v":0}]
["062","10000競歩",{"$f":"SUMPRODUCT((申込一覧表A!$F$2:$F$91=1)*(LEFT(申込一覧表A!$M$2:$M$91,3)=A23))+SUMPRODUCT((申込一覧表A!$F$2:$F$91=1)*(LEFT(申込一覧表A!$Q$2:$Q$91,3)=A23))+SUMPRODUCT((申込一覧表A!$F$2:$F$91=1)*(LEFT(申込一覧表A!$U$2:$U$91,3)=A23))","v":0},"062","10000競歩",{"$f":"SUMPRODUCT((申込一覧表A!$F$2:$F$91=2)*(LEFT(申込一覧表A!$M$2:$M$91,3)=D23))+SUMPRODUCT((申込一覧表A!$F$2:$F$91=2)*(LEFT(申込一覧表A!$Q$2:$Q$91,3)=D23))+SUMPRODUCT((申込一覧表A!$F$2:$F$91=2)*(LEFT(申込一覧表A!$U$2:$U$91,3)=D23))","v":0}]
["071","走高跳",{"$f":"SUMPRODUCT((申込一覧表A!$F$2:$F$91=1)*(LEFT(申込一覧表A!$M$2:$M$91,3)=A24))+SUMPRODUCT((申込一覧表A!$F$2:$F$91=1)*(LEFT(申込一覧表A!$Q$2:$Q$91,3)=A24))+SUMPRODUCT((申込一覧表A!$F$2:$F$91=1)*(LEFT(申込一覧表A!$U$2:$U$91,3)=A24))","v":0},"071","走高跳",{"$f":"SUMPRODUCT((申込一覧表A!$F$2:$F$91=2)*(LEFT(申込一覧表A!$M$2:$M$91,3)=D24))+SUMPRODUCT((申込一覧表A!$F$2:$F$91=2)*(LEFT(申込一覧表A!$Q$2:$Q$91,3)=D24))+SUMPRODUCT((申込一覧表A!$F$2:$F$91=2)*(LEFT(申込一覧表A!$U$2:$U$91,3)=D24))","v":0}]
["072","棒高跳",{"$f":"SUMPRODUCT((申込一覧表A!$F$2:$F$91=1)*(LEFT(申込一覧表A!$M$2:$M$91,3)=A25))+SUMPRODUCT((申込一覧表A!$F$2:$F$91=1)*(LEFT(申込一覧表A!$Q$2:$Q$91,3)=A25))+SUMPRODUCT((申込一覧表A!$F$2:$F$91=1)*(LEFT(申込一覧表A!$U$2:$U$91,3)=A25))","v":0},"072","棒高跳",{"$f":"SUMPRODUCT((申込一覧表A!$F$2:$F$91=2)*(LEFT(申込一覧表A!$M$2:$M$91,3)=D25))+SUMPRODUCT((申込一覧表A!$F$2:$F$91=2)*(LEFT(申込一覧表A!$Q$2:$Q$91,3)=D25))+SUMPRODUCT((申込一覧表A!$F$2:$F$91=2)*(LEFT(申込一覧表A!$U$2:$U$91,3)=D25))","v":0}]
["073","走幅跳",{"$f":"SUMPRODUCT((申込一覧表A!$F$2:$F$91=1)*(LEFT(申込一覧表A!$M$2:$M$91,3)=A26))+SUMPRODUCT((申込一覧表A!$F$2:$F$91=1)*(LEFT(申込一覧表A!$Q$2:$Q$91,3)=A26))+SUMPRODUCT((申込一覧表A!$F$2:$F$91=1)*(LEFT(申込一覧表A!$U$2:$U$91,3)=A26))","v":0},"073","走幅跳",{"$f":"SUMPRODUCT((申込一覧表A!$F$2:$F$91=2)*(LEFT(申込一覧表A!$M$2:$M$91,3)=D26))+SUMPRODUCT((申込一覧表A!$F$2:$F$91=2)*(LEFT(申込一覧表A!$Q$2:$Q$91,3)=D26))+SUMPRODUCT((申込一覧表A!$F$2:$F$91=2)*(LEFT(申込一覧表A!$U$2:$U$91,3)=D26))","v":0}]
["074","三段跳",{"$f":"SUMPRODUCT((申込一覧表A!$F$2:$F$91=1)*(LEFT(申込一覧表A!$M$2:$M$91,3)=A27))+SUMPRODUCT((申込一覧表A!$F$2:$F$91=1)*(LEFT(申込一覧表A!$Q$2:$Q$91,3)=A27))+SUMPRODUCT((申込一覧表A!$F$2:$F$91=1)*(LEFT(申込一覧表A!$U$2:$U$91,3)=A27))","v":0},"074","三段跳",{"$f":"SUMPRODUCT((申込一覧表A!$F$2:$F$91=2)*(LEFT(申込一覧表A!$M$2:$M$91,3)=D27))+SUMPRODUCT((申込一覧表A!$F$2:$F$91=2)*(LEFT(申込一覧表A!$Q$2:$Q$91,3)=D27))+SUMPRODUCT((申込一覧表A!$F$2:$F$91=2)*(LEFT(申込一覧表A!$U$2:$U$91,3)=D27))","v":0}]
["081","砲7k(一般男)",{"$f":"SUMPRODUCT((申込一覧表A!$F$2:$F$91=1)*(LEFT(申込一覧表A!$M$2:$M$91,3)=A28))+SUMPRODUCT((申込一覧表A!$F$2:$F$91=1)*(LEFT(申込一覧表A!$Q$2:$Q$91,3)=A28))+SUMPRODUCT((申込一覧表A!$F$2:$F$91=1)*(LEFT(申込一覧表A!$U$2:$U$91,3)=A28))","v":0},"084","砲4k(女)",{"$f":"SUMPRODUCT((申込一覧表A!$F$2:$F$91=2)*(LEFT(申込一覧表A!$M$2:$M$91,3)=D28))+SUMPRODUCT((申込一覧表A!$F$2:$F$91=2)*(LEFT(申込一覧表A!$Q$2:$Q$91,3)=D28))+SUMPRODUCT((申込一覧表A!$F$2:$F$91=2)*(LEFT(申込一覧表A!$U$2:$U$91,3)=D28))","v":0}]
["082","砲6k(高校男)",{"$f":"SUMPRODUCT((申込一覧表A!$F$2:$F$91=1)*(LEFT(申込一覧表A!$M$2:$M$91,3)=A29))+SUMPRODUCT((申込一覧表A!$F$2:$F$91=1)*(LEFT(申込一覧表A!$Q$2:$Q$91,3)=A29))+SUMPRODUCT((申込一覧表A!$F$2:$F$91=1)*(LEFT(申込一覧表A!$U$2:$U$91,3)=A29))","v":0},"085","砲2k(中女)",{"$f":"SUMPRODUCT((申込一覧表A!$F$2:$F$91=2)*(LEFT(申込一覧表A!$M$2:$M$91,3)=D29))+SUMPRODUCT((申込一覧表A!$F$2:$F$91=2)*(LEFT(申込一覧表A!$Q$2:$Q$91,3)=D29))+SUMPRODUCT((申込一覧表A!$F$2:$F$91=2)*(LEFT(申込一覧表A!$U$2:$U$91,3)=D29))","v":0}]
["083","砲5k(中男)",{"$f":"SUMPRODUCT((申込一覧表A!$F$2:$F$91=1)*(LEFT(申込一覧表A!$M$2:$M$91,3)=A30))+SUMPRODUCT((申込一覧表A!$F$2:$F$91=1)*(LEFT(申込一覧表A!$Q$2:$Q$91,3)=A30))+SUMPRODUCT((申込一覧表A!$F$2:$F$91=1)*(LEFT(申込一覧表A!$U$2:$U$91,3)=A30))","v":0},"088","円1k女",{"$f":"SUMPRODUCT((申込一覧表A!$F$2:$F$91=2)*(LEFT(申込一覧表A!$M$2:$M$91,3)=D30))+SUMPRODUCT((申込一覧表A!$F$2:$F$91=2)*(LEFT(申込一覧表A!$Q$2:$Q$91,3)=D30))+SUMPRODUCT((申込一覧表A!$F$2:$F$91=2)*(LEFT(申込一覧表A!$U$2:$U$91,3)=D30))","v":0}]
["086","円盤2k",{"$f":"SUMPRODUCT((申込一覧表A!$F$2:$F$91=1)*(LEFT(申込一覧表A!$M$2:$M$91,3)=A31))+SUMPRODUCT((申込一覧表A!$F$2:$F$91=1)*(LEFT(申込一覧表A!$Q$2:$Q$91,3)=A31))+SUMPRODUCT((申込一覧表A!$F$2:$F$91=1)*(LEFT(申込一覧表A!$U$2:$U$91,3)=A31))","v":0},"093","やり女",{"$f":"SUMPRODUCT((申込一覧表A!$F$2:$F$91=2)*(LEFT(申込一覧表A!$M$2:$M$91,3)=D31))+SUMPRODUCT((申込一覧表A!$F$2:$F$91=2)*(LEFT(申込一覧表A!$Q$2:$Q$91,3)=D31))+SUMPRODUCT((申込一覧表A!$F$2:$F$91=2)*(LEFT(申込一覧表A!$U$2:$U$91,3)=D31))","v":0}]
["087","円1.75k(高男)",{"$f":"SUMPRODUCT((申込一覧表A!$F$2:$F$91=1)*(LEFT(申込一覧表A!$M$2:$M$91,3)=A32))+SUMPRODUCT((申込一覧表A!$F$2:$F$91=1)*(LEFT(申込一覧表A!$Q$2:$Q$91,3)=A32))+SUMPRODUCT((申込一覧表A!$F$2:$F$91=1)*(LEFT(申込一覧表A!$U$2:$U$91,3)=A32))","v":0},"099","ｼﾞｬﾍﾞﾘｯｸｽﾛｰ",{"$f":"SUMPRODUCT((申込一覧表A!$F$2:$F$91=2)*(LEFT(申込一覧表A!$M$2:$M$91,3)=D32))+SUMPRODUCT((申込一覧表A!$F$2:$F$91=2)*(LEFT(申込一覧表A!$Q$2:$Q$91,3)=D32))+SUMPRODUCT((申込一覧表A!$F$2:$F$91=2)*(LEFT(申込一覧表A!$U$2:$U$91,3)=D32))","v":0}]
["089","ﾊﾝﾏｰ7k",{"$f":"SUMPRODUCT((申込一覧表A!$F$2:$F$91=1)*(LEFT(申込一覧表A!$M$2:$M$91,3)=A33))+SUMPRODUCT((申込一覧表A!$F$2:$F$91=1)*(LEFT(申込一覧表A!$Q$2:$Q$91,3)=A33))+SUMPRODUCT((申込一覧表A!$F$2:$F$91=1)*(LEFT(申込一覧表A!$U$2:$U$91,3)=A33))","v":0},"094","ﾊﾝﾏｰ4k女",{"$f":"SUMPRODUCT((申込一覧表A!$F$2:$F$91=2)*(LEFT(申込一覧表A!$M$2:$M$91,3)=D33))+SUMPRODUCT((申込一覧表A!$F$2:$F$91=2)*(LEFT(申込一覧表A!$Q$2:$Q$91,3)=D33))+SUMPRODUCT((申込一覧表A!$F$2:$F$91=2)*(LEFT(申込一覧表A!$U$2:$U$91,3)=D33))","v":0}]
["090","ﾊﾝﾏｰ6k(高男)",{"$f":"SUMPRODUCT((申込一覧表A!$F$2:$F$91=1)*(LEFT(申込一覧表A!$M$2:$M$91,3)=A34))+SUMPRODUCT((申込一覧表A!$F$2:$F$91=1)*(LEFT(申込一覧表A!$Q$2:$Q$91,3)=A34))+SUMPRODUCT((申込一覧表A!$F$2:$F$91=1)*(LEFT(申込一覧表A!$U$2:$U$91,3)=A34))","v":0},"202","混成７種",{"$f":"SUMPRODUCT((申込一覧表A!$F$2:$F$91=2)*(LEFT(申込一覧表A!$M$2:$M$91,3)=D34))+SUMPRODUCT((申込一覧表A!$F$2:$F$91=2)*(LEFT(申込一覧表A!$Q$2:$Q$91,3)=D34))+SUMPRODUCT((申込一覧表A!$F$2:$F$91=2)*(LEFT(申込一覧表A!$U$2:$U$91,3)=D34))","v":0}]
["092","やり男",{"$f":"SUMPRODUCT((申込一覧表A!$F$2:$F$91=1)*(LEFT(申込一覧表A!$M$2:$M$91,3)=A35))+SUMPRODUCT((申込一覧表A!$F$2:$F$91=1)*(LEFT(申込一覧表A!$Q$2:$Q$91,3)=A35))+SUMPRODUCT((申込一覧表A!$F$2:$F$91=1)*(LEFT(申込一覧表A!$U$2:$U$91,3)=A35))","v":0},"214","混成４種(中女)",{"$f":"SUMPRODUCT((申込一覧表A!$F$2:$F$91=2)*(LEFT(申込一覧表A!$M$2:$M$91,3)=D35))+SUMPRODUCT((申込一覧表A!$F$2:$F$91=2)*(LEFT(申込一覧表A!$Q$2:$Q$91,3)=D35))+SUMPRODUCT((申込一覧表A!$F$2:$F$91=2)*(LEFT(申込一覧表A!$U$2:$U$91,3)=D35))","v":0}]
["096","円1.5k(中男)",{"$f":"SUMPRODUCT((申込一覧表A!$F$2:$F$91=1)*(LEFT(申込一覧表A!$M$2:$M$91,3)=A36))+SUMPRODUCT((申込一覧表A!$F$2:$F$91=1)*(LEFT(申込一覧表A!$Q$2:$Q$91,3)=A36))+SUMPRODUCT((申込一覧表A!$F$2:$F$91=1)*(LEFT(申込一覧表A!$U$2:$U$91,3)=A36))","v":0},"217","女子スプリント",{"$f":"SUMPRODUCT((申込一覧表A!$F$2:$F$91=2)*(LEFT(申込一覧表A!$M$2:$M$91,3)=D36))+SUMPRODUCT((申込一覧表A!$F$2:$F$91=2)*(LEFT(申込一覧表A!$Q$2:$Q$91,3)=D36))+SUMPRODUCT((申込一覧表A!$F$2:$F$91=2)*(LEFT(申込一覧表A!$U$2:$U$91,3)=D36))","v":0}]
["099","ｼﾞｬﾍﾞﾘｯｸｽﾛｰ",{"$f":"SUMPRODUCT((申込一覧表A!$F$2:$F$91=1)*(LEFT(申込一覧表A!$M$2:$M$91,3)=A37))+SUMPRODUCT((申込一覧表A!$F$2:$F$91=1)*(LEFT(申込一覧表A!$Q$2:$Q$91,3)=A37))+SUMPRODUCT((申込一覧表A!$F$2:$F$91=1)*(LEFT(申込一覧表A!$U$2:$U$91,3)=A37))","v":0},"422","150m",{"$f":"SUMPRODUCT((申込一覧表A!$F$2:$F$91=2)*(LEFT(申込一覧表A!$M$2:$M$91,3)=D37))+SUMPRODUCT((申込一覧表A!$F$2:$F$91=2)*(LEFT(申込一覧表A!$Q$2:$Q$91,3)=D37))+SUMPRODUCT((申込一覧表A!$F$2:$F$91=2)*(LEFT(申込一覧表A!$U$2:$U$91,3)=D37))","v":0}]
["201","混成10種",{"$f":"SUMPRODUCT((申込一覧表A!$F$2:$F$91=1)*(LEFT(申込一覧表A!$M$2:$M$91,3)=A38))+SUMPRODUCT((申込一覧表A!$F$2:$F$91=1)*(LEFT(申込一覧表A!$Q$2:$Q$91,3)=A38))+SUMPRODUCT((申込一覧表A!$F$2:$F$91=1)*(LEFT(申込一覧表A!$U$2:$U$91,3)=A38))","v":0},null,""]
["210","混成８種",{"$f":"SUMPRODUCT((申込一覧表A!$F$2:$F$91=1)*(LEFT(申込一覧表A!$M$2:$M$91,3)=A39))+SUMPRODUCT((申込一覧表A!$F$2:$F$91=1)*(LEFT(申込一覧表A!$Q$2:$Q$91,3)=A39))+SUMPRODUCT((申込一覧表A!$F$2:$F$91=1)*(LEFT(申込一覧表A!$U$2:$U$91,3)=A39))","v":0},null,""]
["213","混成４種(中男)",{"$f":"SUMPRODUCT((申込一覧表A!$F$2:$F$91=1)*(LEFT(申込一覧表A!$M$2:$M$91,3)=A40))+SUMPRODUCT((申込一覧表A!$F$2:$F$91=1)*(LEFT(申込一覧表A!$Q$2:$Q$91,3)=A40))+SUMPRODUCT((申込一覧表A!$F$2:$F$91=1)*(LEFT(申込一覧表A!$U$2:$U$91,3)=A40))","v":0},null,""]
["216","男子スプリント",{"$f":"SUMPRODUCT((申込一覧表A!$F$2:$F$91=1)*(LEFT(申込一覧表A!$M$2:$M$91,3)=A41))+SUMPRODUCT((申込一覧表A!$F$2:$F$91=1)*(LEFT(申込一覧表A!$Q$2:$Q$91,3)=A41))+SUMPRODUCT((申込一覧表A!$F$2:$F$91=1)*(LEFT(申込一覧表A!$U$2:$U$91,3)=A41))","v":0},null,""]
["422","150m",{"$f":"SUMPRODUCT((申込一覧表A!$F$2:$F$91=1)*(LEFT(申込一覧表A!$M$2:$M$91,3)=A42))+SUMPRODUCT((申込一覧表A!$F$2:$F$91=1)*(LEFT(申込一覧表A!$Q$2:$Q$91,3)=A42))+SUMPRODUCT((申込一覧表A!$F$2:$F$91=1)*(LEFT(申込一覧表A!$U$2:$U$91,3)=A42))","v":0},null,""]
["999"]
[]
[]
[]
[]
[]
[]
[]
[]
[]
[]
[]
[null,"実人数",{"$f":"SUMPRODUCT((申込一覧表A!$F$2:$F$91=1)*(LEFT(申込一覧表A!$M$2:$M$91,1)<>\"\"))","v":0},null,null,{"$f":"SUMPRODUCT((申込一覧表A!$F$2:$F$91=2)*(LEFT(申込一覧表A!$M$2:$M$91,3)<>\"\"))","v":0}]

{"sheet":"混成申込","index":3,"n_rows":37,"n_cols":10,"rows_kept":37,"cut":false,"hidden":false,"merged":[[2,0,2,7],[4,1,4,3],[5,1,5,3],[6,1,6,3],[8,3,8,5],[8,6,8,7],[20,0,20,7],[22,1,22,3],[23,1,23,3],[24,1,24,3],[26,3,26,5],[26,6,26,7],[8,0,9,0],[26,0,27,0],[8,1,9,1],[26,1,27,1],[8,2,9,2],[26,2,27,2]]}
["※高校総体エントリー時のみ必要"]
["※申込一覧表Aにはコードのみ入力し、記録は空欄です。",null,null,null,null,null,null,null,"100m","200m"]
["混成競技申込用紙（男子）",null,null,null,null,null,null,null,"400m","800m"]
[null,null,null,null,null,null,null,null,"1500m","100mH"]
["大会名","群馬県高等学校総合体育大会",null,null,null,null,null,null,"110mH","中学100mH"]
["学校名",{"$f":"申込一覧表A!D2","v":"群馬陸協"},null,null,null,null,null,null,"中学110mH","走高跳"]
["種　目","八種競技",null,null,null,null,null,null,"走高跳","走幅跳"]
[null,null,null,null,null,null,null,null,"走幅跳","砲丸投"]
["登録番号","氏名","学年","資格審査",null,null,"走高跳",null,"砲丸投","砲丸投（2.72kg）"]
[null,null,null,"標準記録突破種目","記録","競技会名","最高記録","開始高さ","砲丸投（5kg）","やり投"]
[null,null,null,null,null,null,null,null,"やり投","七種"]
[null,null,null,null,null,null,null,null,"八種","四種"]
[null,null,null,null,null,null,null,null,"四種"]
[]
["参加制限：下記の記録を公認記録で１種目以上突破したもの"]
["100m-11\"90 400m-54\"40 1500m-4'30\"00 110mH-18\"50(中学110mH-16\"80)"]
["走高跳-1m65 走幅跳-5m80 砲丸投-9m00(5kg-10m00) やり投-40m00"]
["八種競技-3600点(四種競技-1900点)"]
["☆但し(　　　)は１年生に限る"]
[]
["混成競技申込用紙（女子）"]
[]
["大会名","群馬県高等学校総合体育大会"]
["学校名",{"$f":"申込一覧表A!D2","v":"群馬陸協"}]
["種　目","七種競技"]
[]
["登録番号","氏名","学年","資格審査",null,null,"走高跳"]
[null,null,null,"標準記録突破種目","記録","競技会名","最高記録","開始高さ"]
[]
[]
[]
[]
["参加制限：下記の記録を公認記録で１種目以上突破したもの"]
["200m-28\"00 800m-2'30\"00 100mH-18\"50(中学100mH-17\"00)"]
["走高跳-1m35 走幅跳-4m60 砲丸投-8m00(2.72kg-10m00) やり投-26m00"]
["七種競技-2500点(四種競技-1700点)"]
["☆但し(　　　)は１年生に限る"]

{"sheet":"初期設定","index":4,"n_rows":471,"n_cols":9,"rows_kept":471,"cut":false,"hidden":false,"merged":[]}
["ｺｰﾄﾞ","種目",null,"DB","N1","N2","N3","KC"]
["002","100m",null,69009,"ﾄｳﾖｳﾀﾞｲ","東洋大","東洋大",6,"山　形"]
["003","200m",null,90001,"ﾄﾁｷﾞTFC","栃木TFC","栃木TFC",9,"栃　木"]
["004","300m",null,100000,"ｸﾞﾝﾏﾘｯｷｮｳ","群馬陸協","群馬陸協",10,"群　馬"]
["005","400m",null,100001,"ﾀｶｻｷｼﾘｯｷｮｳ","高崎市陸協","高崎市陸協",10,"群　馬"]
["006","800m",null,100002,"ｱｶﾞﾂﾏｼﾝﾚｲｸﾗﾌﾞ","吾妻榛嶺ク","吾妻榛嶺ク",10,"群　馬"]
["007","1000m",null,100003,"ｳｽｲｸ","碓氷ク","碓氷ク",10,"群　馬"]
["008","1500m",null,100004,"ﾀﾃﾊﾞﾔｼｸﾗﾌﾞ","館林ク","館林ク",10,"群　馬"]
["010","3000m",null,100005,"ｵｵﾏﾏｺｳOB","大高ＯＢ","大高ＯＢ",10,"群　馬"]
["011","5000m",null,100006,"ﾄｳｷｮｳﾃﾞﾝﾘｮｸ","東京電力","東京電力",10,"群　馬"]
["012","10000m",null,100007,"ｼﾌﾞｶﾜｸﾗﾌﾞ","渋川ク","渋川ク",10,"群　馬"]
["032","110mH(中学男子)",null,100008,"ﾌｼﾞｵｶｸﾗﾌﾞ","藤岡ク","藤岡ク",10,"群　馬"]
["033","110mJH(0.991m)",null,100009,"ﾐﾀｺｳｷﾞｮｳ","三田工業","三田工業",10,"群　馬"]
["034","110mH",null,100010,"ｵｳﾗﾏﾁｸﾗﾌﾞ","邑楽町ク","邑楽町ク",10,"群　馬"]
["036","300mH(男）",null,100012,"ｱｶﾌﾞﾘｸﾗﾌﾞ","赤堀ク","赤堀ク",10,"群　馬"]
["037","400mH(男）",null,100013,"ﾀﾏﾑﾗﾏﾁｸﾗﾌﾞ","玉村町ク","玉村町ク",10,"群　馬"]
["042","100mH(中学女子)",null,100014,"ﾋﾀﾁﾀｶｻｷ","日立高崎","日立高崎",10,"群　馬"]
["043","100mYH(0.762m)",null,100015,"ｱﾝﾅｶｿｳﾕｳｸﾗﾌﾞ","安中走友ク","安中走友ク",10,"群　馬"]
["044","100mH(女)",null,100016,"ｻﾝﾖｳﾃﾞﾝｷ","三洋電機","三洋電機",10,"群　馬"]
["045","200mH",null,100017,"ｾﾀｸﾗﾌﾞ","勢多ク","勢多ク",10,"群　馬"]
["046","400mH(女）",null,100018,"ﾌｼﾞﾂｳ","富士通","富士通",10,"群　馬"]
["047","300mH(女）",null,100019,"ﾏｴﾊﾞｼｼﾘｯｷｮｳ","前橋市陸協","前橋市陸協",10,"群　馬"]
["053","3000mSC",null,100020,"ｷﾘｭｳｼﾘｯｷｮｳ","桐生市陸協","桐生市陸協",10,"群　馬"]
["060","3000競歩",null,100021,"ﾄﾈｸﾗﾌﾞ","利根ク","利根ク",10,"群　馬"]
["061","5000競歩",null,100022,"ﾊｷﾞﾜﾗﾃｯｺｳｼﾞｮ","荻原鉄工所","荻原鉄工所",10,"群　馬"]
["062","10000競歩",null,100024,"ｻﾜﾉｸﾗﾌﾞ","沢野ク","沢野ク",10,"群　馬"]
["071","走高跳",null,100026,"ﾇﾏﾀｸﾗﾌﾞ","沼田ク","沼田ク",10,"群　馬"]
["072","棒高跳",null,100028,"ﾄﾐｵｶｼﾘｯｷｮｳ","富岡市陸協","富岡市陸協",10,"群　馬"]
["073","走幅跳",null,100030,"ｲｾｻｷｸﾗﾌﾞ","伊勢崎ク","伊勢崎ク",10,"群　馬"]
["074","三段跳",null,100032,"ﾆｯﾀﾘｯｷｮｳ","新田陸協","新田陸協",10,"群　馬"]
["081","砲7k(一般男)",null,100033,"ﾀﾉｸﾗﾌﾞ","多野ク","多野ク",10,"群　馬"]
["082","砲6k(高校男)",null,100034,"ESP","ESP","ESP",10,"群　馬"]
["083","砲5k(中男)",null,100035,"ｸﾞﾝﾏｸﾞﾝﾘｯｷｮｳ","群馬郡陸協","群馬郡陸協",10,"群　馬"]
["084","砲4k(女)",null,100036,"ｵｵﾀｼﾘｯｷｮｳ","太田市陸協","太田市陸協",10,"群　馬"]
["085","砲2k(中女)",null,100037,"ﾐﾂﾋﾞｼﾃﾞﾝｷ","三菱電機","三菱電機",10,"群　馬"]
["086","円盤2k",null,100038,"ｱﾝﾅｶｼﾘｯｷｮｳ","安中市陸協","安中市陸協",10,"群　馬"]
["087","円1.75k(高男)",null,100039,"ｻｶｲｸﾗﾌﾞ","境ク","境ク",10,"群　馬"]
["088","円1k女",null,100040,"ｶﾝｶﾞｸﾀﾞｲAC","関学大ＡＣ","関学大ＡＣ",10,"群　馬"]
["089","ﾊﾝﾏｰ7k",null,100041,"ｸﾞﾝﾏﾋﾉｼﾞﾄﾞｳｼｬ","群馬日野","群馬日野",10,"群　馬"]
["090","ﾊﾝﾏｰ6k(高男)",null,100042,"ﾄｳﾜｷﾞﾝｺｳ","東和銀行","東和銀行",10,"群　馬"]
["092","やり男",null,100043,"ﾄﾘﾍｲAC","登利平AC","登利平AC",10,"群　馬"]
["093","やり女",null,100044,"ﾆﾎﾝｾｲｺｳ","日本精工","日本精工",10,"群　馬"]
["094","ﾊﾝﾏｰ4k女",null,100045,"ｽﾊﾞﾙ","SUBARU","SUBARU",10,"群　馬"]
["096","円1.5k(中男)",null,100046,"ｻﾀｹﾝｾﾂ","佐田建設","佐田建設",10,"群　馬"]
["099","ｼﾞｬﾍﾞﾘｯｸｽﾛｰ",null,100047,"ｽｰﾊﾟｰｱｽﾘｰﾄﾀﾏﾑﾗ","Ｓ．Ａ玉村","Ｓ．Ａ玉村",10,"群　馬"]
["201","混成10種",null,100048,"ﾖｼｲｺｳOB","吉井高ＯＢ","吉井高ＯＢ",10,"群　馬"]
["202","混成７種",null,100049,"ALSOKｸﾞﾝﾏ","ALSOK群馬","ALSOK群馬",10,"群　馬"]
["210","混成８種",null,100050,"ｸﾞﾝﾏﾀﾞｲTFｱﾗﾏｷｸﾗﾌﾞ","群大ＴＦ荒牧","群大ＴＦ",10,"群　馬"]
["213","混成４種(中男)",null,100051,"ﾁｭｳﾀｲﾚﾝｸﾗﾌﾞ","中体連ｸﾗﾌﾞ","中体連ｸﾗﾌﾞ",10,"群　馬"]
["214","混成４種(中女)",null,100052,"ｼｷｼﾏｸﾗﾌﾞ","しきしま倶楽部","しきしま",10,"群　馬"]
["216","男子スプリント",null,100053,"ﾁｰﾑK","チームＫ","チームＫ",10,"群　馬"]
["217","女子スプリント",null,100054,"ﾀﾁﾊﾞﾅRC","たちばなRC","たちばなRC",10,"群　馬"]
["422","150m",null,100055,"ｲｸｴｲｸﾗﾌﾞ","育英ｸﾗﾌﾞ","育英ｸﾗﾌﾞ",10,"群　馬"]
["999","ｴﾗｰ",null,100056,"ﾔﾏﾀﾞﾎｰﾙﾃﾞｨﾝｸﾞｽ","ﾔﾏﾀﾞﾎｰﾙﾃﾞｨﾝｸﾞｽ","ﾔﾏﾀﾞﾎｰﾙﾃﾞｨﾝｸﾞｽ",10,"群　馬"]
[null,null,null,100086,"ｲｾｻｷｼｮｳﾎﾞｳﾘｸｼﾞｮｳｷｮｳｷﾞﾌﾞ","伊勢崎消防陸上競技部","伊勢崎消防",10,"群　馬"]
[null,null,null,100087,"ﾐｽﾞﾉ","ミズノ","ミズノ",10,"群　馬"]
[null,null,null,100088,"ﾍｲｾｲｺｸｻｲﾀﾞｲAC","平成国際大ＡＣ","平成国際大ＡＣ",10,"群　馬"]
[null,null,null,100089,"ﾍﾞﾙｼﾞｬﾊﾟﾝAC","ﾍﾞﾙｼﾞｬﾊﾟﾝAC","ﾍﾞﾙｼﾞｬﾊﾟﾝAC",10,"群　馬"]
[null,null,null,100090,"SUBARU RC","SUBARU RC","SUBARU RC",10,"群　馬"]
[null,null,null,100091,"ｼﾞｮｳｼｭｳｱｽﾘｰﾄｸﾗﾌﾞ","上州アスリートクラブ","上州ｱｽﾘｰﾄｸﾗﾌﾞ",10,"群　馬"]
[null,null,null,100092,"ｱﾗﾏｷｯｽﾞ","ｱﾗﾏｷｯｽﾞ","ｱﾗﾏｷｯｽﾞ",10,"群　馬"]
[null,null,null,100093,"ｵｵﾀｽﾎﾟｰﾂｶﾞｯｺｳ","おおたスポーツ学校","ＯＳＧ",10,"群  馬"]
[null,null,null,100094,"ｸﾞﾝﾏｼｬｶｲﾌｸｼｼﾞｷﾞｮｳﾀﾞﾝ","群馬社会福祉事業団","群馬社福事団",10,"群  馬"]
[null,null,null,100095,"ﾘｮｸｿｳｸﾗﾌﾞ","緑走クラブ","緑走クラブ",10,"群  馬"]
[null,null,null,100096,"ﾋﾀﾞｶﾔﾘｸｼﾞｮｳｷｮｳｷﾞﾌﾞ","日高屋陸上競技部","日高屋陸上競技部",10,"群  馬"]
[null,null,null,100097,"SMBCﾆｯｺｳ","SMBC日興","SMBC日興",10,"群  馬"]
[null,null,null,100098,"ｻﾝﾍﾞﾙｸｽ","サンベルクス","サンベルクス",10,"群  馬"]
[null,null,null,100099,"ｶﾈｺﾗﾝﾆﾝｸﾞｸﾗﾌﾞ","金古ﾗﾝﾆﾝｸﾞｸﾗﾌﾞ","金古ﾗﾝﾆﾝｸﾞｸﾗﾌﾞ",10,"群  馬"]
[null,null,null,100100,"ｽｽﾞｷ","スズキ","スズキ",10,"群  馬"]
[null,null,null,100101,"ｸﾞﾝﾏﾕﾅｲﾃｯﾄﾞｱｽﾘｰﾄｸﾗﾌﾞ","群馬ﾕﾅｲﾃｯﾄﾞAC","群馬ﾕﾅｲﾃｯﾄﾞAC",10,"群  馬"]
[null,null,null,100102,"ｶﾗｯｶｾﾞ","からっ風","からっ風",10,"群  馬"]
[null,null,null,100103,"CSｱｾｯﾄ","CSｱｾｯﾄ","CSｱｾｯﾄ",10,"群  馬"]
[null,null,null,100104,"ﾆｲｼﾞﾏｱｽﾘｰﾄｸﾗﾌﾞ","新島ｱｽﾘｰﾄｸﾗﾌﾞ","NAC",10,"群  馬"]
[null,null,null,100105,"ﾜﾝ","ONE","ONE",10,"群  馬"]
[null,null,null,100106,"ﾆﾎﾝﾈｶﾞﾃｨﾌﾞﾗﾝﾅｰｽﾞｷｮｳｶｲ","日本ﾈｶﾞﾃｨﾌﾞﾗﾝﾅｰｽﾞ協会","JNR",10,"群  馬"]
[null,null,null,100107,"ｼﾞｭﾆｱﾘｸｼﾞｮｳﾆｯﾀ","ｼﾞｭﾆｱ陸上新田","ｼﾞｭﾆｱﾆｯﾀ",10,"群  馬"]
[null,null,null,103050,"ｸﾞﾝﾏﾀﾞｲﾌｿﾞｸﾖｳｺﾞ","群馬大附属養護","群馬大附属養護",10,"群　馬"]
[null,null,null,103091,"ｸﾞﾝﾏｺｳｾﾝ","群馬高等工業高等専門学校","群馬高専",10,"群　馬"]
[null,null,null,103101,"ﾏｴﾊﾞｼｺｳｺｳ","前橋高","前橋高",10,"群　馬"]
[null,null,null,103102,"ﾏｴﾊﾞｼﾐﾅﾐｺｳ","前橋南高","前橋南高",10,"群　馬"]
[null,null,null,103103,"ﾏｴﾊﾞｼｼﾞｮｼｺｳ","前橋女高","前橋女高",10,"群　馬"]
[null,null,null,103104,"ｾﾀﾉｳﾘﾝｺｳ","勢多農林高","勢多農林高",10,"群　馬"]
[null,null,null,103105,"ﾏｴﾊﾞｼｺｳｷﾞｮｳｺｳ","前橋工高","前橋工高",10,"群　馬"]
[null,null,null,103106,"ﾏｴﾊﾞｼｼｮｳｷﾞｮｳｺｳ","前橋商高","前橋商高",10,"群　馬"]
[null,null,null,103107,"ｾｲﾘｮｳｺｳ","清陵高","清陵高",10,"群　馬"]
[null,null,null,103108,"ﾀｶｻｷｺｳｺｳ","高崎高","高崎高",10,"群　馬"]
[null,null,null,103109,"ﾁｭｳｵｳｺｳ","中央高","中央高",10,"群　馬"]
[null,null,null,103110,"ﾀｶｻｷｼﾞｮｼｺｳ","高崎女高","高崎女高",10,"群　馬"]
[null,null,null,103111,"ﾀｶｻｷｺｳｷﾞｮｳｺｳ","高崎工高","高崎工高",10,"群　馬"]
[null,null,null,103112,"ﾀｶｻｷｼｮｳｷﾞｮｳｺｳ","高崎商高","高崎商高",10,"群　馬"]
[null,null,null,103113,"ｷﾘｭｳｺｳ","桐生高","桐生高",10,"群　馬"]
[null,null,null,103114,"ｷﾘｭｳｾｲｵｳｺｳ","桐生清桜高","清桜高",10,"群　馬"]
[null,null,null,103115]
[null,null,null,103116,"ｷﾘｭｳｺｳｷﾞｮｳｺｳ","桐生工高","桐生工高",10,"群　馬"]
[null,null,null,103117,"ｲｾｻｷﾋｶﾞｼｺｳ","伊勢崎東高","伊勢崎東高",10,"群　馬"]
[null,null,null,103118,"ｲｾｻｷｾｲﾒｲ","伊勢崎清明高","清明高",10,"群　馬"]
[null,null,null,103119,"ｲｾｻｷｺｳﾖｳｺｳ","伊勢崎興陽高","伊勢崎興陽高",10,"群　馬"]
[null,null,null,103120,"ｲｾｻｷｺｳｷﾞｮｳｺｳ","伊勢崎工高","伊勢崎工高",10,"群　馬"]
[null,null,null,103121,"ｲｾｻｷｼｮｳｷﾞｮｳｺｳ","伊勢崎商高","伊勢崎商高",10,"群　馬"]
[null,null,null,103122,"ｵｵﾀｺｳｺｳ","太田高","太田高",10,"群　馬"]
[null,null,null,103123,"ｵｵﾀｼﾞｮｼｺｳ","太田女高","太田女高",10,"群　馬"]
[null,null,null,103124,"ｵｵﾀﾆｼｼﾞｮｼｺｳ","太田西女高","太田西女高",10,"群　馬"]
[null,null,null,103125,"ｵｵﾀｺｳｷﾞｮｳｺｳ","太田工高","太田工高",10,"群　馬"]
[null,null,null,103126,"ﾇﾏﾀｺｳｺｳ","沼田高","沼田高",10,"群　馬"]
[null,null,null,103127,"ﾇﾏﾀｼﾞｮｼｺｳ","沼田女高","沼田女高",10,"群　馬"]
[null,null,null,103128,"ﾄﾈｼﾞﾂｷﾞｮｳｺｳ","利根実業高","利根実業高",10,"群　馬"]
[null,null,null,103129,"ﾀﾃﾊﾞﾔｼｺｳｺｳ","館林高","館林高",10,"群　馬"]
[null,null,null,103130,"ﾀﾃﾊﾞﾔｼｼﾞｮｼｺｳ","館林女高","館林女高",10,"群　馬"]
[null,null,null,103131,"ｼﾌﾞｶﾜｺｳｺｳ","渋川高","渋川高",10,"群　馬"]
[null,null,null,103132,"ｼﾌﾞｶﾜｼﾞｮｼｺｳ","渋川女高","渋川女高",10,"群　馬"]
[null,null,null,103133,"ﾌｼﾞｵｶｺｳｺｳ","藤岡高","藤岡高",10,"群　馬"]
[null,null,null,103134,"ﾌｼﾞｵｶｼﾞｮｼｺｳ","藤岡女高","藤岡女高",10,"群　馬"]
[null,null,null,103135,"ﾌｼﾞｵｶｺｳｷﾞｮｳｺｵｳ","藤岡工高","藤岡工高",10,"群　馬"]
[null,null,null,103136,"ﾄﾐｵｶｺｳｺｳ","富岡高","富岡高",10,"群　馬"]
[null,null,null,103137,null,null,null,10,"群　馬"]
[null,null,null,103138,"ﾄﾐｵｶｼﾞﾂｷﾞｮｳｺｳ","富岡実業高","富岡実業高",10,"群　馬"]
[null,null,null,103139,"ｱﾝﾅｶｺｳｺｳ","安中高","安中高",10,"群　馬"]
[null,null,null,103140,"ｱﾝﾅｶｼﾞﾂｷﾞｮｳｺｳ","安中実業高","安中実業高",10,"群　馬"]
[null,null,null,103141,"ﾏｴﾊﾞｼﾋｶﾞｼｼｮｳｷﾞｮｳｺｳ","前橋東商高","前橋東商高",10,"群　馬"]
[null,null,null,103142,"ﾊﾙﾅｺｳ","榛名高","榛名高",10,"群　馬"]
[null,null,null,103143,"ﾖｼｲｺｳ","吉井高","吉井高",10,"群　馬"]
[null,null,null,103144,"ﾏﾝﾊﾞｺｳ","万場高","万場高",10,"群　馬"]
[null,null,null,103145,"ｼﾓﾆﾀｺｳ","下仁田高","下仁田高",10,"群　馬"]
[null,null,null,103146,"ﾏﾂｲﾀﾞｺｳ","松井田高","松井田高",10,"群　馬"]
[null,null,null,103147,"ｱｶﾞﾂﾏﾁｭｳｵｳｺｳ","吾妻中央","吾妻中央",10,"群　馬"]
[null,null,null,103148,null,null,null,10,"群　馬"]
[null,null,null,103149,"ﾅｶﾞﾉﾊﾗｺｳ","長野原高","長野原高",10,"群　馬"]
[null,null,null,103150,"ﾂﾏｺﾞｲｺｳｺｳ","嬬恋高","嬬恋高",10,"群　馬"]
[null,null,null,103151,"ｵｾﾞｺｳｺｳ","尾瀬高","尾瀬高",10,"群　馬"]
[null,null,null,103152,"ｻｶｲｺｳｺｳ","境高","境高",10,"群　馬"]
[null,null,null,103153,"ﾀﾏﾑﾗｺｳｺｳ","玉村高","玉村高",10,"群　馬"]
[null,null,null,103154,"ｼｯﾀｱｶﾂｷｺｳ","新田暁高","新田暁高",10,"群　馬"]
[null,null,null,103155,"ｵｵﾏﾏｺｳ","大間々高","大間々高",10,"群　馬"]
[null,null,null,103156,"ｲﾀｸﾗｺｳｺｳ","板倉高","板倉高",10,"群　馬"]
[null,null,null,103157,"ﾆｼｵｳﾗｺｳｺｳ","西邑楽高","西邑楽高",10,"群　馬"]
[null,null,null,103158,"ｵｵｲｽﾞﾐｺｳｺｳ","大泉高","大泉高",10,"群　馬"]
[null,null,null,103159,"ｾｲｽｲｺｳｺｳ","清翠高","清翠高",10,"群　馬"]
[null,null,null,103160,"ｼﾘﾂﾏｴﾊﾞｼｺｳｺｳ","市立前橋高","市立前橋高",10,"群　馬"]
[null,null,null,103162,"ｷﾘｭｳｼｮｳｷﾞｮｳｺｳ","桐生市商高","桐生市商高",10,"群　馬"]
[null,null,null,103163,"ﾖﾂﾊﾞｶﾞｸｴﾝ","四ツ葉学園","四ツ葉学園",10,"群　馬"]
[null,null,null,103164,"ｼﾌﾞｶﾜｺｳｷﾞｮｳｺｳ","渋川工高","渋川工高",10,"群　馬"]
[null,null,null,103165,"ｼﾘﾂｵｵﾀｺｳ","市立太田高","市立太田高",10,"群　馬"]
[null,null,null,103166,"ﾄﾈｼｮｳｷﾞｮｳｺｳ","利根商高","利根商高",10,"群　馬"]
[null,null,null,103167,"ﾀｶｻｷｷﾀｺｳ","高崎北高","高崎北高",10,"群　馬"]
[null,null,null,103168]
[null,null,null,103169,"ﾏｴﾊﾞｼﾋｶﾞｼｺｳ","前橋東高","前橋東高",10,"群　馬"]
[null,null,null,103170,"ﾏｴﾊﾞｼﾆｼｺｳ","前橋西高","前橋西高",10,"群　馬"]
[null,null,null,103171,"ｵｵﾀﾋｶﾞｼｺｳ","太田東高","太田東高",10,"群　馬"]
[null,null,null,103172,"ﾌｼﾞｵｶｷﾀｺｳ","藤岡北高","藤岡北高",10,"群　馬"]
[null,null,null,103173,"ﾀｶｻｼﾋｶﾞｼｺｳ","高崎東高","高崎東高",10,"群　馬"]
[null,null,null,103174,"ﾀﾃﾊﾞﾔｼｼｮｳｺｳｺｳｺｳ","館林商工高","館林商工高",10,"群　馬"]
[null,null,null,103175,"ﾀｶｻｷｹｲｻﾞﾀﾞｲﾌｿﾞｸｺｳ","高経大附高","高経大附高",10,"群　馬"]
[null,null,null,103176,"ｲｾｻｷｺｳ","伊勢崎高","伊勢崎高",10,"群　馬"]
[null,null,null,103177,"ﾌｼﾞｵｶﾁｭｳｵｳ","藤岡中央高","藤岡中央高",10,"群　馬"]
[null,null,null,103178,"ﾁｭｳｵｳﾁｭｳﾄｳ","中央中等","中央中等",10,"群　馬"]
[null,null,null,103179,"ｱﾝﾅｶｿｳｺﾞｳｺｳ","安中総合学園高校","安中総合",10,"群　馬"]
[null,null,null,103181,"ﾖﾂﾊﾞｶﾞｸｴﾝ","四ツ葉学園","四ツ葉学園",10,"群　馬"]
[null,null,null,103452,"ﾛｳｶﾞｯｺｳ","聾高","聾高",10,"群　馬"]
[null,null,null,103454,null,"桐生市立第一養護高","桐生市立第一養護高",10,"群　馬"]
[null,null,null,103455,null,"みやま養護高","みやま養護高",10,"群　馬"]
[null,null,null,103456,null,"榛名養護高","榛名養護高",10,"群　馬"]
[null,null,null,103457,null,"高等養護高","高等養護高",10,"群　馬"]
[null,null,null,103501,"ｷｮｳｱｲｶﾞｸｴﾝ","共愛学園高","共愛学園高",10,"群　馬"]
[null,null,null,103502,"ｷﾘｭｳﾀﾞｲｲﾁ","桐生一高","桐生一高",10,"群　馬"]
[null,null,null,103503,"ﾄｷﾜｺｳ","常磐高","常磐高",10,"群　馬"]
[null,null,null,103504,"ﾆｲｼﾞﾏｶﾞｸｴﾝ","新島学園高","新島学園高",10,"群　馬"]
[null,null,null,103505,"ﾒｲﾜｺｳ","明和高","明和高",10,"群　馬"]
[null,null,null,103506,"ﾀｶｻｷｼｮｳｶﾀﾞｲﾌｿﾞｸｺｳ","高商大附高","高商大附高",10,"群　馬"]
[null,null,null,103507,"ｶﾝｶﾞｸﾀﾞｲﾌｿﾞｸｺｳ","関学大附高","関学大附高",10,"群　馬"]
[null,null,null,103508,"ﾉｳﾀﾞｲﾆｺｳ","農大二高","農大二高",10,"群　馬"]
[null,null,null,103509,"ｼﾞｭﾄｸｺｳ","樹徳高","樹徳高",10,"群　馬"]
[null,null,null,103510,"ﾏｴﾊﾞｼｲｸｴｲｺｳ","前橋育英高","前橋育英高",10,"群　馬"]
[null,null,null,103512,"ｹﾝﾀﾞｲﾀｶｻｷ","健大高崎","健大高崎",10,"群　馬"]
[null,null,null,103513,"ｼﾗﾈｶｲｾﾞﾝｶﾞｯｺｳ","白根開善学校高","白根開善学校高",10,"群　馬"]
[null,null,null,103514,"ｹﾝｵｳ","県央高","県央高",10,"群　馬"]
[null,null,null,103515,"ｸﾞﾝﾏｺｸｻｲｱｶﾃﾞﾐｰ","ぐんま国際アカデミー","GKA",10,"群　馬"]
[null,null,null,103516,"ｵｵﾀﾌﾚｯｸｽｺｳ","太田フレックス高","太田フ高",10,"群　馬"]
[null,null,null,104116,null,"桐生工高定時制","桐生工高定時制",10,"群　馬"]
[null,null,null,104147,null,"中之条高定時制","中之条高定時制",10,"群　馬"]
[null,null,null,104162,null,"桐生市立商高定","桐生市立商高定",10,"群　馬"]
[null,null,null,104163,"ｺｳﾖｳ","興陽高","興陽高",10,"群　馬"]
[null,null,null,105001,"ﾏｴﾊﾞｼｼﾘﾂﾀﾞｲｲｲﾁﾁｭｳｶﾞｯｺｳ","前橋市立第一中学校","前橋第一中",10,"群　馬"]
[null,null,null,105002,"ﾏｴﾊﾞｼｼﾘﾂﾐｽﾞｷﾁｭｳｶﾞｯｺｳ","前橋市立みずき中学校","みずき中",10,"群　馬"]
[null,null,null,105003,"ﾏｴﾊﾞｼｼﾘﾂﾀﾞｲｻﾝﾁｭｳｶﾞｯｺｳ","前橋市立第三中学校","前橋第三中",10,"群　馬"]
[null,null,null,105004,"ﾏｴﾊﾞｼｼﾘﾂﾀﾞｲｺﾞﾁｭｳｶﾞｯｺｳ","前橋市立第五中学校","前橋第五中",10,"群　馬"]
[null,null,null,105005,"ﾏｴﾊﾞｼｼﾘﾂﾀﾞｲﾛｸﾁｭｳｶﾞｯｺｳ","前橋市立第六中学校","前橋第六中",10,"群　馬"]
[null,null,null,105006,"ﾏｴﾊﾞｼｼﾘﾂﾀﾞｲﾅﾅﾁｭｳｶﾞｯｺｳ","前橋市立第七中学校","前橋第七中",10,"群　馬"]
[null,null,null,105007,"ﾏｴﾊﾞｼｼﾘﾂｶｲｶﾞﾔﾁｭｳｶﾞｯｺｳ","前橋市立桂萓中学校","桂萓中",10,"群　馬"]
[null,null,null,105008,"ﾏｴﾊﾞｼｼﾘﾂﾊｶﾞﾁｭｳｶﾞｯｺｳ","前橋市立芳賀中学校","芳賀中",10,"群　馬"]
[null,null,null,105009,"ﾏｴﾊﾞｼｼﾘﾂﾓﾄｿｳｼﾞｬﾁｭｳｶﾞｯｺｳ","前橋市立元総社中学校","元総社中",10,"群　馬"]
[null,null,null,105010,"ﾏｴﾊﾞｼｼﾘﾂｱｽﾞﾏﾁｭｳｶﾞｯｺｳ","前橋市立東中学校","前橋東中",10,"群　馬"]
[null,null,null,105011,"ﾏｴﾊﾞｼｼﾘﾂﾅﾝｷﾂﾁｭｳｶﾞｯｺｳ","前橋市立南橘中学校","南橘中",10,"群　馬"]
[null,null,null,105012,"ﾏｴﾊﾞｼｼﾘﾂｷｾﾁｭｳｶﾞｯｺｳ","前橋市立木瀬中学校","木瀬中",10,"群　馬"]
[null,null,null,105013,"ﾏｴﾊﾞｼｼﾘﾂｱﾗﾄﾁｭｳｶﾞｯｺｳ","前橋市立荒砥中学校","荒砥中",10,"群　馬"]
[null,null,null,105014,"ﾏｴﾊﾞｼｼﾘﾂﾒｲｵｳﾁｭｳｶﾞｯｺｳﾁｭｳｶﾞｯｺｳ","前橋市立明桜中学校","明桜中",10,"群　馬"]
[null,null,null,105015,"ﾏｴﾊﾞｼｼﾘﾂｶﾏｸﾗﾁｭｳｶﾞｯｺｳ","前橋市立鎌倉中学校","鎌倉中",10,"群　馬"]
[null,null,null,105016,"ﾏｴﾊﾞｼｼﾘﾂﾊｺﾀﾞﾁｭｳｶﾞｯｺｳ","前橋市立箱田中学校","箱田中",10,"群　馬"]
[null,null,null,105017,"ﾏｴﾊﾞｼｼﾘﾂｵｵｺﾞﾁｭｳｶﾞｯｺｳ","前橋市立大胡中学校","大胡中",10,"群　馬"]
[null,null,null,105018,"ﾏｴﾊﾞｼｼﾘﾂﾐﾔｷﾞﾁｭｳｶﾞｯｺｳ","前橋市立宮城中学校","宮城中",10,"群　馬"]
[null,null,null,105019,"ﾏｴﾊﾞｼｼﾘﾂｶｽｶﾜﾁｭｳｶﾞｯｺｳ","前橋市立粕川中学校","粕川中",10,"群　馬"]
[null,null,null,105020,"ﾏｴﾊﾞｼｼﾘﾂﾌｼﾞﾐﾁｭｳｶﾞｯｺｳ","前橋市立富士見中学校","富士見中",10,"群　馬"]
[null,null,null,105021,"ｸﾞﾝﾏﾀﾞｲｶﾞｸｷｮｳｲｸｶﾞｸﾌﾞﾌｿﾞｸﾁｭｳｶﾞｯｺｳ","群馬大学教育学部附属中学校","群馬大学附属中",10,"群　馬"]
[null,null,null,105022,"ｷｮｳｱｲｶﾞｸｴﾝﾁｭｳｶﾞｯｺｳ","共愛学園中学校","共愛学園中",10,"群　馬"]
[null,null,null,105023,"ﾀｶｻｷｼﾘﾂﾀﾞｲｲﾁﾁｭｳｶﾞｯｺｳ","高崎市立第一中学校","高崎第一中",10,"群　馬"]
[null,null,null,105024,"ﾀｶｻｷｼﾘﾂﾀｶﾏﾂﾁｭｳｶﾞｯｺｳ","高崎市立高松中学校","高松中",10,"群　馬"]
[null,null,null,105025,"ﾀｶｻｷｼﾘﾂﾅﾐｴﾁｭｳｶﾞｯｺｳ","高崎市立並榎中学校","並榎中",10,"群　馬"]
[null,null,null,105026,"ﾀｶｻｷｼﾘﾂﾄﾖｵｶﾁｭｳｶﾞｯｺｳ","高崎市立豊岡中学校","豊岡中",10,"群　馬"]
[null,null,null,105027,"ﾀｶｻｷｼﾘﾂﾅｶｵﾁｭｳｶﾞｯｺｳ","高崎市立中尾中学校","中尾中",10,"群　馬"]
[null,null,null,105028,"ﾀｶｻｷｼﾘﾂﾅｶﾞﾉｺﾞｳﾁｭｳｶﾞｯｺｳ","高崎市立長野郷中学校","長野郷中",10,"群　馬"]
[null,null,null,105029,"ﾀｶｻｷｼﾘﾂｵｵﾙｲﾁｭｳｶﾞｯｺｳ","高崎市立大類中学校","大類中",10,"群　馬"]
[null,null,null,105030,"ﾀｶｻｷｼﾘﾂﾂｶｻﾜﾁｭｳｶﾞｯｺｳ","高崎市立塚沢中学校","塚沢中",10,"群　馬"]
[null,null,null,105031,"ﾀｶｻｷｼﾘﾂｶﾀｵｶﾁｭｳｶﾞｯｺｳ","高崎市立片岡中学校","片岡中",10,"群　馬"]
[null,null,null,105032,"ﾀｶｻｷｼﾘﾂｻﾉﾁｭｳｶﾞｯｺｳ","高崎市立佐野中学校","佐野中",10,"群　馬"]
[null,null,null,105033,"ﾀｶｻｷｼﾘﾂﾐﾅﾐﾔﾜﾀﾁｭｳｶﾞｯｺｳ","高崎市立南八幡中学校","南八幡中",10,"群　馬"]
[null,null,null,105034,"ﾀｶｻｷｼﾘﾂｸﾗｶﾞﾉﾁｭｳｶﾞｯｺｳ","高崎市立倉賀野中学校","倉賀野中",10,"群　馬"]
[null,null,null,105035,"ﾀｶｻｷｼﾘﾂｺｳﾅﾝﾁｭｳｶﾞｯｺｳ","高崎市立高南中学校","高南中",10,"群　馬"]
[null,null,null,105036,"ﾀｶｻｷｼﾘﾂﾃﾗｵﾁｭｳｶﾞｯｺｳ","高崎市立寺尾中学校","寺尾中",10,"群　馬"]
[null,null,null,105037,"ﾀｶｻｷｼﾘﾂﾔﾜﾀﾁｭｳｶﾞｯｺｳ","高崎市立八幡中学校","八幡中",10,"群　馬"]
[null,null,null,105038,"ﾀｶｻｷｼﾘﾂﾔﾅｶﾁｭｳｶﾞｯｺｳ","高崎市立矢中中学校","矢中中",10,"群　馬"]
[null,null,null,105039,"ﾀｶｻｷｼﾘﾂｸﾗﾌﾞﾁﾁｭｳｶﾞｯｺｳ","高崎市立倉渕中学校","倉渕中",10,"群　馬"]
[null,null,null,105040,"ﾀｶｻｷｼﾘﾂﾐｻﾄﾁｭｳｶﾞｯｺｳ","高崎市立箕郷中学校","箕郷中",10,"群　馬"]
[null,null,null,105041,"ﾀｶｻｷｼﾘﾂｸﾞﾝﾏﾁｭｳｵｳﾁｭｳｶﾞｯｺｳ","高崎市立群馬中央中学校","群馬中央中",10,"群　馬"]
[null,null,null,105042,"ﾀｶｻｷｼﾘﾂｸﾞﾝﾏﾐﾅﾐﾁｭｳｶﾞｯｺｳ","高崎市立群馬南中学校","群馬南中",10,"群　馬"]
[null,null,null,105043,"ﾀｶｻｷｼﾘﾂｼﾝﾏﾁﾁｭｳｶﾞｯｺｳ","高崎市立新町中学校","新町中",10,"群　馬"]
[null,null,null,105044,"ﾀｶｻｷｼﾘﾂﾊﾙﾅﾁｭｳｶﾞｯｺｳ","高崎市立榛名中学校","榛名中",10,"群　馬"]
[null,null,null,105045,"ﾀｶｻｷｼﾘﾂﾖｼｲﾁｭｳｵｳﾁｭｳｶﾞｯｺｳ","高崎市立吉井中央中学校","吉井中央中",10,"群　馬"]
[null,null,null,105046,"ﾀｶｻｷｼﾘﾂﾖｼｲﾆｼﾁｭｳｶﾞｯｺｳ","高崎市立吉井西中学校","吉井西中",10,"群　馬"]
[null,null,null,105047,"ﾀｶｻｷｼﾘﾂｲﾘﾉﾁｭｳｶﾞｯｺｳ","高崎市立入野中学校","入野中",10,"群　馬"]
[null,null,null,105048,"ｸﾞﾝﾏｹﾝﾘﾂﾁｭｳｵｳﾁｭｳﾄｳｷｮｳｲｸｶﾞｯｺｳ","群馬県立中央中等教育学校","中央中等中",10,"群　馬"]
[null,null,null,105049,"ｷﾘｭｳｼﾘﾂﾁｭｳｵｳﾁｭｳｶﾞｯｺｳ","桐生市立中央中学校","桐生中央中",10,"群　馬"]
[null,null,null,105050,"ｷﾘｭｳｼﾘﾂｾｲﾘｭｳﾁｭｳｶﾞｯｺｳ","桐生市立清流中学校","清流中",10,"群　馬"]
[null,null,null,105051,"ｷﾘｭｳｼﾘﾂｻｶｲﾉﾁｭｳｶﾞｯｺｳ","桐生市立境野中学校","境野中",10,"群　馬"]
[null,null,null,105052,"ｷﾘｭｳｼﾘﾂﾋﾛｻﾜﾁｭｳｶﾞｯｺｳ","桐生市立広沢中学校","広沢中",10,"群　馬"]
[null,null,null,105053,"ｷﾘｭｳｼﾘﾂｳﾒﾀﾞﾁｭｳｶﾞｯｺｳ","桐生市立梅田中学校","梅田中",10,"群　馬"]
[null,null,null,105054,"ｷﾘｭｳｼﾘﾂｱｲｵｲﾁｭｳｶﾞｯｺｳ","桐生市立相生中学校","相生中",10,"群　馬"]
[null,null,null,105055,"ｷﾘｭｳｼﾘﾂｶﾜｳﾁﾁｭｳｶﾞｯｺｳ","桐生市立川内中学校","川内中",10,"群　馬"]
[null,null,null,105056,"ｷﾘｭｳｼﾘﾂｻｸﾗｷﾞﾁｭｳｶﾞｯｺｳ","桐生市立桜木中学校","桜木中",10,"群　馬"]
[null,null,null,105057,"ｷﾘｭｳｼﾘﾂﾆｲｻﾄﾁｭｳｶﾞｯｺｳ","桐生市立新里中学校","新里中",10,"群　馬"]
[null,null,null,105058,"ｷﾘｭｳｼﾘﾂｸﾛﾎﾈｶﾞｸｴﾝ","桐生市立黒保根学園","黒保根中",10,"群　馬"]
[null,null,null,105059,"ｼﾞｭﾄｸﾁｭｳｶﾞｯｺｳ","樹德中学校","樹徳中",10,"群　馬"]
[null,null,null,105060,"ｷﾘｭｳﾀﾞｲｶﾞｸﾌｿﾞｸﾁｭｳｶﾞｯｺｳ","桐生大学附属中学校","桐生大学附属中",10,"群　馬"]
[null,null,null,105061,"ﾐﾄﾞﾘｼﾘﾂｶｻｶﾞｹﾁｭｳｶﾞｯｺｳ","みどり市立笠懸中学校","笠懸中",10,"群　馬"]
[null,null,null,105062,"ﾐﾄﾞﾘｼﾘﾂｶｻｶﾞｹﾐﾅﾐﾁｭｳｶﾞｯｺｳ","みどり市立笠懸南中学校","笠懸南中",10,"群　馬"]
[null,null,null,105063,"ﾐﾄﾞﾘｼﾘﾂｵｵﾏﾏﾁｭｳｶﾞｯｺｳ","みどり市立大間々中学校","大間々中",10,"群　馬"]
[null,null,null,105064,"ﾐﾄﾞﾘｼﾘﾂｵｵﾏﾏﾋｶﾞｼﾁｭｳｶﾞｯｺｳ","みどり市立大間々東中学校","大間々東中",10,"群　馬"]
[null,null,null,105065,"ﾐﾄﾞﾘｼﾘﾂｱｽﾞﾏｼｮｳﾁｭｳｶﾞｯｺｳ","みどり市立あずま小中学校","みどり東中",10,"群　馬"]
[null,null,null,105066,"ｲｾｻｷｼﾘﾂﾀﾞｲｲﾁﾁｭｳｶﾞｯｺｳ","伊勢崎市立第一中学校","伊勢崎第一中",10,"群　馬"]
[null,null,null,105067,"ｲｾｻｷｼﾘﾂﾀﾞｲﾆﾁｭｳｶﾞｯｺｳ","伊勢崎市立第二中学校","伊勢崎第二中",10,"群　馬"]
[null,null,null,105068,"ｲｾｻｷｼﾘﾂﾀﾞｲｻﾝﾁｭｳｶﾞｯｺｳ","伊勢崎市立第三中学校","伊勢崎第三中",10,"群　馬"]
[null,null,null,105069,"ｲｾｻｷｼﾘﾂﾀﾞｲﾖﾝﾁｭｳｶﾞｯｺｳ","伊勢崎市立第四中学校","伊勢崎第四中",10,"群　馬"]
[null,null,null,105070,"ｲｾｻｷｼﾘﾂｳｴﾊｽﾁｭｳｶﾞｯｺｳ","伊勢崎市立殖蓮中学校","殖蓮中",10,"群　馬"]
[null,null,null,105071,"ｲｾｻｷｼﾘﾂﾐﾔｺﾞｳﾁｭｳｶﾞｯｺｳ","伊勢崎市立宮郷中学校","宮郷中",10,"群　馬"]
[null,null,null,105072,"ｲｾｻｷｼﾘﾂｱｶﾎﾞﾘﾁｭｳｶﾞｯｺｳ","伊勢崎市立赤堀中学校","赤堀中",10,"群　馬"]
[null,null,null,105073,"ｲｾｻｷｼﾘﾂｱｽﾞﾏﾁｭｳｶﾞｯｺｳ","伊勢崎市立あずま中学校","あずま中",10,"群　馬"]
[null,null,null,105074,"ｲｾｻｷｼﾘﾂｻｶｲｷﾀﾁｭｳｶﾞｯｺｳ","伊勢崎市立境北中学校","境北中",10,"群　馬"]
[null,null,null,105075,"ｲｾｻｷｼﾘﾂｻｶｲﾆｼﾁｭｳｶﾞｯｺｳ","伊勢崎市立境西中学校","境西中",10,"群　馬"]
[null,null,null,105076,"ｲｾｻｷｼﾘﾂｻｶｲﾐﾅﾐﾁｭｳｶﾞｯｺｳ","伊勢崎市立境南中学校","境南中",10,"群　馬"]
[null,null,null,105077,"ｲｾｻｷｼﾘﾂﾖﾂﾊﾞｶﾞｸｴﾝﾁｭｳﾄｳｷｮｳｲｸｶﾞｯｺｳ","伊勢崎市立四ツ葉学園中等教育学校","四ツ葉学園",10,"群　馬"]
[null,null,null,105078,"ﾀﾏﾑﾗﾁｮｳﾘﾂﾀﾏﾑﾗﾁｭｳｶﾞｯｺｳ","玉村町立玉村中学校","玉村中",10,"群　馬"]
[null,null,null,105079,"ﾀﾏﾑﾗﾁｮｳﾘﾂﾐﾅﾐﾁｭｳｶﾞｯｺｳ","玉村町立南中学校","玉村南中",10,"群　馬"]
[null,null,null,105080,"ｵｵﾀｼﾘﾂﾆｼﾁｭｳｶﾞｯｺｳ","太田市立西中学校","太田西中",10,"群　馬"]
[null,null,null,105081,"ｵｵﾀｼﾘﾂﾋｶﾞｼﾁｭｳｶﾞｯｺｳ","太田市立東中学校","太田東中",10,"群　馬"]
[null,null,null,105082,"ｵｵﾀｼﾘﾂﾐﾅﾐﾁｭｳｶﾞｯｺｳ","太田市立南中学校","太田南中",10,"群　馬"]
[null,null,null,105083,"ｵｵﾀｼﾘﾂｷｭｳﾊｸﾁｭｳｶﾞｯｺｳ","太田市立休泊中学校","休泊中",10,"群　馬"]
[null,null,null,105084,"ｵｵﾀｼﾘﾂｺﾞｳﾄﾞﾁｭｳｶﾞｯｺｳ","太田市立強戸中学校","強戸中",10,"群　馬"]
[null,null,null,105085,"ｵｵﾀｼﾘﾂﾎｳｾﾝﾁｭｳｶﾞｯｺｳ","太田市立宝泉中学校","宝泉中",10,"群　馬"]
[null,null,null,105086,"ｵｵﾀｼﾘﾂﾓﾘﾀﾁｭｳｶﾞｯｺｳ","太田市立毛里田中学校","毛里田中",10,"群　馬"]
[null,null,null,105087,"ｵｵﾀｼﾘﾂｼﾞｮｳｻｲﾁｭｳｶﾞｯｺｳ","太田市立城西中学校","城西中",10,"群　馬"]
[null,null,null,105088,"ｵｵﾀｼﾘﾂｼﾞｮｳﾄｳﾁｭｳｶﾞｯｺｳ","太田市立城東中学校","城東中",10,"群　馬"]
[null,null,null,105089,"ｵｵﾀｼﾘﾂｱｻﾋﾁｭｳｶﾞｯｺｳ","太田市立旭中学校","旭中",10,"群　馬"]
[null,null,null,105090,"ｵｵﾀｼﾘﾂｵｼﾞﾏﾁｭｳｶﾞｯｺｳ","太田市立尾島中学校","尾島中",10,"群　馬"]
[null,null,null,105091,"ｵｵﾀｼﾘﾂｷｻﾞｷﾁｭｳｶﾞｯｺｳ","太田市立木崎中学校","木崎中",10,"群　馬"]
[null,null,null,105092,"ｵｵﾀｼﾘﾂｲｸｼﾅﾁｭｳｶﾞｯｺｳ","太田市立生品中学校","生品中",10,"群　馬"]
[null,null,null,105093,"ｵｵﾀｼﾘﾂﾜﾀｳﾁﾁｭｳｶﾞｯｺｳ","太田市立綿打中学校","綿打中",10,"群　馬"]
[null,null,null,105094,"ｵｵﾀｼﾘﾂﾔﾌﾞﾂｶﾎﾝﾏﾁﾁｭｳｶﾞｯｺｳ","太田市立藪塚本町中学校","藪塚本町中",10,"群　馬"]
[null,null,null,105095,"ｵｵﾀｼﾘﾂｵｵﾀﾁｭｳｶﾞｯｺｳ","太田市立太田中学校","太田中",10,"群　馬"]
[null,null,null,105096,"ｵｵﾀｼﾘﾂｷﾀﾉﾓﾘｶﾞｸｴﾝ","太田市立北の杜学園","北の杜学園",10,"群　馬"]
[null,null,null,105097,"ｸﾞﾝﾏｺｸｻｲｱｶﾃﾞﾐｰ","ぐんま国際アカデミー","GKA",10,"群　馬"]
[null,null,null,105098,"ﾇﾏﾀｼﾘﾂﾇﾏﾀﾁｭｳｶﾞｯｺｳ","沼田市立沼田中学校","沼田中",10,"群　馬"]
[null,null,null,105099,"ﾇﾏﾀｼﾘﾂﾇﾏﾀﾐﾅﾐﾁｭｳｶﾞｯｺｳ","沼田市立沼田南中学校","沼田南中",10,"群　馬"]
[null,null,null,105100,"ﾇﾏﾀｼﾘﾂﾇﾏﾀﾆｼﾁｭｳｶﾞｯｺｳ","沼田市立沼田西中学校","沼田西中",10,"群　馬"]
[null,null,null,105101,"ﾇﾏﾀｼﾘﾂﾇﾏﾀﾋｶﾞｼﾁｭｳｶﾞｯｺｳ","沼田市立沼田東中学校","沼田東中",10,"群　馬"]
[null,null,null,105102,"ﾇﾏﾀｼﾘﾂｲｹﾀﾞﾁｭｳｶﾞｯｺｳ","沼田市立池田中学校","池田中",10,"群　馬"]
[null,null,null,105103,"ﾇﾏﾀｼﾘﾂｳｽﾈﾁｭｳｶﾞｯｺｳ","沼田市立薄根中学校","薄根中",10,"群　馬"]
[null,null,null,105104,"ﾇﾏﾀｼﾘﾂｼﾗｻﾜﾁｭｳｶﾞｯｺｳ","沼田市立白沢中学校","白沢中",10,"群　馬"]
[null,null,null,105105,"ﾇﾏﾀｼﾘﾂﾄﾈﾁｭｳｶﾞｯｺｳ","沼田市立利根中学校","利根中",10,"群　馬"]
[null,null,null,105106,"ﾇﾏﾀｼﾘﾂﾀﾅﾁｭｳｶﾞｯｺｳ","沼田市立多那中学校","多那中",10,"群　馬"]
[null,null,null,105107,"ﾀﾃﾊﾞﾔｼｼﾘﾂﾀﾞｲｲﾁﾁｭｳｶﾞｯｺｳ","館林市立第一中学校","館林第一中",10,"群　馬"]
[null,null,null,105108,"ﾀﾃﾊﾞﾔｼｼﾘﾂﾀﾞｲﾆﾁｭｳｶﾞｯｺｳ","館林市立第二中学校","館林第二中",10,"群　馬"]
[null,null,null,105109,"ﾀﾃﾊﾞﾔｼｼﾘﾂﾀﾞｲｻﾝﾁｭｳｶﾞｯｺｳ","館林市立第三中学校","館林第三中",10,"群　馬"]
[null,null,null,105110,"ﾀﾃﾊﾞﾔｼｼﾘﾂﾀﾞｲﾖﾝﾁｭｳｶﾞｯｺｳ","館林市立第四中学校","館林第四中",10,"群　馬"]
[null,null,null,105111,"ﾀﾃﾊﾞﾔｼｼﾘﾂﾀﾀﾗﾁｭｳｶﾞｯｺｳ","館林市立多々良中学校","多々良中",10,"群　馬"]
[null,null,null,105112,"ｼﾌﾞｶﾜｼﾘﾂｼﾌﾞｶﾜﾁｭｳｶﾞｯｺｳ","渋川市立渋川中学校","渋川中",10,"群　馬"]
[null,null,null,105113,"ｼﾌﾞｶﾜｼﾘﾂｷﾀﾁｭｳｶﾞｯｺｳ","渋川市立渋川北中学校","渋川北中",10,"群　馬"]
[null,null,null,105114,"ｼﾌﾞｶﾜｼﾘﾂｶﾅｼﾏﾁｭｳｶﾞｯｺｳ","渋川市立金島中学校","金島中",10,"群　馬"]
[null,null,null,105115,"ｼﾌﾞｶﾜｼﾘﾂﾌﾙﾏｷﾁｭｳｶﾞｯｺｳ","渋川市立古巻中学校","古巻中",10,"群　馬"]
[null,null,null,105116,"ｼﾆｶﾜｼﾘﾂｲｶﾎﾁｭｳｶﾞｯｺｳ","渋川市立伊香保中学校","伊香保中",10,"群　馬"]
[null,null,null,105117,"ｼﾌﾞｶﾜｼﾘﾂｺﾓﾁﾁｭｳｶﾞｯｺｳ","渋川市立子持中学校","子持中",10,"群　馬"]
[null,null,null,105118,"ｼﾌﾞｶﾜｼﾘﾂｱｶｷﾞﾐﾅﾐﾁｭｳｶﾞｯｺｳ","渋川市立赤城南中学校","赤城南中",10,"群　馬"]
[null,null,null,105119,"ｼﾌﾞｶﾜｼﾘﾂｱｶｷﾞｷﾀﾁｭｳｶﾞｯｺｳ","渋川市立赤城北中学校","赤城北中",10,"群　馬"]
[null,null,null,105120,"ｼﾌﾞｶﾜｼﾘﾂﾎｯｷﾂﾁｭｳｶﾞｯｺｳ","渋川市立北橘中学校","北橘中",10,"群　馬"]
[null,null,null,105121,"ｼﾝﾄｳｿﾝﾘﾂｼﾝﾄｳﾁｭｳｶﾞｯｺｳ","榛東村立榛東中学校","榛東中",10,"群　馬"]
[null,null,null,105122,"ﾖｼｵｶﾁｮｳﾘﾂﾖｼｵｶﾁｭｳｶﾞｯｺｳ","吉岡町立吉岡中学校","吉岡中",10,"群　馬"]
[null,null,null,105123,"ﾌｼﾞｵｶｼﾘﾂﾋｶﾞｼﾁｭｳｶﾞｯｺｳ","藤岡市立東中学校","藤岡東中",10,"群　馬"]
[null,null,null,105124,"ﾌｼﾞｵｶｼﾘﾂｷﾀﾁｭｳｶﾞｯｺｳ","藤岡市立北中学校","藤岡北中",10,"群　馬"]
[null,null,null,105125,"ﾌｼﾞｵｶｼﾘﾂｵﾉﾁｭｳｶﾞｯｺｳ","藤岡市立小野中学校","小野中",10,"群　馬"]
[null,null,null,105126,"ﾌｼﾞｵｶｼﾘﾂﾆｼﾁｭｳｶﾞｯｺｳ","藤岡市立西中学校","藤岡西中",10,"群　馬"]
[null,null,null,105127,"ﾌｼﾞｵｶｼﾘﾂｵﾆｼﾁｭｳｶﾞｯｺｳ","藤岡市立鬼石中学校","鬼石中",10,"群　馬"]
[null,null,null,105128,"ｳｴﾉｿﾝﾘﾂｳｴﾉﾁｭｳｶﾞｯｺｳ","上野村立上野中学校","上野中",10,"群　馬"]
[null,null,null,105129,"ﾅｶｻﾞﾄｿﾝﾘﾂﾅｶｻﾞﾄﾁｭｳｶﾞｯｺｳ","神流町立中里中学校","中里中",10,"群　馬"]
[null,null,null,105130,"ﾄﾐｵｶｼﾘﾂﾄﾐｵｶﾁｭｳｶﾞｯｺｳ","富岡市立富岡中学校","富岡中",10,"群　馬"]
[null,null,null,105131,"ﾄﾐｵｶｼﾘﾂﾋｶﾞｼﾁｭｳｶﾞｯｺｳ","富岡市立東中学校","富岡東中",10,"群　馬"]
[null,null,null,105132,"ﾄﾐｵｶｼﾘﾂﾆｼﾁｭｳｶﾞｯｺｳ","富岡市立西中学校","富岡西中",10,"群　馬"]
[null,null,null,105133,"ﾄﾐｵｶｼﾘﾂｷﾀﾁｭｳｶﾞｯｺｳ","富岡市立北中学校","富岡北中",10,"群　馬"]
[null,null,null,105134,"ﾄﾐｵｶｼﾘﾂﾐﾅﾐﾁｭｳｶﾞｯｺｳ","富岡市立南中学校","富岡南中",10,"群　馬"]
[null,null,null,105135,"ﾄﾐｵｶｼﾘﾂﾐｮｳｷﾞﾁｭｳｶﾞｯｺｳ","富岡市立妙義中学校","妙義中",10,"群　馬"]
[null,null,null,105136,"ｼﾓﾆﾀﾁｮｳﾘﾂｼﾓﾆﾀﾁｭｳｶﾞｯｺｳ","下仁田町立下仁田中学校","下仁田中",10,"群　馬"]
[null,null,null,105137,"ﾅﾝﾓｸｿﾝﾘﾂﾅﾝﾓｸﾁｭｳｶﾞｯｺｳ","南牧村立南牧中学校","南牧中",10,"群　馬"]
[null,null,null,105138,"ｶﾝﾗﾁｮｳﾘﾂｶﾝﾗﾁｭｳｶﾞｯｺｳﾁｭｳｶﾞｯｺｳ","甘楽町立甘楽中学校","甘楽中",10,"群　馬"]
[null,null,null,105139,"ｱﾝﾅｶｼﾘﾂﾀﾞｲｲﾁﾁｭｳｶﾞｯｺｳ","安中市立第一中学校","安中第一中",10,"群　馬"]
[null,null,null,105140,"ｱﾝﾅｶｼﾘﾂﾀﾞｲﾆﾁｭｳｶﾞｯｺｳ","安中市立第二中学校","安中第二中",10,"群　馬"]
[null,null,null,105141,"ｱﾝﾅｶｼﾘﾂﾏﾂｲﾀﾞｷﾀﾁｭｳｶﾞｯｺｳ","安中市立松井田北中学校","松井田北中",10,"群　馬"]
[null,null,null,105142,"ｱﾝﾅｶｼﾘﾂﾏﾂｲﾀﾞﾁｭｳｶﾞｯｺｳ","安中市立松井田中学校","松井田中",10,"群　馬"]
[null,null,null,105143,"ﾆｲｼﾞﾏｶﾞｸｴﾝﾁｭｳｶﾞｯｺｳ","新島学園中学校","新島学園中",10,"群　馬"]
[null,null,null,105144,"ﾅｶﾉｼﾞｮｳﾁｮｳﾘﾂﾅｶﾉｼﾞｮｳﾁｭｳｶﾞｯｺｳ","中之条町立中之条中学校","中之条中",10,"群　馬"]
[null,null,null,105145,"ｸﾆｿﾝﾘﾂｸﾆﾁｭｳｶﾞｯｺｳ","中之条町立六合中学校","六合中",10,"群　馬"]
[null,null,null,105146,"ﾅｶﾞﾉﾊﾗﾁｮｳﾘﾂﾋｶﾞｼﾁｭｳｶﾞｯｺｳ","長野原町立東中学校","長野原東中",10,"群　馬"]
[null,null,null,105147,"ﾅｶﾞﾉﾊﾗﾁｮｳﾘﾂﾆｼﾁｭｳｶﾞｯｺｳ","長野原町立西中学校","長野原西中",10,"群　馬"]
[null,null,null,105148,"ﾂﾏｺﾞｲｿﾝﾘﾂﾂﾏｺﾞｲﾁｭｳｶﾞｯｺｳ","嬬恋村立嬬恋中学校","嬬恋中",10,"群　馬"]
[null,null,null,105149,"ｸｻﾂﾁｮｳﾘﾂｸｻﾂﾁｭｳｶﾞｯｺｳ","草津町立草津中学校","草津中",10,"群　馬"]
[null,null,null,105150,"ﾀｶﾔﾏｿﾝﾘﾂﾀｶﾔﾏﾁｭｳｶﾞｯｺｳ","高山村立高山中学校","高山中",10,"群　馬"]
[null,null,null,105151,"ﾋｶﾞｼｱｶﾞﾂﾏﾁｮｳﾘﾂﾋｶﾞｼｱｶﾞﾂﾏﾁｭｳｶﾞｯｺｳ","東吾妻町立東吾妻中学校","東吾妻中",10,"群　馬"]
[null,null,null,105152,"かﾀｼﾅｿﾝﾘﾂｶﾀｼﾅﾁｭｳｶﾞｯｺｳ","片品村立片品中学校","片品中",10,"群　馬"]
[null,null,null,105153,"ｶﾜﾊﾞｿﾝﾘﾂｶﾜﾊﾞﾁｭｳｶﾞｯｺｳ","川場村立川場中学校","川場中",10,"群　馬"]
[null,null,null,105154,"ｼｮｳﾜｿﾝﾘﾂｼｮｳﾜﾁｭｳｶﾞｯｺｳ","昭和村立昭和中学校","昭和中",10,"群　馬"]
[null,null,null,105155,"ﾐﾅｶﾐﾁｮｳﾘﾂﾐﾅｶﾐﾁｭｳｶﾞｯｺｳ","みなかみ町立みなかみ中学校","みなかみ中",10,"群　馬"]
[null,null,null,105156,"ｲﾀｸﾗﾁｮｳﾘﾂｲﾀｸﾗﾁｭｳｶﾞｯｺｳ","板倉町立板倉中学校","板倉中",10,"群　馬"]
[null,null,null,105157,"ﾒｲﾜﾁｮｳﾘﾂﾒｲﾜﾁｭｳｶﾞｯｺｳ","明和町立明和中学校","明和中",10,"群　馬"]
[null,null,null,105158,"ﾁﾖﾀﾞﾁｮｳﾘﾂﾁﾖﾀﾞﾁｭｳｶﾞｯｺｳ","千代田町立千代田中学校","千代田中",10,"群　馬"]
[null,null,null,105159,"ｵｵｲｽﾞﾐﾁｮｳﾘﾂﾐﾅﾐﾁｭｳｶﾞｯｺｳ","大泉町立南中学校","大泉南中",10,"群　馬"]
[null,null,null,105160,"ｵｵｲｽﾞﾐﾁｮｳﾘﾂｷﾀﾁｭｳｶﾞｯｺｳ","大泉町立北中学校","大泉北中",10,"群　馬"]
[null,null,null,105161,"ｵｵｲｽﾞﾐﾁｮｳﾘﾂﾆｼﾁｭｳｶﾞｯｺｳ","大泉町立西中学校","大泉西中",10,"群　馬"]
[null,null,null,105162,"ｵｳﾗﾁｮｳﾘﾂｵｳﾗﾁｭｳｶﾞｯｺｳ","邑楽町立邑楽中学校","邑楽中",10,"群　馬"]
[null,null,null,105163,"ｵｳﾗﾁｮｳﾘﾂｵｳﾗﾐﾅﾐﾁｭｳｶﾞｯｺｳ","邑楽町立邑楽南中学校","邑楽南中",10,"群　馬"]
[null,null,null,109001,"ｼﾞｮｳﾌﾞﾀﾞｲ","上武大","上武大",10,"群　馬"]
[null,null,null,109002,"ｸﾞﾝﾏﾀﾞｲ","群馬大","群馬大",10,"群　馬"]
[null,null,null,109003,"ｶﾝｶﾞｸﾀﾞｲ","関学大","関東学園大",10,"群　馬"]
[null,null,null,109004,"ﾀｶｹﾀﾞｲ","高経大","高崎経済大",10,"群　馬"]
[null,null,null,109005,"ｼﾞｭﾝﾃﾝﾄﾞｳﾀﾞｲ","順天堂大","順天堂大",10,"群　馬"]
[null,null,null,109006,"ﾆｯﾀｲﾀﾞｲ","日体大","日体大",10,"群　馬"]
[null,null,null,109007,"ﾄｳｷｮｳｹｲｻﾞｲﾀﾞｲ","東経大","東京経済大",10,"群　馬"]
[null,null,null,109008,"ﾄｳｷｮｳｼﾞｮｳﾎｳﾀﾞｲ","東京情報大","東京情報大",10,"群　馬"]
[null,null,null,109009,"ﾄｳﾖｳﾀﾞｲ","東洋大","東洋大",10,"群　馬"]
[null,null,null,109010,"ﾆﾎﾝｼﾞｮｼﾀｲｲｸﾀﾞｲ","日女体大","日女体大",10,"群　馬"]
[null,null,null,109011,"ﾄｳｷｮｳｼﾞｮｼﾀｲｲｸﾀﾞｲ","東女体大","東女体大",10,"群　馬"]
[null,null,null,109012,"ﾄｳｷｮｳﾉｳﾀﾞｲ","東農大","東京農業大",10,"群　馬"]
[null,null,null,109013,"ﾎｳｾｲﾀﾞｲ","法政大","法政大",10,"群　馬"]
[null,null,null,109014,"ﾆﾎﾝﾀﾞｲｶﾞｸ","日　大","日本大",10,"群　馬"]
[null,null,null,109015,"ｺｸｻｲﾌﾞﾄﾞｳﾀﾞｲ","国武大","国際武道大",10,"群　馬"]
[null,null,null,109016,"ｺｸｼｶﾝﾀﾞｲ","国士舘大","国士舘大",10,"群　馬"]
[null,null,null,109017,"ﾄｳｶｲﾀﾞｲ","東海大","東海大",10,"群　馬"]
[null,null,null,109018,"ﾜｾﾀﾞﾀﾞｲｶﾞｸ","早　大","早稲田大",10,"群　馬"]
[null,null,null,109019,"ﾄｳｷｮｳｶﾞｸｹﾞｲﾀﾞｲ","東学大","東学大",10,"群　馬"]
[null,null,null,109020,"ｱｵﾔﾏｶﾞｸｲﾝﾀﾞｲ","青学大","青学大",10,"群　馬"]
[null,null,null,109021,"ｾﾝｼｭｳﾀﾞｲ","専修大","専修大",10,"群　馬"]
[null,null,null,109022,"ﾁｭｳｷｮｳｼﾞｮｼﾀﾞｲ","中京女大","中京女大",10,"群　馬"]
[null,null,null,109023,"ﾁｭｳｷｮｳﾀﾞｲ","中京大","中京大",10,"群　馬"]
[null,null,null,109024,"ﾂｸﾊﾞﾀﾞｲ","筑波大","筑波大",10,"群　馬"]
[null,null,null,109025,"ﾔﾏﾅｼｶﾞｸｲﾝﾀﾞｲ","山梨学院大","山梨学院大",10,"群　馬"]
[null,null,null,109026,"ｽﾙｶﾞﾀﾞｲﾀﾞｲ","駿河台大","駿河台大",10,"群　馬"]
[null,null,null,109027,"ｼﾞｮｳｻｲﾀﾞｲ","城西大","城西大",10,"群　馬"]
[null,null,null,109028,"ﾀﾏｶﾞﾜﾀﾞｲ","玉川大","玉川大",10,"群　馬"]
[null,null,null,109029,"ｾｲﾜﾀﾞｲ","清和大","清和大",10,"群　馬"]
[null,null,null,109030,"ｺﾏｻﾞﾜﾀﾞｲ","駒沢大","駒沢大",10,"群　馬"]
[null,null,null,109031,"ﾄﾞｯｷｮｳﾀﾞｲ","獨協大","獨協大",10,"群　馬"]
[null,null,null,109032,"ｱｼﾞｱﾀﾞｲ","亜細亜大","亜細亜大",10,"群　馬"]
[null,null,null,109033,"ﾘｭｳﾂｳｹｲｻﾞｲﾀﾞｲ","流通経済大","流通経済大",10,"群　馬"]
[null,null,null,109034,"ﾁｭｳｵｳﾀﾞｲ","中央大","中央大",10,"群　馬"]
[null,null,null,109035,"ﾌｸｼﾏﾀﾞｲ","福島大","福島大",10,"群　馬"]
[null,null,null,109036,"ﾀﾞｲﾄｳﾀﾞｲ","大東大","大東大",10,"群　馬"]
[null,null,null,109037,"ｶﾅｻﾞﾜｹｲｻﾞｲﾀﾞｲ","金沢経大","金沢経大",10,"群　馬"]
[null,null,null,109038,"ｵｵｻｶﾀｲｲｸﾀﾞｲ","大体大","大体大",10,"群　馬"]
[null,null,null,109039,"ﾆﾎﾝｺｳｷﾞｮｳﾀﾞｲ","日工大","日工大",10,"群　馬"]
[null,null,null,109040,"ﾒｲｼﾞﾀﾞｲ","明治大","明治大",10,"群　馬"]
[null,null,null,109041,"ｻｸｼﾝｶﾞｸｴﾝﾀﾞｲ","作新学院大","作新学院大",10,"群　馬"]
[null,null,null,109042,"ﾍｲｾｲｺｸｻｲﾀﾞｲ","平成国際大","平成国際大",10,"群　馬"]
[null,null,null,109043,"ｺｸｶﾞｸｲﾝﾀﾞｲ","国学院大","国学院大",10,"群　馬"]
[null,null,null,109044,"ﾄﾔﾏﾀﾞｲ","富山大学","富山大",10,"群　馬"]
[null,null,null,109045,"ﾏｴﾊﾞｼｺｸｻｲﾀﾞｲ","前橋国際大","前橋国際大",10,"群　馬"]
[null,null,null,109046,"ﾄｳｷｮｳﾌｸｼﾀﾞｲ","東京福祉大","東京福祉大",10,"群　馬"]
[null,null,null,109047,"ｺｸｶﾞｸｲﾝﾀﾞｲ","国学院大","国学院大",10,"群　馬"]
[null,null,null,109048,"ﾌｸｵｶﾀﾞｲ","福岡大","福岡大",10,"群　馬"]
[null,null,null,109049,"ｹｲｵｳﾀﾞｲ","慶應大","慶應大",10,"群　馬"]
[null,null,null,109050,"ﾘｯｷｮｳﾀﾞｲ","立教大","立教大",10,"群　馬"]
[null,null,null,109051,"ﾘﾂﾒｲｶﾝﾀﾞｲ","立命館大","立命館大",10,"群　馬"]
[null,null,null,109052,"ｶﾅｶﾞﾜﾀﾞｲ","神奈川大","神奈川大",10,"群　馬"]
[null,null,null,109053,"ﾄｳｷｮｳﾀﾞｲ","東京大","東京大",10,"群　馬"]
[null,null,null,109054,"ｲﾜｷﾒｲｾｲﾀﾞｲ","いわき明星大","いわき明星大",10,"群　馬"]
[null,null,null,109055,"ｼﾞｮｳｴﾂｷｮｳｲｸﾀﾞｲ","上越教育大学","上越教育大",10,"群　馬"]
[null,null,null,109056,"ﾘｯｼｮｳﾀﾞｲ","立正大学","立正大",10,"群　馬"]
[null,null,null,109057,"ﾁﾊﾞｼｮｳｶﾀﾞｲ","千葉商科大","千葉商科大",10,"群　馬"]
[null,null,null,109058,"ﾄｳｷｮｳﾀﾞｲﾀﾞｲｶﾞｸｲﾝ","東京大大学院","東京大大学院",10,"群　馬"]
[null,null,null,109059,"ﾃﾞﾝｷﾂｳｼﾝﾀﾞｲ","電気通信大学","電通大",10,"群　馬"]
[null,null,null,109060,"ｾﾝﾀﾞｲﾀﾞｲ","仙台大","仙台大",10,"群　馬"]
[null,null,null,109061,"ﾄｳｷｮｳﾘｶﾀﾞｲ","東京理科大","東京理科大",10,"群　馬"]
[null,null,null,109062,"ﾎｯｶｲﾄﾞｳﾀﾞｲ","北海道大","北海道大",10,"群　馬"]
[null,null,null,109063,"ｼﾞｮｳｻｲｺｸｻｲﾀﾞｲ","城西国際大","城西国際大",10,"群　馬"]
[null,null,null,109064,"ﾊｸｵｳﾀﾞｲ","白鴎大","白鴎大",10,"群　馬"]
[null,null,null,109065,"ﾆｲｶﾞﾀﾀﾞｲ","新潟大","新潟大",10,"群　馬"]
[null,null,null,109066,"ﾌﾞﾝｷｮｳﾀﾞｲ","文教大","文教大",10,"群　馬"]
[null,null,null,109067,"ｱｷﾀﾀﾞｲ","秋田大","秋田大",10,"群　馬"]
[null,null,null,109068,"ﾆﾁﾀﾞｲｺｳｶﾞｸﾌﾞ","日大工学部","日大工学部",10,"群　馬"]
[null,null,null,109069,"ｶﾉﾔﾀｲｲｸﾀﾞｲ","鹿屋体育大","鹿屋体育大",10,"群　馬"]
[null,null,null,109070,"ｺｸｼｶﾝﾀﾞｲﾀﾞｲｶﾞｸｲﾝ","国士舘大大学院","国士舘大大学院",10,"群　馬"]
[null,null,null,109071,"ﾃｲｷｮｳﾀﾞｲ","帝京大","帝京大",10,"群　馬"]
[null,null,null,109072,"ﾂﾙﾌﾞﾝｶﾀﾞｲ","都留文科大","都留文科大",10,"群　馬"]
[null,null,null,109073,"ｿｳｿﾞｳｶﾞｸｴﾝﾀﾞｲ","創造学園大","創造学園大",10,"群　馬"]
[null,null,null,109074,"ﾆﾎﾝｳｪﾙﾈｽ","日本ウェルネス","日本ウェルネス",10,"群　馬"]
[null,null,null,109075,"ｸﾞﾝﾏﾀﾞｲｲｶﾞｸﾌﾞ","群馬大医学部","群馬大医学部",10,"群　馬"]
[null,null,null,109076,"ﾆｲｶﾞﾀｲﾘｮｳﾌｸｼﾀﾞｲ","新潟医療福祉大","新潟医療福祉大",10,"群　馬"]
[null,null,null,109077,"ﾑｻｼﾀﾞｲ","武蔵大","武蔵大",10,"群　馬"]
[null,null,null,109078,"ﾄｳｷｮｳﾌｸｼﾀﾞｲ","東京福祉大","東京福祉大",10,"群　馬"]
[null,null,null,109079,"ｳﾂﾉﾐﾔﾀﾞｲ","宇都宮大","宇都宮大",10,"群　馬"]
[null,null,null,109080,"ｻｲﾀﾏﾀﾞｲ","埼玉大","埼玉大",10,"群　馬"]
[null,null,null,109081,"ｵｵｻｶﾀﾞｲ","大阪大","大阪大",10,"群　馬"]
[null,null,null,109082,"ｵｵｻｶﾀｲｲｸﾀﾞｲ","大体大","大体大",10,"群　馬"]
[null,null,null,109083,"ﾁﾊﾞﾀﾞｲ","千葉大","千葉大",10,"群　馬"]
[null,null,null,109084,"ﾄﾞｳｼｼｬﾀﾞｲ","同志社大","同志社大",10,"群　馬"]
[null,null,null,109085,"ﾒｲｼﾞｶﾞｸｲﾝﾀﾞｲ","明治学院大","明治学院大",10,"群　馬"]
[null,null,null,109086,"ｼﾊﾞｳﾗｺｳｷﾞｮｳﾀﾞｲ","芝浦工業大","芝浦工業大",10,"群　馬"]
[null,null,null,109087,"ｲｸｴｲﾀﾞｲ","育英大","育英大",10,"群　馬"]
[null,null,null,109088,"ｶﾞｸｼｭｳｲﾝﾀﾞｲ","学習院大","学習院大",10,"群　馬"]
[null,null,null,109089,"ｶﾜﾑﾗｶﾞｸｴﾝｼﾞｮｼﾀﾞｲ","川村学園女大","川村学園女大",10,"群  馬"]
[null,null,null,109090,"ｷｮｳﾄﾀﾞｲ","京都大","京都大",10,"群  馬"]
[null,null,null,109091,"ﾑｻｼﾉｶﾞｸｲﾝﾀﾞｲ","武蔵野学院大","武蔵野学院大",10,"群  馬"]
[null,null,null,109092,"ｵｳﾋﾞﾘﾝﾀﾞｲ","桜美林大","桜美林大",10,"群  馬"]
[null,null,null,109093,"ﾄﾞｳｼｼｬｼﾞｮﾀﾞｲ","同志社女大","同志社女大",10,"群  馬"]
[null,null,null,109094,"ﾅｺﾞﾔﾀﾞｲ","名古屋大","名古屋大",10,"群  馬"]
[null,null,null,109095,"ｵｵｻｶｷｮｳｲｸﾀﾞｲ","大阪教育大","大阪教育大",10,"群  馬"]
[null,null,null,109096,"ﾄｳﾎｸﾀﾞｲ","東北大","東北大",10,"群  馬"]
[null,null,null,109097,"ﾀｶｻｷｹﾝｺｳﾌｸｼﾀﾞｲ","高崎健康福祉大","高崎健康福祉大",10,"群  馬"]
[null,null,null,109098,"ｾｲｶﾞｸｲﾝﾀﾞｲ","聖学院大","聖学院大",10,"群  馬"]
[null,null,null,109099,"ｻｯﾎﾟﾛｺｸｻｲﾀﾞｲ","札幌国際大","札幌国際大",10,"群  馬"]
[null,null,null,109100,"ｶﾅｻﾞﾜﾀﾞｲ","金沢大","金沢大",10,"群  馬"]
[null,null,null,109101,"ﾂﾀﾞｼﾞｭｸﾀﾞｲ","津田塾大","津田塾大",10,"群  馬"]
[null,null,null,109102,"ｶﾝｾｲｶﾞｸｲﾝﾀﾞｲ","関西学院大","関西学院大",10,"群  馬"]
[null,null,null,109103,"ｼｮｳﾅﾝｺｳｶﾀﾞｲ","湘南工科大","湘南工科大",10,"群  馬"]
[null,null,null,109104,"ｶﾅｶﾞﾜｺｳｶﾀﾞｲ","神奈川工科大","神奈川工科大",10,"群  馬"]
[null,null,null,109105,"ﾌﾞｯｷｮｳﾀﾞｲ","佛教大","佛教大",10,"群  馬"]
[null,null,null,109999,"群馬陸協処理不能","群馬陸協処理不能","群馬陸協処理不能",10,"群　馬"]
[null,null,null,110005,"ｸﾚｰﾏｰTC","ｸﾚｰﾏｰTC","ｸﾚｰﾏｰTC",11,"埼　玉"]
[null,null,null,110006,"ﾄｳｼﾊﾞﾏﾂｼﾀ","東芝松下","東芝松下",11,"埼　玉"]
[null,null,null,110011,"ｸﾏｶﾞﾔﾋｶﾞｼﾁｭｳ","熊谷東中","熊谷東中",11,"埼　玉"]
[null,null,null,113001,"ﾊﾄﾔﾏｺｳ","鳩山高","鳩山高",11,"埼　玉"]
[null,null,null,113002,"ｶﾜｺﾞｴﾋｶﾞｼｺｳ","川越東高","川越東高",11,"埼　玉"]
[null,null,null,119074,"ﾆﾎﾝｳｴﾙﾈｽ","日本ウェルネス専門","日本ウェルネス専門",11,"埼　玉"]
[null,null,null,120001,"ﾘｰﾀﾞｰｽｸﾗﾌﾞ","ﾘｰﾀﾞｰｽﾞｸﾗﾌﾞ","ﾘｰﾀﾞｰｽﾞｸﾗﾌﾞ",12,"千　葉"]
[null,null,null,123001,"ｲﾁｶﾜｺｳ","市川高","市川高",12,"千　葉"]
[null,null,null,130000,"ﾄｳｷｮｳﾘｯｷｮｳ","東京陸協","東京陸協",13,"東　京"]
[null,null,null,130001,"J.VIC","J.VIC","J.VIC",13,"東　京"]
[null,null,null,150001,"ﾅｶﾞｵｶｼﾘｯｷｮｳ","長岡市陸協","長岡市陸協",15,"新  潟"]
[null,null,null,159065,"ﾆｲｶﾞﾀﾀﾞｲ","新潟大","新潟大",15,"新  潟"]
[null,null,null,190001,"ﾔﾏﾅｼﾀﾞｲAC","山梨大AC","山梨大AC",19,"山  梨"]
[null,null,null,209002,"ｸﾞﾝﾏﾀﾞｲ","群馬大","群馬大",20,"長  野"]
[null,null,null,209003,"ｼﾝｼｭｳﾀﾞｲ","信州大","信州大",20,"長  野"]
[null,null,null,220003,"ｽｽﾞｷ","スズキ","スズキ",22,"静　岡"]
[null,null,null,239009,"ﾄｳﾖｳﾀﾞｲ","東洋大","東洋大",23,"愛  知"]
[null,null,null,279002,"ｸﾞﾝﾏﾀﾞｲ","群馬大","群馬大",27,"大　阪"]
[null,null,null,279003,"ｵｵｻｶﾀﾞｲ","大阪大","大阪大",27,"大　阪"]
[null,null,null,999990,"ﾐﾅﾐｽｰﾀﾞﾝ","南スーダン","南スーダン",10,"群　馬"]
[null,null,null,999999,"ｸﾞﾝﾏｶｸﾀｽｸﾗﾌﾞ","群馬ｶｸﾀｽｸﾗﾌﾞ","群馬ｶｸﾀｽｸﾗﾌﾞ",10,"群　馬"]

{"sheet":"DAT","index":5,"n_rows":92,"n_cols":19,"rows_kept":92,"cut":false,"hidden":false,"merged":[]}
["DB","N1","N2","SX","KC","MC","ZK","S1","S2","S3",null,"4R","16R","32R",null,"N3","SX2","NT","GD"]
[null,{"$f":"IF(申込一覧表A!B7=\"\",\"\",IF(申込一覧表A!C7=\"\",申込一覧表A!B7,申込一覧表A!B7&\"(\"&申込一覧表A!C7&\")\"))","v":""},{"$f":"IF(申込一覧表A!D7=\"\",\"\",申込一覧表A!D7)","v":""},{"$f":"IF(申込一覧表A!F7=\"\",\"\",申込一覧表A!F7)","v":""},10,{"$f":"IF(申込一覧表A!Y7=\"\",\"\",申込一覧表A!Y7)","v":100000},{"$f":"IF(申込一覧表A!I7=\"\",\"\",申込一覧表A!I7)","v":""},{"$f":"IF(申込一覧表A!M7=\"\",\"\",申込一覧表A!M7&\" \"&申込一覧表A!O7)","v":""},{"$f":"IF(申込一覧表A!Q7=\"\",\"\",申込一覧表A!Q7&\" \"&申込一覧表A!S7)","v":""},{"$f":"IF(申込一覧表A!U7=\"\",\"\",申込一覧表A!U7&\" \"&申込一覧表A!W7)","v":""},null,{"$f":"IF(申込一覧表A!J7=\"\",\"\",\"0\"&申込一覧表A!J7)","v":""},{"$f":"IF(申込一覧表A!K7=\"\",\"\",申込一覧表A!K7)","v":""},{"$f":"IF(申込一覧表A!L7=\"\",\"\",申込一覧表A!L7)","v":""},null,{"$f":"IF(申込一覧表A!E7=\"\",\"\",申込一覧表A!E7)","v":""},{"$f":"IF(D2=\"\",\"\",IF(D2=1,\"m\",\"f\"))","v":""},{"$f":"IF(申込一覧表A!G7=\"\",\"\",申込一覧表A!G7)","v":""},{"$f":"IF(申込一覧表A!H7=\"\",\"\",申込一覧表A!H7)","v":""}]
[null,{"$f":"IF(申込一覧表A!B8=\"\",\"\",IF(申込一覧表A!C8=\"\",申込一覧表A!B8,申込一覧表A!B8&\"(\"&申込一覧表A!C8&\")\"))","v":""},{"$f":"IF(申込一覧表A!D8=\"\",\"\",申込一覧表A!D8)","v":""},{"$f":"IF(申込一覧表A!F8=\"\",\"\",申込一覧表A!F8)","v":""},10,{"$f":"IF(申込一覧表A!Y8=\"\",\"\",申込一覧表A!Y8)","v":100000},{"$f":"IF(申込一覧表A!I8=\"\",\"\",申込一覧表A!I8)","v":""},{"$f":"IF(申込一覧表A!M8=\"\",\"\",申込一覧表A!M8&\" \"&申込一覧表A!O8)","v":""},{"$f":"IF(申込一覧表A!Q8=\"\",\"\",申込一覧表A!Q8&\" \"&申込一覧表A!S8)","v":""},{"$f":"IF(申込一覧表A!U8=\"\",\"\",申込一覧表A!U8&\" \"&申込一覧表A!W8)","v":""},null,{"$f":"IF(申込一覧表A!J8=\"\",\"\",\"0\"&申込一覧表A!J8)","v":""},{"$f":"IF(申込一覧表A!K8=\"\",\"\",申込一覧表A!K8)","v":""},{"$f":"IF(申込一覧表A!L8=\"\",\"\",申込一覧表A!L8)","v":""},null,{"$f":"IF(申込一覧表A!E8=\"\",\"\",申込一覧表A!E8)","v":""},"",{"$f":"IF(申込一覧表A!G8=\"\",\"\",申込一覧表A!G8)","v":""},{"$f":"IF(申込一覧表A!H8=\"\",\"\",申込一覧表A!H8)","v":""}]
[null,{"$f":"IF(申込一覧表A!B9=\"\",\"\",IF(申込一覧表A!C9=\"\",申込一覧表A!B9,申込一覧表A!B9&\"(\"&申込一覧表A!C9&\")\"))","v":""},{"$f":"IF(申込一覧表A!D9=\"\",\"\",申込一覧表A!D9)","v":""},{"$f":"IF(申込一覧表A!F9=\"\",\"\",申込一覧表A!F9)","v":""},10,{"$f":"IF(申込一覧表A!Y9=\"\",\"\",申込一覧表A!Y9)","v":100000},{"$f":"IF(申込一覧表A!I9=\"\",\"\",申込一覧表A!I9)","v":""},{"$f":"IF(申込一覧表A!M9=\"\",\"\",申込一覧表A!M9&\" \"&申込一覧表A!O9)","v":""},{"$f":"IF(申込一覧表A!Q9=\"\",\"\",申込一覧表A!Q9&\" \"&申込一覧表A!S9)","v":""},{"$f":"IF(申込一覧表A!U9=\"\",\"\",申込一覧表A!U9&\" \"&申込一覧表A!W9)","v":""},null,{"$f":"IF(申込一覧表A!J9=\"\",\"\",\"0\"&申込一覧表A!J9)","v":""},{"$f":"IF(申込一覧表A!K9=\"\",\"\",申込一覧表A!K9)","v":""},{"$f":"IF(申込一覧表A!L9=\"\",\"\",申込一覧表A!L9)","v":""},null,{"$f":"IF(申込一覧表A!E9=\"\",\"\",申込一覧表A!E9)","v":""},"",{"$f":"IF(申込一覧表A!G9=\"\",\"\",申込一覧表A!G9)","v":""},{"$f":"IF(申込一覧表A!H9=\"\",\"\",申込一覧表A!H9)","v":""}]
[null,{"$f":"IF(申込一覧表A!B10=\"\",\"\",IF(申込一覧表A!C10=\"\",申込一覧表A!B10,申込一覧表A!B10&\"(\"&申込一覧表A!C10&\")\"))","v":""},{"$f":"IF(申込一覧表A!D10=\"\",\"\",申込一覧表A!D10)","v":""},{"$f":"IF(申込一覧表A!F10=\"\",\"\",申込一覧表A!F10)","v":""},10,{"$f":"IF(申込一覧表A!Y10=\"\",\"\",申込一覧表A!Y10)","v":100000},{"$f":"IF(申込一覧表A!I10=\"\",\"\",申込一覧表A!I10)","v":""},{"$f":"IF(申込一覧表A!M10=\"\",\"\",申込一覧表A!M10&\" \"&申込一覧表A!O10)","v":""},{"$f":"IF(申込一覧表A!Q10=\"\",\"\",申込一覧表A!Q10&\" \"&申込一覧表A!S10)","v":""},{"$f":"IF(申込一覧表A!U10=\"\",\"\",申込一覧表A!U10&\" \"&申込一覧表A!W10)","v":""},null,{"$f":"IF(申込一覧表A!J10=\"\",\"\",\"0\"&申込一覧表A!J10)","v":""},{"$f":"IF(申込一覧表A!K10=\"\",\"\",申込一覧表A!K10)","v":""},{"$f":"IF(申込一覧表A!L10=\"\",\"\",申込一覧表A!L10)","v":""},null,{"$f":"IF(申込一覧表A!E10=\"\",\"\",申込一覧表A!E10)","v":""},"",{"$f":"IF(申込一覧表A!G10=\"\",\"\",申込一覧表A!G10)","v":""},{"$f":"IF(申込一覧表A!H10=\"\",\"\",申込一覧表A!H10)","v":""}]
[null,{"$f":"IF(申込一覧表A!B11=\"\",\"\",IF(申込一覧表A!C11=\"\",申込一覧表A!B11,申込一覧表A!B11&\"(\"&申込一覧表A!C11&\")\"))","v":""},{"$f":"IF(申込一覧表A!D11=\"\",\"\",申込一覧表A!D11)","v":""},{"$f":"IF(申込一覧表A!F11=\"\",\"\",申込一覧表A!F11)","v":""},10,{"$f":"IF(申込一覧表A!Y11=\"\",\"\",申込一覧表A!Y11)","v":100000},{"$f":"IF(申込一覧表A!I11=\"\",\"\",申込一覧表A!I11)","v":""},{"$f":"IF(申込一覧表A!M11=\"\",\"\",申込一覧表A!M11&\" \"&申込一覧表A!O11)","v":""},{"$f":"IF(申込一覧表A!Q11=\"\",\"\",申込一覧表A!Q11&\" \"&申込一覧表A!S11)","v":""},{"$f":"IF(申込一覧表A!U11=\"\",\"\",申込一覧表A!U11&\" \"&申込一覧表A!W11)","v":""},null,{"$f":"IF(申込一覧表A!J11=\"\",\"\",\"0\"&申込一覧表A!J11)","v":""},{"$f":"IF(申込一覧表A!K11=\"\",\"\",申込一覧表A!K11)","v":""},{"$f":"IF(申込一覧表A!L11=\"\",\"\",申込一覧表A!L11)","v":""},null,{"$f":"IF(申込一覧表A!E11=\"\",\"\",申込一覧表A!E11)","v":""},"",{"$f":"IF(申込一覧表A!G11=\"\",\"\",申込一覧表A!G11)","v":""},{"$f":"IF(申込一覧表A!H11=\"\",\"\",申込一覧表A!H11)","v":""}]
[null,{"$f":"IF(申込一覧表A!B12=\"\",\"\",IF(申込一覧表A!C12=\"\",申込一覧表A!B12,申込一覧表A!B12&\"(\"&申込一覧表A!C12&\")\"))","v":""},{"$f":"IF(申込一覧表A!D12=\"\",\"\",申込一覧表A!D12)","v":""},{"$f":"IF(申込一覧表A!F12=\"\",\"\",申込一覧表A!F12)","v":""},10,{"$f":"IF(申込一覧表A!Y12=\"\",\"\",申込一覧表A!Y12)","v":100000},{"$f":"IF(申込一覧表A!I12=\"\",\"\",申込一覧表A!I12)","v":""},{"$f":"IF(申込一覧表A!M12=\"\",\"\",申込一覧表A!M12&\" \"&申込一覧表A!O12)","v":""},{"$f":"IF(申込一覧表A!Q12=\"\",\"\",申込一覧表A!Q12&\" \"&申込一覧表A!S12)","v":""},{"$f":"IF(申込一覧表A!U12=\"\",\"\",申込一覧表A!U12&\" \"&申込一覧表A!W12)","v":""},null,{"$f":"IF(申込一覧表A!J12=\"\",\"\",\"0\"&申込一覧表A!J12)","v":""},{"$f":"IF(申込一覧表A!K12=\"\",\"\",申込一覧表A!K12)","v":""},{"$f":"IF(申込一覧表A!L12=\"\",\"\",申込一覧表A!L12)","v":""},null,{"$f":"IF(申込一覧表A!E12=\"\",\"\",申込一覧表A!E12)","v":""},"",{"$f":"IF(申込一覧表A!G12=\"\",\"\",申込一覧表A!G12)","v":""},{"$f":"IF(申込一覧表A!H12=\"\",\"\",申込一覧表A!H12)","v":""}]
[null,{"$f":"IF(申込一覧表A!B13=\"\",\"\",IF(申込一覧表A!C13=\"\",申込一覧表A!B13,申込一覧表A!B13&\"(\"&申込一覧表A!C13&\")\"))","v":""},{"$f":"IF(申込一覧表A!D13=\"\",\"\",申込一覧表A!D13)","v":""},{"$f":"IF(申込一覧表A!F13=\"\",\"\",申込一覧表A!F13)","v":""},10,{"$f":"IF(申込一覧表A!Y13=\"\",\"\",申込一覧表A!Y13)","v":100000},{"$f":"IF(申込一覧表A!I13=\"\",\"\",申込一覧表A!I13)","v":""},{"$f":"IF(申込一覧表A!M13=\"\",\"\",申込一覧表A!M13&\" \"&申込一覧表A!O13)","v":""},{"$f":"IF(申込一覧表A!Q13=\"\",\"\",申込一覧表A!Q13&\" \"&申込一覧表A!S13)","v":""},{"$f":"IF(申込一覧表A!U13=\"\",\"\",申込一覧表A!U13&\" \"&申込一覧表A!W13)","v":""},null,{"$f":"IF(申込一覧表A!J13=\"\",\"\",\"0\"&申込一覧表A!J13)","v":""},{"$f":"IF(申込一覧表A!K13=\"\",\"\",申込一覧表A!K13)","v":""},{"$f":"IF(申込一覧表A!L13=\"\",\"\",申込一覧表A!L13)","v":""},null,{"$f":"IF(申込一覧表A!E13=\"\",\"\",申込一覧表A!E13)","v":""},"",{"$f":"IF(申込一覧表A!G13=\"\",\"\",申込一覧表A!G13)","v":""},{"$f":"IF(申込一覧表A!H13=\"\",\"\",申込一覧表A!H13)","v":""}]
[null,{"$f":"IF(申込一覧表A!B14=\"\",\"\",IF(申込一覧表A!C14=\"\",申込一覧表A!B14,申込一覧表A!B14&\"(\"&申込一覧表A!C14&\")\"))","v":""},{"$f":"IF(申込一覧表A!D14=\"\",\"\",申込一覧表A!D14)","v":""},{"$f":"IF(申込一覧表A!F14=\"\",\"\",申込一覧表A!F14)","v":""},10,{"$f":"IF(申込一覧表A!Y14=\"\",\"\",申込一覧表A!Y14)","v":100000},{"$f":"IF(申込一覧表A!I14=\"\",\"\",申込一覧表A!I14)","v":""},{"$f":"IF(申込一覧表A!M14=\"\",\"\",申込一覧表A!M14&\" \"&申込一覧表A!O14)","v":""},{"$f":"IF(申込一覧表A!Q14=\"\",\"\",申込一覧表A!Q14&\" \"&申込一覧表A!S14)","v":""},{"$f":"IF(申込一覧表A!U14=\"\",\"\",申込一覧表A!U14&\" \"&申込一覧表A!W14)","v":""},null,{"$f":"IF(申込一覧表A!J14=\"\",\"\",\"0\"&申込一覧表A!J14)","v":""},{"$f":"IF(申込一覧表A!K14=\"\",\"\",申込一覧表A!K14)","v":""},{"$f":"IF(申込一覧表A!L14=\"\",\"\",申込一覧表A!L14)","v":""},null,{"$f":"IF(申込一覧表A!E14=\"\",\"\",申込一覧表A!E14)","v":""},"",{"$f":"IF(申込一覧表A!G14=\"\",\"\",申込一覧表A!G14)","v":""},{"$f":"IF(申込一覧表A!H14=\"\",\"\",申込一覧表A!H14)","v":""}]
[null,{"$f":"IF(申込一覧表A!B15=\"\",\"\",IF(申込一覧表A!C15=\"\",申込一覧表A!B15,申込一覧表A!B15&\"(\"&申込一覧表A!C15&\")\"))","v":""},{"$f":"IF(申込一覧表A!D15=\"\",\"\",申込一覧表A!D15)","v":""},{"$f":"IF(申込一覧表A!F15=\"\",\"\",申込一覧表A!F15)","v":""},10,{"$f":"IF(申込一覧表A!Y15=\"\",\"\",申込一覧表A!Y15)","v":100000},{"$f":"IF(申込一覧表A!I15=\"\",\"\",申込一覧表A!I15)","v":""},{"$f":"IF(申込一覧表A!M15=\"\",\"\",申込一覧表A!M15&\" \"&申込一覧表A!O15)","v":""},{"$f":"IF(申込一覧表A!Q15=\"\",\"\",申込一覧表A!Q15&\" \"&申込一覧表A!S15)","v":""},{"$f":"IF(申込一覧表A!U15=\"\",\"\",申込一覧表A!U15&\" \"&申込一覧表A!W15)","v":""},null,{"$f":"IF(申込一覧表A!J15=\"\",\"\",\"0\"&申込一覧表A!J15)","v":""},{"$f":"IF(申込一覧表A!K15=\"\",\"\",申込一覧表A!K15)","v":""},{"$f":"IF(申込一覧表A!L15=\"\",\"\",申込一覧表A!L15)","v":""},null,{"$f":"IF(申込一覧表A!E15=\"\",\"\",申込一覧表A!E15)","v":""},"",{"$f":"IF(申込一覧表A!G15=\"\",\"\",申込一覧表A!G15)","v":""},{"$f":"IF(申込一覧表A!H15=\"\",\"\",申込一覧表A!H15)","v":""}]
[null,{"$f":"IF(申込一覧表A!B16=\"\",\"\",IF(申込一覧表A!C16=\"\",申込一覧表A!B16,申込一覧表A!B16&\"(\"&申込一覧表A!C16&\")\"))","v":""},{"$f":"IF(申込一覧表A!D16=\"\",\"\",申込一覧表A!D16)","v":""},{"$f":"IF(申込一覧表A!F16=\"\",\"\",申込一覧表A!F16)","v":""},10,{"$f":"IF(申込一覧表A!Y16=\"\",\"\",申込一覧表A!Y16)","v":100000},{"$f":"IF(申込一覧表A!I16=\"\",\"\",申込一覧表A!I16)","v":""},{"$f":"IF(申込一覧表A!M16=\"\",\"\",申込一覧表A!M16&\" \"&申込一覧表A!O16)","v":""},{"$f":"IF(申込一覧表A!Q16=\"\",\"\",申込一覧表A!Q16&\" \"&申込一覧表A!S16)","v":""},{"$f":"IF(申込一覧表A!U16=\"\",\"\",申込一覧表A!U16&\" \"&申込一覧表A!W16)","v":""},null,{"$f":"IF(申込一覧表A!J16=\"\",\"\",\"0\"&申込一覧表A!J16)","v":""},{"$f":"IF(申込一覧表A!K16=\"\",\"\",申込一覧表A!K16)","v":""},{"$f":"IF(申込一覧表A!L16=\"\",\"\",申込一覧表A!L16)","v":""},null,{"$f":"IF(申込一覧表A!E16=\"\",\"\",申込一覧表A!E16)","v":""},"",{"$f":"IF(申込一覧表A!G16=\"\",\"\",申込一覧表A!G16)","v":""},{"$f":"IF(申込一覧表A!H16=\"\",\"\",申込一覧表A!H16)","v":""}]
[null,{"$f":"IF(申込一覧表A!B17=\"\",\"\",IF(申込一覧表A!C17=\"\",申込一覧表A!B17,申込一覧表A!B17&\"(\"&申込一覧表A!C17&\")\"))","v":""},{"$f":"IF(申込一覧表A!D17=\"\",\"\",申込一覧表A!D17)","v":""},{"$f":"IF(申込一覧表A!F17=\"\",\"\",申込一覧表A!F17)","v":""},10,{"$f":"IF(申込一覧表A!Y17=\"\",\"\",申込一覧表A!Y17)","v":100000},{"$f":"IF(申込一覧表A!I17=\"\",\"\",申込一覧表A!I17)","v":""},{"$f":"IF(申込一覧表A!M17=\"\",\"\",申込一覧表A!M17&\" \"&申込一覧表A!O17)","v":""},{"$f":"IF(申込一覧表A!Q17=\"\",\"\",申込一覧表A!Q17&\" \"&申込一覧表A!S17)","v":""},{"$f":"IF(申込一覧表A!U17=\"\",\"\",申込一覧表A!U17&\" \"&申込一覧表A!W17)","v":""},null,{"$f":"IF(申込一覧表A!J17=\"\",\"\",\"0\"&申込一覧表A!J17)","v":""},{"$f":"IF(申込一覧表A!K17=\"\",\"\",申込一覧表A!K17)","v":""},{"$f":"IF(申込一覧表A!L17=\"\",\"\",申込一覧表A!L17)","v":""},null,{"$f":"IF(申込一覧表A!E17=\"\",\"\",申込一覧表A!E17)","v":""},"",{"$f":"IF(申込一覧表A!G17=\"\",\"\",申込一覧表A!G17)","v":""},{"$f":"IF(申込一覧表A!H17=\"\",\"\",申込一覧表A!H17)","v":""}]
[null,{"$f":"IF(申込一覧表A!B18=\"\",\"\",IF(申込一覧表A!C18=\"\",申込一覧表A!B18,申込一覧表A!B18&\"(\"&申込一覧表A!C18&\")\"))","v":""},{"$f":"IF(申込一覧表A!D18=\"\",\"\",申込一覧表A!D18)","v":""},{"$f":"IF(申込一覧表A!F18=\"\",\"\",申込一覧表A!F18)","v":""},10,{"$f":"IF(申込一覧表A!Y18=\"\",\"\",申込一覧表A!Y18)","v":100000},{"$f":"IF(申込一覧表A!I18=\"\",\"\",申込一覧表A!I18)","v":""},{"$f":"IF(申込一覧表A!M18=\"\",\"\",申込一覧表A!M18&\" \"&申込一覧表A!O18)","v":""},{"$f":"IF(申込一覧表A!Q18=\"\",\"\",申込一覧表A!Q18&\" \"&申込一覧表A!S18)","v":""},{"$f":"IF(申込一覧表A!U18=\"\",\"\",申込一覧表A!U18&\" \"&申込一覧表A!W18)","v":""},null,{"$f":"IF(申込一覧表A!J18=\"\",\"\",\"0\"&申込一覧表A!J18)","v":""},{"$f":"IF(申込一覧表A!K18=\"\",\"\",申込一覧表A!K18)","v":""},{"$f":"IF(申込一覧表A!L18=\"\",\"\",申込一覧表A!L18)","v":""},null,{"$f":"IF(申込一覧表A!E18=\"\",\"\",申込一覧表A!E18)","v":""},"",{"$f":"IF(申込一覧表A!G18=\"\",\"\",申込一覧表A!G18)","v":""},{"$f":"IF(申込一覧表A!H18=\"\",\"\",申込一覧表A!H18)","v":""}]
[null,{"$f":"IF(申込一覧表A!B19=\"\",\"\",IF(申込一覧表A!C19=\"\",申込一覧表A!B19,申込一覧表A!B19&\"(\"&申込一覧表A!C19&\")\"))","v":""},{"$f":"IF(申込一覧表A!D19=\"\",\"\",申込一覧表A!D19)","v":""},{"$f":"IF(申込一覧表A!F19=\"\",\"\",申込一覧表A!F19)","v":""},10,{"$f":"IF(申込一覧表A!Y19=\"\",\"\",申込一覧表A!Y19)","v":100000},{"$f":"IF(申込一覧表A!I19=\"\",\"\",申込一覧表A!I19)","v":""},{"$f":"IF(申込一覧表A!M19=\"\",\"\",申込一覧表A!M19&\" \"&申込一覧表A!O19)","v":""},{"$f":"IF(申込一覧表A!Q19=\"\",\"\",申込一覧表A!Q19&\" \"&申込一覧表A!S19)","v":""},{"$f":"IF(申込一覧表A!U19=\"\",\"\",申込一覧表A!U19&\" \"&申込一覧表A!W19)","v":""},null,{"$f":"IF(申込一覧表A!J19=\"\",\"\",\"0\"&申込一覧表A!J19)","v":""},{"$f":"IF(申込一覧表A!K19=\"\",\"\",申込一覧表A!K19)","v":""},{"$f":"IF(申込一覧表A!L19=\"\",\"\",申込一覧表A!L19)","v":""},null,{"$f":"IF(申込一覧表A!E19=\"\",\"\",申込一覧表A!E19)","v":""},"",{"$f":"IF(申込一覧表A!G19=\"\",\"\",申込一覧表A!G19)","v":""},{"$f":"IF(申込一覧表A!H19=\"\",\"\",申込一覧表A!H19)","v":""}]
[null,{"$f":"IF(申込一覧表A!B20=\"\",\"\",IF(申込一覧表A!C20=\"\",申込一覧表A!B20,申込一覧表A!B20&\"(\"&申込一覧表A!C20&\")\"))","v":""},{"$f":"IF(申込一覧表A!D20=\"\",\"\",申込一覧表A!D20)","v":""},{"$f":"IF(申込一覧表A!F20=\"\",\"\",申込一覧表A!F20)","v":""},10,{"$f":"IF(申込一覧表A!Y20=\"\",\"\",申込一覧表A!Y20)","v":100000},{"$f":"IF(申込一覧表A!I20=\"\",\"\",申込一覧表A!I20)","v":""},{"$f":"IF(申込一覧表A!M20=\"\",\"\",申込一覧表A!M20&\" \"&申込一覧表A!O20)","v":""},{"$f":"IF(申込一覧表A!Q20=\"\",\"\",申込一覧表A!Q20&\" \"&申込一覧表A!S20)","v":""},{"$f":"IF(申込一覧表A!U20=\"\",\"\",申込一覧表A!U20&\" \"&申込一覧表A!W20)","v":""},null,{"$f":"IF(申込一覧表A!J20=\"\",\"\",\"0\"&申込一覧表A!J20)","v":""},{"$f":"IF(申込一覧表A!K20=\"\",\"\",申込一覧表A!K20)","v":""},{"$f":"IF(申込一覧表A!L20=\"\",\"\",申込一覧表A!L20)","v":""},null,{"$f":"IF(申込一覧表A!E20=\"\",\"\",申込一覧表A!E20)","v":""},"",{"$f":"IF(申込一覧表A!G20=\"\",\"\",申込一覧表A!G20)","v":""},{"$f":"IF(申込一覧表A!H20=\"\",\"\",申込一覧表A!H20)","v":""}]
[null,{"$f":"IF(申込一覧表A!B21=\"\",\"\",IF(申込一覧表A!C21=\"\",申込一覧表A!B21,申込一覧表A!B21&\"(\"&申込一覧表A!C21&\")\"))","v":""},{"$f":"IF(申込一覧表A!D21=\"\",\"\",申込一覧表A!D21)","v":""},{"$f":"IF(申込一覧表A!F21=\"\",\"\",申込一覧表A!F21)","v":""},10,{"$f":"IF(申込一覧表A!Y21=\"\",\"\",申込一覧表A!Y21)","v":100000},{"$f":"IF(申込一覧表A!I21=\"\",\"\",申込一覧表A!I21)","v":""},{"$f":"IF(申込一覧表A!M21=\"\",\"\",申込一覧表A!M21&\" \"&申込一覧表A!O21)","v":""},{"$f":"IF(申込一覧表A!Q21=\"\",\"\",申込一覧表A!Q21&\" \"&申込一覧表A!S21)","v":""},{"$f":"IF(申込一覧表A!U21=\"\",\"\",申込一覧表A!U21&\" \"&申込一覧表A!W21)","v":""},null,{"$f":"IF(申込一覧表A!J21=\"\",\"\",\"0\"&申込一覧表A!J21)","v":""},{"$f":"IF(申込一覧表A!K21=\"\",\"\",申込一覧表A!K21)","v":""},{"$f":"IF(申込一覧表A!L21=\"\",\"\",申込一覧表A!L21)","v":""},null,{"$f":"IF(申込一覧表A!E21=\"\",\"\",申込一覧表A!E21)","v":""},"",{"$f":"IF(申込一覧表A!G21=\"\",\"\",申込一覧表A!G21)","v":""},{"$f":"IF(申込一覧表A!H21=\"\",\"\",申込一覧表A!H21)","v":""}]
[null,{"$f":"IF(申込一覧表A!B22=\"\",\"\",IF(申込一覧表A!C22=\"\",申込一覧表A!B22,申込一覧表A!B22&\"(\"&申込一覧表A!C22&\")\"))","v":""},{"$f":"IF(申込一覧表A!D22=\"\",\"\",申込一覧表A!D22)","v":""},{"$f":"IF(申込一覧表A!F22=\"\",\"\",申込一覧表A!F22)","v":""},10,{"$f":"IF(申込一覧表A!Y22=\"\",\"\",申込一覧表A!Y22)","v":100000},{"$f":"IF(申込一覧表A!I22=\"\",\"\",申込一覧表A!I22)","v":""},{"$f":"IF(申込一覧表A!M22=\"\",\"\",申込一覧表A!M22&\" \"&申込一覧表A!O22)","v":""},{"$f":"IF(申込一覧表A!Q22=\"\",\"\",申込一覧表A!Q22&\" \"&申込一覧表A!S22)","v":""},{"$f":"IF(申込一覧表A!U22=\"\",\"\",申込一覧表A!U22&\" \"&申込一覧表A!W22)","v":""},null,{"$f":"IF(申込一覧表A!J22=\"\",\"\",\"0\"&申込一覧表A!J22)","v":""},{"$f":"IF(申込一覧表A!K22=\"\",\"\",申込一覧表A!K22)","v":""},{"$f":"IF(申込一覧表A!L22=\"\",\"\",申込一覧表A!L22)","v":""},null,{"$f":"IF(申込一覧表A!E22=\"\",\"\",申込一覧表A!E22)","v":""},"",{"$f":"IF(申込一覧表A!G22=\"\",\"\",申込一覧表A!G22)","v":""},{"$f":"IF(申込一覧表A!H22=\"\",\"\",申込一覧表A!H22)","v":""}]
[null,{"$f":"IF(申込一覧表A!B23=\"\",\"\",IF(申込一覧表A!C23=\"\",申込一覧表A!B23,申込一覧表A!B23&\"(\"&申込一覧表A!C23&\")\"))","v":""},{"$f":"IF(申込一覧表A!D23=\"\",\"\",申込一覧表A!D23)","v":""},{"$f":"IF(申込一覧表A!F23=\"\",\"\",申込一覧表A!F23)","v":""},10,{"$f":"IF(申込一覧表A!Y23=\"\",\"\",申込一覧表A!Y23)","v":100000},{"$f":"IF(申込一覧表A!I23=\"\",\"\",申込一覧表A!I23)","v":""},{"$f":"IF(申込一覧表A!M23=\"\",\"\",申込一覧表A!M23&\" \"&申込一覧表A!O23)","v":""},{"$f":"IF(申込一覧表A!Q23=\"\",\"\",申込一覧表A!Q23&\" \"&申込一覧表A!S23)","v":""},{"$f":"IF(申込一覧表A!U23=\"\",\"\",申込一覧表A!U23&\" \"&申込一覧表A!W23)","v":""},null,{"$f":"IF(申込一覧表A!J23=\"\",\"\",\"0\"&申込一覧表A!J23)","v":""},{"$f":"IF(申込一覧表A!K23=\"\",\"\",申込一覧表A!K23)","v":""},{"$f":"IF(申込一覧表A!L23=\"\",\"\",申込一覧表A!L23)","v":""},null,{"$f":"IF(申込一覧表A!E23=\"\",\"\",申込一覧表A!E23)","v":""},"",{"$f":"IF(申込一覧表A!G23=\"\",\"\",申込一覧表A!G23)","v":""},{"$f":"IF(申込一覧表A!H23=\"\",\"\",申込一覧表A!H23)","v":""}]
[null,{"$f":"IF(申込一覧表A!B24=\"\",\"\",IF(申込一覧表A!C24=\"\",申込一覧表A!B24,申込一覧表A!B24&\"(\"&申込一覧表A!C24&\")\"))","v":""},{"$f":"IF(申込一覧表A!D24=\"\",\"\",申込一覧表A!D24)","v":""},{"$f":"IF(申込一覧表A!F24=\"\",\"\",申込一覧表A!F24)","v":""},10,{"$f":"IF(申込一覧表A!Y24=\"\",\"\",申込一覧表A!Y24)","v":100000},{"$f":"IF(申込一覧表A!I24=\"\",\"\",申込一覧表A!I24)","v":""},{"$f":"IF(申込一覧表A!M24=\"\",\"\",申込一覧表A!M24&\" \"&申込一覧表A!O24)","v":""},{"$f":"IF(申込一覧表A!Q24=\"\",\"\",申込一覧表A!Q24&\" \"&申込一覧表A!S24)","v":""},{"$f":"IF(申込一覧表A!U24=\"\",\"\",申込一覧表A!U24&\" \"&申込一覧表A!W24)","v":""},null,{"$f":"IF(申込一覧表A!J24=\"\",\"\",\"0\"&申込一覧表A!J24)","v":""},{"$f":"IF(申込一覧表A!K24=\"\",\"\",申込一覧表A!K24)","v":""},{"$f":"IF(申込一覧表A!L24=\"\",\"\",申込一覧表A!L24)","v":""},null,{"$f":"IF(申込一覧表A!E24=\"\",\"\",申込一覧表A!E24)","v":""},"",{"$f":"IF(申込一覧表A!G24=\"\",\"\",申込一覧表A!G24)","v":""},{"$f":"IF(申込一覧表A!H24=\"\",\"\",申込一覧表A!H24)","v":""}]
[null,{"$f":"IF(申込一覧表A!B25=\"\",\"\",IF(申込一覧表A!C25=\"\",申込一覧表A!B25,申込一覧表A!B25&\"(\"&申込一覧表A!C25&\")\"))","v":""},{"$f":"IF(申込一覧表A!D25=\"\",\"\",申込一覧表A!D25)","v":""},{"$f":"IF(申込一覧表A!F25=\"\",\"\",申込一覧表A!F25)","v":""},10,{"$f":"IF(申込一覧表A!Y25=\"\",\"\",申込一覧表A!Y25)","v":100000},{"$f":"IF(申込一覧表A!I25=\"\",\"\",申込一覧表A!I25)","v":""},{"$f":"IF(申込一覧表A!M25=\"\",\"\",申込一覧表A!M25&\" \"&申込一覧表A!O25)","v":""},{"$f":"IF(申込一覧表A!Q25=\"\",\"\",申込一覧表A!Q25&\" \"&申込一覧表A!S25)","v":""},{"$f":"IF(申込一覧表A!U25=\"\",\"\",申込一覧表A!U25&\" \"&申込一覧表A!W25)","v":""},null,{"$f":"IF(申込一覧表A!J25=\"\",\"\",\"0\"&申込一覧表A!J25)","v":""},{"$f":"IF(申込一覧表A!K25=\"\",\"\",申込一覧表A!K25)","v":""},{"$f":"IF(申込一覧表A!L25=\"\",\"\",申込一覧表A!L25)","v":""},null,{"$f":"IF(申込一覧表A!E25=\"\",\"\",申込一覧表A!E25)","v":""},"",{"$f":"IF(申込一覧表A!G25=\"\",\"\",申込一覧表A!G25)","v":""},{"$f":"IF(申込一覧表A!H25=\"\",\"\",申込一覧表A!H25)","v":""}]
[null,{"$f":"IF(申込一覧表A!B26=\"\",\"\",IF(申込一覧表A!C26=\"\",申込一覧表A!B26,申込一覧表A!B26&\"(\"&申込一覧表A!C26&\")\"))","v":""},{"$f":"IF(申込一覧表A!D26=\"\",\"\",申込一覧表A!D26)","v":""},{"$f":"IF(申込一覧表A!F26=\"\",\"\",申込一覧表A!F26)","v":""},10,{"$f":"IF(申込一覧表A!Y26=\"\",\"\",申込一覧表A!Y26)","v":100000},{"$f":"IF(申込一覧表A!I26=\"\",\"\",申込一覧表A!I26)","v":""},{"$f":"IF(申込一覧表A!M26=\"\",\"\",申込一覧表A!M26&\" \"&申込一覧表A!O26)","v":""},{"$f":"IF(申込一覧表A!Q26=\"\",\"\",申込一覧表A!Q26&\" \"&申込一覧表A!S26)","v":""},{"$f":"IF(申込一覧表A!U26=\"\",\"\",申込一覧表A!U26&\" \"&申込一覧表A!W26)","v":""},null,{"$f":"IF(申込一覧表A!J26=\"\",\"\",\"0\"&申込一覧表A!J26)","v":""},{"$f":"IF(申込一覧表A!K26=\"\",\"\",申込一覧表A!K26)","v":""},{"$f":"IF(申込一覧表A!L26=\"\",\"\",申込一覧表A!L26)","v":""},null,{"$f":"IF(申込一覧表A!E26=\"\",\"\",申込一覧表A!E26)","v":""},"",{"$f":"IF(申込一覧表A!G26=\"\",\"\",申込一覧表A!G26)","v":""},{"$f":"IF(申込一覧表A!H26=\"\",\"\",申込一覧表A!H26)","v":""}]
[null,{"$f":"IF(申込一覧表A!B27=\"\",\"\",IF(申込一覧表A!C27=\"\",申込一覧表A!B27,申込一覧表A!B27&\"(\"&申込一覧表A!C27&\")\"))","v":""},{"$f":"IF(申込一覧表A!D27=\"\",\"\",申込一覧表A!D27)","v":""},{"$f":"IF(申込一覧表A!F27=\"\",\"\",申込一覧表A!F27)","v":""},10,{"$f":"IF(申込一覧表A!Y27=\"\",\"\",申込一覧表A!Y27)","v":100000},{"$f":"IF(申込一覧表A!I27=\"\",\"\",申込一覧表A!I27)","v":""},{"$f":"IF(申込一覧表A!M27=\"\",\"\",申込一覧表A!M27&\" \"&申込一覧表A!O27)","v":""},{"$f":"IF(申込一覧表A!Q27=\"\",\"\",申込一覧表A!Q27&\" \"&申込一覧表A!S27)","v":""},{"$f":"IF(申込一覧表A!U27=\"\",\"\",申込一覧表A!U27&\" \"&申込一覧表A!W27)","v":""},null,{"$f":"IF(申込一覧表A!J27=\"\",\"\",\"0\"&申込一覧表A!J27)","v":""},{"$f":"IF(申込一覧表A!K27=\"\",\"\",申込一覧表A!K27)","v":""},{"$f":"IF(申込一覧表A!L27=\"\",\"\",申込一覧表A!L27)","v":""},null,{"$f":"IF(申込一覧表A!E27=\"\",\"\",申込一覧表A!E27)","v":""},"",{"$f":"IF(申込一覧表A!G27=\"\",\"\",申込一覧表A!G27)","v":""},{"$f":"IF(申込一覧表A!H27=\"\",\"\",申込一覧表A!H27)","v":""}]
[null,{"$f":"IF(申込一覧表A!B28=\"\",\"\",IF(申込一覧表A!C28=\"\",申込一覧表A!B28,申込一覧表A!B28&\"(\"&申込一覧表A!C28&\")\"))","v":""},{"$f":"IF(申込一覧表A!D28=\"\",\"\",申込一覧表A!D28)","v":""},{"$f":"IF(申込一覧表A!F28=\"\",\"\",申込一覧表A!F28)","v":""},10,{"$f":"IF(申込一覧表A!Y28=\"\",\"\",申込一覧表A!Y28)","v":100000},{"$f":"IF(申込一覧表A!I28=\"\",\"\",申込一覧表A!I28)","v":""},{"$f":"IF(申込一覧表A!M28=\"\",\"\",申込一覧表A!M28&\" \"&申込一覧表A!O28)","v":""},{"$f":"IF(申込一覧表A!Q28=\"\",\"\",申込一覧表A!Q28&\" \"&申込一覧表A!S28)","v":""},{"$f":"IF(申込一覧表A!U28=\"\",\"\",申込一覧表A!U28&\" \"&申込一覧表A!W28)","v":""},null,{"$f":"IF(申込一覧表A!J28=\"\",\"\",\"0\"&申込一覧表A!J28)","v":""},{"$f":"IF(申込一覧表A!K28=\"\",\"\",申込一覧表A!K28)","v":""},{"$f":"IF(申込一覧表A!L28=\"\",\"\",申込一覧表A!L28)","v":""},null,{"$f":"IF(申込一覧表A!E28=\"\",\"\",申込一覧表A!E28)","v":""},"",{"$f":"IF(申込一覧表A!G28=\"\",\"\",申込一覧表A!G28)","v":""},{"$f":"IF(申込一覧表A!H28=\"\",\"\",申込一覧表A!H28)","v":""}]
[null,{"$f":"IF(申込一覧表A!B29=\"\",\"\",IF(申込一覧表A!C29=\"\",申込一覧表A!B29,申込一覧表A!B29&\"(\"&申込一覧表A!C29&\")\"))","v":""},{"$f":"IF(申込一覧表A!D29=\"\",\"\",申込一覧表A!D29)","v":""},{"$f":"IF(申込一覧表A!F29=\"\",\"\",申込一覧表A!F29)","v":""},10,{"$f":"IF(申込一覧表A!Y29=\"\",\"\",申込一覧表A!Y29)","v":100000},{"$f":"IF(申込一覧表A!I29=\"\",\"\",申込一覧表A!I29)","v":""},{"$f":"IF(申込一覧表A!M29=\"\",\"\",申込一覧表A!M29&\" \"&申込一覧表A!O29)","v":""},{"$f":"IF(申込一覧表A!Q29=\"\",\"\",申込一覧表A!Q29&\" \"&申込一覧表A!S29)","v":""},{"$f":"IF(申込一覧表A!U29=\"\",\"\",申込一覧表A!U29&\" \"&申込一覧表A!W29)","v":""},null,{"$f":"IF(申込一覧表A!J29=\"\",\"\",\"0\"&申込一覧表A!J29)","v":""},{"$f":"IF(申込一覧表A!K29=\"\",\"\",申込一覧表A!K29)","v":""},{"$f":"IF(申込一覧表A!L29=\"\",\"\",申込一覧表A!L29)","v":""},null,{"$f":"IF(申込一覧表A!E29=\"\",\"\",申込一覧表A!E29)","v":""},"",{"$f":"IF(申込一覧表A!G29=\"\",\"\",申込一覧表A!G29)","v":""},{"$f":"IF(申込一覧表A!H29=\"\",\"\",申込一覧表A!H29)","v":""}]
[null,{"$f":"IF(申込一覧表A!B30=\"\",\"\",IF(申込一覧表A!C30=\"\",申込一覧表A!B30,申込一覧表A!B30&\"(\"&申込一覧表A!C30&\")\"))","v":""},{"$f":"IF(申込一覧表A!D30=\"\",\"\",申込一覧表A!D30)","v":""},{"$f":"IF(申込一覧表A!F30=\"\",\"\",申込一覧表A!F30)","v":""},10,{"$f":"IF(申込一覧表A!Y30=\"\",\"\",申込一覧表A!Y30)","v":100000},{"$f":"IF(申込一覧表A!I30=\"\",\"\",申込一覧表A!I30)","v":""},{"$f":"IF(申込一覧表A!M30=\"\",\"\",申込一覧表A!M30&\" \"&申込一覧表A!O30)","v":""},{"$f":"IF(申込一覧表A!Q30=\"\",\"\",申込一覧表A!Q30&\" \"&申込一覧表A!S30)","v":""},{"$f":"IF(申込一覧表A!U30=\"\",\"\",申込一覧表A!U30&\" \"&申込一覧表A!W30)","v":""},null,{"$f":"IF(申込一覧表A!J30=\"\",\"\",\"0\"&申込一覧表A!J30)","v":""},{"$f":"IF(申込一覧表A!K30=\"\",\"\",申込一覧表A!K30)","v":""},{"$f":"IF(申込一覧表A!L30=\"\",\"\",申込一覧表A!L30)","v":""},null,{"$f":"IF(申込一覧表A!E30=\"\",\"\",申込一覧表A!E30)","v":""},"",{"$f":"IF(申込一覧表A!G30=\"\",\"\",申込一覧表A!G30)","v":""},{"$f":"IF(申込一覧表A!H30=\"\",\"\",申込一覧表A!H30)","v":""}]
[null,{"$f":"IF(申込一覧表A!B31=\"\",\"\",IF(申込一覧表A!C31=\"\",申込一覧表A!B31,申込一覧表A!B31&\"(\"&申込一覧表A!C31&\")\"))","v":""},{"$f":"IF(申込一覧表A!D31=\"\",\"\",申込一覧表A!D31)","v":""},{"$f":"IF(申込一覧表A!F31=\"\",\"\",申込一覧表A!F31)","v":""},10,{"$f":"IF(申込一覧表A!Y31=\"\",\"\",申込一覧表A!Y31)","v":100000},{"$f":"IF(申込一覧表A!I31=\"\",\"\",申込一覧表A!I31)","v":""},{"$f":"IF(申込一覧表A!M31=\"\",\"\",申込一覧表A!M31&\" \"&申込一覧表A!O31)","v":""},{"$f":"IF(申込一覧表A!Q31=\"\",\"\",申込一覧表A!Q31&\" \"&申込一覧表A!S31)","v":""},{"$f":"IF(申込一覧表A!U31=\"\",\"\",申込一覧表A!U31&\" \"&申込一覧表A!W31)","v":""},null,{"$f":"IF(申込一覧表A!J31=\"\",\"\",\"0\"&申込一覧表A!J31)","v":""},{"$f":"IF(申込一覧表A!K31=\"\",\"\",申込一覧表A!K31)","v":""},{"$f":"IF(申込一覧表A!L31=\"\",\"\",申込一覧表A!L31)","v":""},null,{"$f":"IF(申込一覧表A!E31=\"\",\"\",申込一覧表A!E31)","v":""},"",{"$f":"IF(申込一覧表A!G31=\"\",\"\",申込一覧表A!G31)","v":""},{"$f":"IF(申込一覧表A!H31=\"\",\"\",申込一覧表A!H31)","v":""}]
[null,{"$f":"IF(申込一覧表A!B32=\"\",\"\",IF(申込一覧表A!C32=\"\",申込一覧表A!B32,申込一覧表A!B32&\"(\"&申込一覧表A!C32&\")\"))","v":""},{"$f":"IF(申込一覧表A!D32=\"\",\"\",申込一覧表A!D32)","v":""},{"$f":"IF(申込一覧表A!F32=\"\",\"\",申込一覧表A!F32)","v":""},10,{"$f":"IF(申込一覧表A!Y32=\"\",\"\",申込一覧表A!Y32)","v":100000},{"$f":"IF(申込一覧表A!I32=\"\",\"\",申込一覧表A!I32)","v":""},{"$f":"IF(申込一覧表A!M32=\"\",\"\",申込一覧表A!M32&\" \"&申込一覧表A!O32)","v":""},{"$f":"IF(申込一覧表A!Q32=\"\",\"\",申込一覧表A!Q32&\" \"&申込一覧表A!S32)","v":""},{"$f":"IF(申込一覧表A!U32=\"\",\"\",申込一覧表A!U32&\" \"&申込一覧表A!W32)","v":""},null,{"$f":"IF(申込一覧表A!J32=\"\",\"\",\"0\"&申込一覧表A!J32)","v":""},{"$f":"IF(申込一覧表A!K32=\"\",\"\",申込一覧表A!K32)","v":""},{"$f":"IF(申込一覧表A!L32=\"\",\"\",申込一覧表A!L32)","v":""},null,{"$f":"IF(申込一覧表A!E32=\"\",\"\",申込一覧表A!E32)","v":""},"",{"$f":"IF(申込一覧表A!G32=\"\",\"\",申込一覧表A!G32)","v":""},{"$f":"IF(申込一覧表A!H32=\"\",\"\",申込一覧表A!H32)","v":""}]
[null,{"$f":"IF(申込一覧表A!B33=\"\",\"\",IF(申込一覧表A!C33=\"\",申込一覧表A!B33,申込一覧表A!B33&\"(\"&申込一覧表A!C33&\")\"))","v":""},{"$f":"IF(申込一覧表A!D33=\"\",\"\",申込一覧表A!D33)","v":""},{"$f":"IF(申込一覧表A!F33=\"\",\"\",申込一覧表A!F33)","v":""},10,{"$f":"IF(申込一覧表A!Y33=\"\",\"\",申込一覧表A!Y33)","v":100000},{"$f":"IF(申込一覧表A!I33=\"\",\"\",申込一覧表A!I33)","v":""},{"$f":"IF(申込一覧表A!M33=\"\",\"\",申込一覧表A!M33&\" \"&申込一覧表A!O33)","v":""},{"$f":"IF(申込一覧表A!Q33=\"\",\"\",申込一覧表A!Q33&\" \"&申込一覧表A!S33)","v":""},{"$f":"IF(申込一覧表A!U33=\"\",\"\",申込一覧表A!U33&\" \"&申込一覧表A!W33)","v":""},null,{"$f":"IF(申込一覧表A!J33=\"\",\"\",\"0\"&申込一覧表A!J33)","v":""},{"$f":"IF(申込一覧表A!K33=\"\",\"\",申込一覧表A!K33)","v":""},{"$f":"IF(申込一覧表A!L33=\"\",\"\",申込一覧表A!L33)","v":""},null,{"$f":"IF(申込一覧表A!E33=\"\",\"\",申込一覧表A!E33)","v":""},"",{"$f":"IF(申込一覧表A!G33=\"\",\"\",申込一覧表A!G33)","v":""},{"$f":"IF(申込一覧表A!H33=\"\",\"\",申込一覧表A!H33)","v":""}]
[null,{"$f":"IF(申込一覧表A!B34=\"\",\"\",IF(申込一覧表A!C34=\"\",申込一覧表A!B34,申込一覧表A!B34&\"(\"&申込一覧表A!C34&\")\"))","v":""},{"$f":"IF(申込一覧表A!D34=\"\",\"\",申込一覧表A!D34)","v":""},{"$f":"IF(申込一覧表A!F34=\"\",\"\",申込一覧表A!F34)","v":""},10,{"$f":"IF(申込一覧表A!Y34=\"\",\"\",申込一覧表A!Y34)","v":100000},{"$f":"IF(申込一覧表A!I34=\"\",\"\",申込一覧表A!I34)","v":""},{"$f":"IF(申込一覧表A!M34=\"\",\"\",申込一覧表A!M34&\" \"&申込一覧表A!O34)","v":""},{"$f":"IF(申込一覧表A!Q34=\"\",\"\",申込一覧表A!Q34&\" \"&申込一覧表A!S34)","v":""},{"$f":"IF(申込一覧表A!U34=\"\",\"\",申込一覧表A!U34&\" \"&申込一覧表A!W34)","v":""},null,{"$f":"IF(申込一覧表A!J34=\"\",\"\",\"0\"&申込一覧表A!J34)","v":""},{"$f":"IF(申込一覧表A!K34=\"\",\"\",申込一覧表A!K34)","v":""},{"$f":"IF(申込一覧表A!L34=\"\",\"\",申込一覧表A!L34)","v":""},null,{"$f":"IF(申込一覧表A!E34=\"\",\"\",申込一覧表A!E34)","v":""},"",{"$f":"IF(申込一覧表A!G34=\"\",\"\",申込一覧表A!G34)","v":""},{"$f":"IF(申込一覧表A!H34=\"\",\"\",申込一覧表A!H34)","v":""}]
[null,{"$f":"IF(申込一覧表A!B35=\"\",\"\",IF(申込一覧表A!C35=\"\",申込一覧表A!B35,申込一覧表A!B35&\"(\"&申込一覧表A!C35&\")\"))","v":""},{"$f":"IF(申込一覧表A!D35=\"\",\"\",申込一覧表A!D35)","v":""},{"$f":"IF(申込一覧表A!F35=\"\",\"\",申込一覧表A!F35)","v":""},10,{"$f":"IF(申込一覧表A!Y35=\"\",\"\",申込一覧表A!Y35)","v":100000},{"$f":"IF(申込一覧表A!I35=\"\",\"\",申込一覧表A!I35)","v":""},{"$f":"IF(申込一覧表A!M35=\"\",\"\",申込一覧表A!M35&\" \"&申込一覧表A!O35)","v":""},{"$f":"IF(申込一覧表A!Q35=\"\",\"\",申込一覧表A!Q35&\" \"&申込一覧表A!S35)","v":""},{"$f":"IF(申込一覧表A!U35=\"\",\"\",申込一覧表A!U35&\" \"&申込一覧表A!W35)","v":""},null,{"$f":"IF(申込一覧表A!J35=\"\",\"\",\"0\"&申込一覧表A!J35)","v":""},{"$f":"IF(申込一覧表A!K35=\"\",\"\",申込一覧表A!K35)","v":""},{"$f":"IF(申込一覧表A!L35=\"\",\"\",申込一覧表A!L35)","v":""},null,{"$f":"IF(申込一覧表A!E35=\"\",\"\",申込一覧表A!E35)","v":""},"",{"$f":"IF(申込一覧表A!G35=\"\",\"\",申込一覧表A!G35)","v":""},{"$f":"IF(申込一覧表A!H35=\"\",\"\",申込一覧表A!H35)","v":""}]
[null,{"$f":"IF(申込一覧表A!B36=\"\",\"\",IF(申込一覧表A!C36=\"\",申込一覧表A!B36,申込一覧表A!B36&\"(\"&申込一覧表A!C36&\")\"))","v":""},{"$f":"IF(申込一覧表A!D36=\"\",\"\",申込一覧表A!D36)","v":""},{"$f":"IF(申込一覧表A!F36=\"\",\"\",申込一覧表A!F36)","v":""},10,{"$f":"IF(申込一覧表A!Y36=\"\",\"\",申込一覧表A!Y36)","v":100000},{"$f":"IF(申込一覧表A!I36=\"\",\"\",申込一覧表A!I36)","v":""},{"$f":"IF(申込一覧表A!M36=\"\",\"\",申込一覧表A!M36&\" \"&申込一覧表A!O36)","v":""},{"$f":"IF(申込一覧表A!Q36=\"\",\"\",申込一覧表A!Q36&\" \"&申込一覧表A!S36)","v":""},{"$f":"IF(申込一覧表A!U36=\"\",\"\",申込一覧表A!U36&\" \"&申込一覧表A!W36)","v":""},null,{"$f":"IF(申込一覧表A!J36=\"\",\"\",\"0\"&申込一覧表A!J36)","v":""},{"$f":"IF(申込一覧表A!K36=\"\",\"\",申込一覧表A!K36)","v":""},{"$f":"IF(申込一覧表A!L36=\"\",\"\",申込一覧表A!L36)","v":""},null,{"$f":"IF(申込一覧表A!E36=\"\",\"\",申込一覧表A!E36)","v":""},"",{"$f":"IF(申込一覧表A!G36=\"\",\"\",申込一覧表A!G36)","v":""},{"$f":"IF(申込一覧表A!H36=\"\",\"\",申込一覧表A!H36)","v":""}]
[null,{"$f":"IF(申込一覧表A!B37=\"\",\"\",IF(申込一覧表A!C37=\"\",申込一覧表A!B37,申込一覧表A!B37&\"(\"&申込一覧表A!C37&\")\"))","v":""},{"$f":"IF(申込一覧表A!D37=\"\",\"\",申込一覧表A!D37)","v":""},{"$f":"IF(申込一覧表A!F37=\"\",\"\",申込一覧表A!F37)","v":""},10,{"$f":"IF(申込一覧表A!Y37=\"\",\"\",申込一覧表A!Y37)","v":100000},{"$f":"IF(申込一覧表A!I37=\"\",\"\",申込一覧表A!I37)","v":""},{"$f":"IF(申込一覧表A!M37=\"\",\"\",申込一覧表A!M37&\" \"&申込一覧表A!O37)","v":""},{"$f":"IF(申込一覧表A!Q37=\"\",\"\",申込一覧表A!Q37&\" \"&申込一覧表A!S37)","v":""},{"$f":"IF(申込一覧表A!U37=\"\",\"\",申込一覧表A!U37&\" \"&申込一覧表A!W37)","v":""},null,{"$f":"IF(申込一覧表A!J37=\"\",\"\",\"0\"&申込一覧表A!J37)","v":""},{"$f":"IF(申込一覧表A!K37=\"\",\"\",申込一覧表A!K37)","v":""},{"$f":"IF(申込一覧表A!L37=\"\",\"\",申込一覧表A!L37)","v":""},null,{"$f":"IF(申込一覧表A!E37=\"\",\"\",申込一覧表A!E37)","v":""},"",{"$f":"IF(申込一覧表A!G37=\"\",\"\",申込一覧表A!G37)","v":""},{"$f":"IF(申込一覧表A!H37=\"\",\"\",申込一覧表A!H37)","v":""}]
[null,{"$f":"IF(申込一覧表A!B38=\"\",\"\",IF(申込一覧表A!C38=\"\",申込一覧表A!B38,申込一覧表A!B38&\"(\"&申込一覧表A!C38&\")\"))","v":""},{"$f":"IF(申込一覧表A!D38=\"\",\"\",申込一覧表A!D38)","v":""},{"$f":"IF(申込一覧表A!F38=\"\",\"\",申込一覧表A!F38)","v":""},10,{"$f":"IF(申込一覧表A!Y38=\"\",\"\",申込一覧表A!Y38)","v":100000},{"$f":"IF(申込一覧表A!I38=\"\",\"\",申込一覧表A!I38)","v":""},{"$f":"IF(申込一覧表A!M38=\"\",\"\",申込一覧表A!M38&\" \"&申込一覧表A!O38)","v":""},{"$f":"IF(申込一覧表A!Q38=\"\",\"\",申込一覧表A!Q38&\" \"&申込一覧表A!S38)","v":""},{"$f":"IF(申込一覧表A!U38=\"\",\"\",申込一覧表A!U38&\" \"&申込一覧表A!W38)","v":""},null,{"$f":"IF(申込一覧表A!J38=\"\",\"\",\"0\"&申込一覧表A!J38)","v":""},{"$f":"IF(申込一覧表A!K38=\"\",\"\",申込一覧表A!K38)","v":""},{"$f":"IF(申込一覧表A!L38=\"\",\"\",申込一覧表A!L38)","v":""},null,{"$f":"IF(申込一覧表A!E38=\"\",\"\",申込一覧表A!E38)","v":""},"",{"$f":"IF(申込一覧表A!G38=\"\",\"\",申込一覧表A!G38)","v":""},{"$f":"IF(申込一覧表A!H38=\"\",\"\",申込一覧表A!H38)","v":""}]
[null,{"$f":"IF(申込一覧表A!B39=\"\",\"\",IF(申込一覧表A!C39=\"\",申込一覧表A!B39,申込一覧表A!B39&\"(\"&申込一覧表A!C39&\")\"))","v":""},{"$f":"IF(申込一覧表A!D39=\"\",\"\",申込一覧表A!D39)","v":""},{"$f":"IF(申込一覧表A!F39=\"\",\"\",申込一覧表A!F39)","v":""},10,{"$f":"IF(申込一覧表A!Y39=\"\",\"\",申込一覧表A!Y39)","v":100000},{"$f":"IF(申込一覧表A!I39=\"\",\"\",申込一覧表A!I39)","v":""},{"$f":"IF(申込一覧表A!M39=\"\",\"\",申込一覧表A!M39&\" \"&申込一覧表A!O39)","v":""},{"$f":"IF(申込一覧表A!Q39=\"\",\"\",申込一覧表A!Q39&\" \"&申込一覧表A!S39)","v":""},{"$f":"IF(申込一覧表A!U39=\"\",\"\",申込一覧表A!U39&\" \"&申込一覧表A!W39)","v":""},null,{"$f":"IF(申込一覧表A!J39=\"\",\"\",\"0\"&申込一覧表A!J39)","v":""},{"$f":"IF(申込一覧表A!K39=\"\",\"\",申込一覧表A!K39)","v":""},{"$f":"IF(申込一覧表A!L39=\"\",\"\",申込一覧表A!L39)","v":""},null,{"$f":"IF(申込一覧表A!E39=\"\",\"\",申込一覧表A!E39)","v":""},{"$f":"IF(D34=\"\",\"\",IF(D34=1,\"m\",\"f\"))","v":""},{"$f":"IF(申込一覧表A!G39=\"\",\"\",申込一覧表A!G39)","v":""},{"$f":"IF(申込一覧表A!H39=\"\",\"\",申込一覧表A!H39)","v":""}]
[null,{"$f":"IF(申込一覧表A!B40=\"\",\"\",IF(申込一覧表A!C40=\"\",申込一覧表A!B40,申込一覧表A!B40&\"(\"&申込一覧表A!C40&\")\"))","v":""},{"$f":"IF(申込一覧表A!D40=\"\",\"\",申込一覧表A!D40)","v":""},{"$f":"IF(申込一覧表A!F40=\"\",\"\",申込一覧表A!F40)","v":""},10,{"$f":"IF(申込一覧表A!Y40=\"\",\"\",申込一覧表A!Y40)","v":100000},{"$f":"IF(申込一覧表A!I40=\"\",\"\",申込一覧表A!I40)","v":""},{"$f":"IF(申込一覧表A!M40=\"\",\"\",申込一覧表A!M40&\" \"&申込一覧表A!O40)","v":""},{"$f":"IF(申込一覧表A!Q40=\"\",\"\",申込一覧表A!Q40&\" \"&申込一覧表A!S40)","v":""},{"$f":"IF(申込一覧表A!U40=\"\",\"\",申込一覧表A!U40&\" \"&申込一覧表A!W40)","v":""},null,{"$f":"IF(申込一覧表A!J40=\"\",\"\",\"0\"&申込一覧表A!J40)","v":""},{"$f":"IF(申込一覧表A!K40=\"\",\"\",申込一覧表A!K40)","v":""},{"$f":"IF(申込一覧表A!L40=\"\",\"\",申込一覧表A!L40)","v":""},null,{"$f":"IF(申込一覧表A!E40=\"\",\"\",申込一覧表A!E40)","v":""},"",{"$f":"IF(申込一覧表A!G40=\"\",\"\",申込一覧表A!G40)","v":""},{"$f":"IF(申込一覧表A!H40=\"\",\"\",申込一覧表A!H40)","v":""}]
[null,{"$f":"IF(申込一覧表A!B41=\"\",\"\",IF(申込一覧表A!C41=\"\",申込一覧表A!B41,申込一覧表A!B41&\"(\"&申込一覧表A!C41&\")\"))","v":""},{"$f":"IF(申込一覧表A!D41=\"\",\"\",申込一覧表A!D41)","v":""},{"$f":"IF(申込一覧表A!F41=\"\",\"\",申込一覧表A!F41)","v":""},10,{"$f":"IF(申込一覧表A!Y41=\"\",\"\",申込一覧表A!Y41)","v":100000},{"$f":"IF(申込一覧表A!I41=\"\",\"\",申込一覧表A!I41)","v":""},{"$f":"IF(申込一覧表A!M41=\"\",\"\",申込一覧表A!M41&\" \"&申込一覧表A!O41)","v":""},{"$f":"IF(申込一覧表A!Q41=\"\",\"\",申込一覧表A!Q41&\" \"&申込一覧表A!S41)","v":""},{"$f":"IF(申込一覧表A!U41=\"\",\"\",申込一覧表A!U41&\" \"&申込一覧表A!W41)","v":""},null,{"$f":"IF(申込一覧表A!J41=\"\",\"\",\"0\"&申込一覧表A!J41)","v":""},{"$f":"IF(申込一覧表A!K41=\"\",\"\",申込一覧表A!K41)","v":""},{"$f":"IF(申込一覧表A!L41=\"\",\"\",申込一覧表A!L41)","v":""},null,{"$f":"IF(申込一覧表A!E41=\"\",\"\",申込一覧表A!E41)","v":""},"",{"$f":"IF(申込一覧表A!G41=\"\",\"\",申込一覧表A!G41)","v":""},{"$f":"IF(申込一覧表A!H41=\"\",\"\",申込一覧表A!H41)","v":""}]
[null,{"$f":"IF(申込一覧表A!B42=\"\",\"\",IF(申込一覧表A!C42=\"\",申込一覧表A!B42,申込一覧表A!B42&\"(\"&申込一覧表A!C42&\")\"))","v":""},{"$f":"IF(申込一覧表A!D42=\"\",\"\",申込一覧表A!D42)","v":""},{"$f":"IF(申込一覧表A!F42=\"\",\"\",申込一覧表A!F42)","v":""},10,{"$f":"IF(申込一覧表A!Y42=\"\",\"\",申込一覧表A!Y42)","v":100000},{"$f":"IF(申込一覧表A!I42=\"\",\"\",申込一覧表A!I42)","v":""},{"$f":"IF(申込一覧表A!M42=\"\",\"\",申込一覧表A!M42&\" \"&申込一覧表A!O42)","v":""},{"$f":"IF(申込一覧表A!Q42=\"\",\"\",申込一覧表A!Q42&\" \"&申込一覧表A!S42)","v":""},{"$f":"IF(申込一覧表A!U42=\"\",\"\",申込一覧表A!U42&\" \"&申込一覧表A!W42)","v":""},null,{"$f":"IF(申込一覧表A!J42=\"\",\"\",\"0\"&申込一覧表A!J42)","v":""},{"$f":"IF(申込一覧表A!K42=\"\",\"\",申込一覧表A!K42)","v":""},{"$f":"IF(申込一覧表A!L42=\"\",\"\",申込一覧表A!L42)","v":""},null,{"$f":"IF(申込一覧表A!E42=\"\",\"\",申込一覧表A!E42)","v":""},"",{"$f":"IF(申込一覧表A!G42=\"\",\"\",申込一覧表A!G42)","v":""},{"$f":"IF(申込一覧表A!H42=\"\",\"\",申込一覧表A!H42)","v":""}]
[null,{"$f":"IF(申込一覧表A!B43=\"\",\"\",IF(申込一覧表A!C43=\"\",申込一覧表A!B43,申込一覧表A!B43&\"(\"&申込一覧表A!C43&\")\"))","v":""},{"$f":"IF(申込一覧表A!D43=\"\",\"\",申込一覧表A!D43)","v":""},{"$f":"IF(申込一覧表A!F43=\"\",\"\",申込一覧表A!F43)","v":""},10,{"$f":"IF(申込一覧表A!Y43=\"\",\"\",申込一覧表A!Y43)","v":100000},{"$f":"IF(申込一覧表A!I43=\"\",\"\",申込一覧表A!I43)","v":""},{"$f":"IF(申込一覧表A!M43=\"\",\"\",申込一覧表A!M43&\" \"&申込一覧表A!O43)","v":""},{"$f":"IF(申込一覧表A!Q43=\"\",\"\",申込一覧表A!Q43&\" \"&申込一覧表A!S43)","v":""},{"$f":"IF(申込一覧表A!U43=\"\",\"\",申込一覧表A!U43&\" \"&申込一覧表A!W43)","v":""},null,{"$f":"IF(申込一覧表A!J43=\"\",\"\",\"0\"&申込一覧表A!J43)","v":""},{"$f":"IF(申込一覧表A!K43=\"\",\"\",申込一覧表A!K43)","v":""},{"$f":"IF(申込一覧表A!L43=\"\",\"\",申込一覧表A!L43)","v":""},null,{"$f":"IF(申込一覧表A!E43=\"\",\"\",申込一覧表A!E43)","v":""},"",{"$f":"IF(申込一覧表A!G43=\"\",\"\",申込一覧表A!G43)","v":""},{"$f":"IF(申込一覧表A!H43=\"\",\"\",申込一覧表A!H43)","v":""}]
[null,{"$f":"IF(申込一覧表A!B44=\"\",\"\",IF(申込一覧表A!C44=\"\",申込一覧表A!B44,申込一覧表A!B44&\"(\"&申込一覧表A!C44&\")\"))","v":""},{"$f":"IF(申込一覧表A!D44=\"\",\"\",申込一覧表A!D44)","v":""},{"$f":"IF(申込一覧表A!F44=\"\",\"\",申込一覧表A!F44)","v":""},10,{"$f":"IF(申込一覧表A!Y44=\"\",\"\",申込一覧表A!Y44)","v":100000},{"$f":"IF(申込一覧表A!I44=\"\",\"\",申込一覧表A!I44)","v":""},{"$f":"IF(申込一覧表A!M44=\"\",\"\",申込一覧表A!M44&\" \"&申込一覧表A!O44)","v":""},{"$f":"IF(申込一覧表A!Q44=\"\",\"\",申込一覧表A!Q44&\" \"&申込一覧表A!S44)","v":""},{"$f":"IF(申込一覧表A!U44=\"\",\"\",申込一覧表A!U44&\" \"&申込一覧表A!W44)","v":""},null,{"$f":"IF(申込一覧表A!J44=\"\",\"\",\"0\"&申込一覧表A!J44)","v":""},{"$f":"IF(申込一覧表A!K44=\"\",\"\",申込一覧表A!K44)","v":""},{"$f":"IF(申込一覧表A!L44=\"\",\"\",申込一覧表A!L44)","v":""},null,{"$f":"IF(申込一覧表A!E44=\"\",\"\",申込一覧表A!E44)","v":""},"",{"$f":"IF(申込一覧表A!G44=\"\",\"\",申込一覧表A!G44)","v":""},{"$f":"IF(申込一覧表A!H44=\"\",\"\",申込一覧表A!H44)","v":""}]
[null,{"$f":"IF(申込一覧表A!B45=\"\",\"\",IF(申込一覧表A!C45=\"\",申込一覧表A!B45,申込一覧表A!B45&\"(\"&申込一覧表A!C45&\")\"))","v":""},{"$f":"IF(申込一覧表A!D45=\"\",\"\",申込一覧表A!D45)","v":""},{"$f":"IF(申込一覧表A!F45=\"\",\"\",申込一覧表A!F45)","v":""},10,{"$f":"IF(申込一覧表A!Y45=\"\",\"\",申込一覧表A!Y45)","v":100000},{"$f":"IF(申込一覧表A!I45=\"\",\"\",申込一覧表A!I45)","v":""},{"$f":"IF(申込一覧表A!M45=\"\",\"\",申込一覧表A!M45&\" \"&申込一覧表A!O45)","v":""},{"$f":"IF(申込一覧表A!Q45=\"\",\"\",申込一覧表A!Q45&\" \"&申込一覧表A!S45)","v":""},{"$f":"IF(申込一覧表A!U45=\"\",\"\",申込一覧表A!U45&\" \"&申込一覧表A!W45)","v":""},null,{"$f":"IF(申込一覧表A!J45=\"\",\"\",\"0\"&申込一覧表A!J45)","v":""},{"$f":"IF(申込一覧表A!K45=\"\",\"\",申込一覧表A!K45)","v":""},{"$f":"IF(申込一覧表A!L45=\"\",\"\",申込一覧表A!L45)","v":""},null,{"$f":"IF(申込一覧表A!E45=\"\",\"\",申込一覧表A!E45)","v":""},"",{"$f":"IF(申込一覧表A!G45=\"\",\"\",申込一覧表A!G45)","v":""},{"$f":"IF(申込一覧表A!H45=\"\",\"\",申込一覧表A!H45)","v":""}]
[null,{"$f":"IF(申込一覧表A!B46=\"\",\"\",IF(申込一覧表A!C46=\"\",申込一覧表A!B46,申込一覧表A!B46&\"(\"&申込一覧表A!C46&\")\"))","v":""},{"$f":"IF(申込一覧表A!D46=\"\",\"\",申込一覧表A!D46)","v":""},{"$f":"IF(申込一覧表A!F46=\"\",\"\",申込一覧表A!F46)","v":""},10,{"$f":"IF(申込一覧表A!Y46=\"\",\"\",申込一覧表A!Y46)","v":100000},{"$f":"IF(申込一覧表A!I46=\"\",\"\",申込一覧表A!I46)","v":""},{"$f":"IF(申込一覧表A!M46=\"\",\"\",申込一覧表A!M46&\" \"&申込一覧表A!O46)","v":""},{"$f":"IF(申込一覧表A!Q46=\"\",\"\",申込一覧表A!Q46&\" \"&申込一覧表A!S46)","v":""},{"$f":"IF(申込一覧表A!U46=\"\",\"\",申込一覧表A!U46&\" \"&申込一覧表A!W46)","v":""},null,{"$f":"IF(申込一覧表A!J46=\"\",\"\",\"0\"&申込一覧表A!J46)","v":""},{"$f":"IF(申込一覧表A!K46=\"\",\"\",申込一覧表A!K46)","v":""},{"$f":"IF(申込一覧表A!L46=\"\",\"\",申込一覧表A!L46)","v":""},null,{"$f":"IF(申込一覧表A!E46=\"\",\"\",申込一覧表A!E46)","v":""},"",{"$f":"IF(申込一覧表A!G46=\"\",\"\",申込一覧表A!G46)","v":""},{"$f":"IF(申込一覧表A!H46=\"\",\"\",申込一覧表A!H46)","v":""}]
[null,{"$f":"IF(申込一覧表A!B47=\"\",\"\",IF(申込一覧表A!C47=\"\",申込一覧表A!B47,申込一覧表A!B47&\"(\"&申込一覧表A!C47&\")\"))","v":""},{"$f":"IF(申込一覧表A!D47=\"\",\"\",申込一覧表A!D47)","v":""},{"$f":"IF(申込一覧表A!F47=\"\",\"\",申込一覧表A!F47)","v":""},10,{"$f":"IF(申込一覧表A!Y47=\"\",\"\",申込一覧表A!Y47)","v":100000},{"$f":"IF(申込一覧表A!I47=\"\",\"\",申込一覧表A!I47)","v":""},{"$f":"IF(申込一覧表A!M47=\"\",\"\",申込一覧表A!M47&\" \"&申込一覧表A!O47)","v":""},{"$f":"IF(申込一覧表A!Q47=\"\",\"\",申込一覧表A!Q47&\" \"&申込一覧表A!S47)","v":""},{"$f":"IF(申込一覧表A!U47=\"\",\"\",申込一覧表A!U47&\" \"&申込一覧表A!W47)","v":""},null,{"$f":"IF(申込一覧表A!J47=\"\",\"\",\"0\"&申込一覧表A!J47)","v":""},{"$f":"IF(申込一覧表A!K47=\"\",\"\",申込一覧表A!K47)","v":""},{"$f":"IF(申込一覧表A!L47=\"\",\"\",申込一覧表A!L47)","v":""},null,{"$f":"IF(申込一覧表A!E47=\"\",\"\",申込一覧表A!E47)","v":""},"",{"$f":"IF(申込一覧表A!G47=\"\",\"\",申込一覧表A!G47)","v":""},{"$f":"IF(申込一覧表A!H47=\"\",\"\",申込一覧表A!H47)","v":""}]
[null,{"$f":"IF(申込一覧表A!B48=\"\",\"\",IF(申込一覧表A!C48=\"\",申込一覧表A!B48,申込一覧表A!B48&\"(\"&申込一覧表A!C48&\")\"))","v":""},{"$f":"IF(申込一覧表A!D48=\"\",\"\",申込一覧表A!D48)","v":""},{"$f":"IF(申込一覧表A!F48=\"\",\"\",申込一覧表A!F48)","v":""},10,{"$f":"IF(申込一覧表A!Y48=\"\",\"\",申込一覧表A!Y48)","v":100000},{"$f":"IF(申込一覧表A!I48=\"\",\"\",申込一覧表A!I48)","v":""},{"$f":"IF(申込一覧表A!M48=\"\",\"\",申込一覧表A!M48&\" \"&申込一覧表A!O48)","v":""},{"$f":"IF(申込一覧表A!Q48=\"\",\"\",申込一覧表A!Q48&\" \"&申込一覧表A!S48)","v":""},{"$f":"IF(申込一覧表A!U48=\"\",\"\",申込一覧表A!U48&\" \"&申込一覧表A!W48)","v":""},null,{"$f":"IF(申込一覧表A!J48=\"\",\"\",\"0\"&申込一覧表A!J48)","v":""},{"$f":"IF(申込一覧表A!K48=\"\",\"\",申込一覧表A!K48)","v":""},{"$f":"IF(申込一覧表A!L48=\"\",\"\",申込一覧表A!L48)","v":""},null,{"$f":"IF(申込一覧表A!E48=\"\",\"\",申込一覧表A!E48)","v":""},"",{"$f":"IF(申込一覧表A!G48=\"\",\"\",申込一覧表A!G48)","v":""},{"$f":"IF(申込一覧表A!H48=\"\",\"\",申込一覧表A!H48)","v":""}]
[null,{"$f":"IF(申込一覧表A!B49=\"\",\"\",IF(申込一覧表A!C49=\"\",申込一覧表A!B49,申込一覧表A!B49&\"(\"&申込一覧表A!C49&\")\"))","v":""},{"$f":"IF(申込一覧表A!D49=\"\",\"\",申込一覧表A!D49)","v":""},{"$f":"IF(申込一覧表A!F49=\"\",\"\",申込一覧表A!F49)","v":""},10,{"$f":"IF(申込一覧表A!Y49=\"\",\"\",申込一覧表A!Y49)","v":100000},{"$f":"IF(申込一覧表A!I49=\"\",\"\",申込一覧表A!I49)","v":""},{"$f":"IF(申込一覧表A!M49=\"\",\"\",申込一覧表A!M49&\" \"&申込一覧表A!O49)","v":""},{"$f":"IF(申込一覧表A!Q49=\"\",\"\",申込一覧表A!Q49&\" \"&申込一覧表A!S49)","v":""},{"$f":"IF(申込一覧表A!U49=\"\",\"\",申込一覧表A!U49&\" \"&申込一覧表A!W49)","v":""},null,{"$f":"IF(申込一覧表A!J49=\"\",\"\",\"0\"&申込一覧表A!J49)","v":""},{"$f":"IF(申込一覧表A!K49=\"\",\"\",申込一覧表A!K49)","v":""},{"$f":"IF(申込一覧表A!L49=\"\",\"\",申込一覧表A!L49)","v":""},null,{"$f":"IF(申込一覧表A!E49=\"\",\"\",申込一覧表A!E49)","v":""},"",{"$f":"IF(申込一覧表A!G49=\"\",\"\",申込一覧表A!G49)","v":""},{"$f":"IF(申込一覧表A!H49=\"\",\"\",申込一覧表A!H49)","v":""}]
[null,{"$f":"IF(申込一覧表A!B50=\"\",\"\",IF(申込一覧表A!C50=\"\",申込一覧表A!B50,申込一覧表A!B50&\"(\"&申込一覧表A!C50&\")\"))","v":""},{"$f":"IF(申込一覧表A!D50=\"\",\"\",申込一覧表A!D50)","v":""},{"$f":"IF(申込一覧表A!F50=\"\",\"\",申込一覧表A!F50)","v":""},10,{"$f":"IF(申込一覧表A!Y50=\"\",\"\",申込一覧表A!Y50)","v":100000},{"$f":"IF(申込一覧表A!I50=\"\",\"\",申込一覧表A!I50)","v":""},{"$f":"IF(申込一覧表A!M50=\"\",\"\",申込一覧表A!M50&\" \"&申込一覧表A!O50)","v":""},{"$f":"IF(申込一覧表A!Q50=\"\",\"\",申込一覧表A!Q50&\" \"&申込一覧表A!S50)","v":""},{"$f":"IF(申込一覧表A!U50=\"\",\"\",申込一覧表A!U50&\" \"&申込一覧表A!W50)","v":""},null,{"$f":"IF(申込一覧表A!J50=\"\",\"\",\"0\"&申込一覧表A!J50)","v":""},{"$f":"IF(申込一覧表A!K50=\"\",\"\",申込一覧表A!K50)","v":""},{"$f":"IF(申込一覧表A!L50=\"\",\"\",申込一覧表A!L50)","v":""},null,{"$f":"IF(申込一覧表A!E50=\"\",\"\",申込一覧表A!E50)","v":""},"",{"$f":"IF(申込一覧表A!G50=\"\",\"\",申込一覧表A!G50)","v":""},{"$f":"IF(申込一覧表A!H50=\"\",\"\",申込一覧表A!H50)","v":""}]
[null,{"$f":"IF(申込一覧表A!B51=\"\",\"\",IF(申込一覧表A!C51=\"\",申込一覧表A!B51,申込一覧表A!B51&\"(\"&申込一覧表A!C51&\")\"))","v":""},{"$f":"IF(申込一覧表A!D51=\"\",\"\",申込一覧表A!D51)","v":""},{"$f":"IF(申込一覧表A!F51=\"\",\"\",申込一覧表A!F51)","v":""},10,{"$f":"IF(申込一覧表A!Y51=\"\",\"\",申込一覧表A!Y51)","v":100000},{"$f":"IF(申込一覧表A!I51=\"\",\"\",申込一覧表A!I51)","v":""},{"$f":"IF(申込一覧表A!M51=\"\",\"\",申込一覧表A!M51&\" \"&申込一覧表A!O51)","v":""},{"$f":"IF(申込一覧表A!Q51=\"\",\"\",申込一覧表A!Q51&\" \"&申込一覧表A!S51)","v":""},{"$f":"IF(申込一覧表A!U51=\"\",\"\",申込一覧表A!U51&\" \"&申込一覧表A!W51)","v":""},null,{"$f":"IF(申込一覧表A!J51=\"\",\"\",\"0\"&申込一覧表A!J51)","v":""},{"$f":"IF(申込一覧表A!K51=\"\",\"\",申込一覧表A!K51)","v":""},{"$f":"IF(申込一覧表A!L51=\"\",\"\",申込一覧表A!L51)","v":""},null,{"$f":"IF(申込一覧表A!E51=\"\",\"\",申込一覧表A!E51)","v":""},"",{"$f":"IF(申込一覧表A!G51=\"\",\"\",申込一覧表A!G51)","v":""},{"$f":"IF(申込一覧表A!H51=\"\",\"\",申込一覧表A!H51)","v":""}]
[null,{"$f":"IF(申込一覧表A!B52=\"\",\"\",IF(申込一覧表A!C52=\"\",申込一覧表A!B52,申込一覧表A!B52&\"(\"&申込一覧表A!C52&\")\"))","v":""},{"$f":"IF(申込一覧表A!D52=\"\",\"\",申込一覧表A!D52)","v":""},{"$f":"IF(申込一覧表A!F52=\"\",\"\",申込一覧表A!F52)","v":""},10,{"$f":"IF(申込一覧表A!Y52=\"\",\"\",申込一覧表A!Y52)","v":100000},{"$f":"IF(申込一覧表A!I52=\"\",\"\",申込一覧表A!I52)","v":""},{"$f":"IF(申込一覧表A!M52=\"\",\"\",申込一覧表A!M52&\" \"&申込一覧表A!O52)","v":""},{"$f":"IF(申込一覧表A!Q52=\"\",\"\",申込一覧表A!Q52&\" \"&申込一覧表A!S52)","v":""},{"$f":"IF(申込一覧表A!U52=\"\",\"\",申込一覧表A!U52&\" \"&申込一覧表A!W52)","v":""},null,{"$f":"IF(申込一覧表A!J52=\"\",\"\",\"0\"&申込一覧表A!J52)","v":""},{"$f":"IF(申込一覧表A!K52=\"\",\"\",申込一覧表A!K52)","v":""},{"$f":"IF(申込一覧表A!L52=\"\",\"\",申込一覧表A!L52)","v":""},null,{"$f":"IF(申込一覧表A!E52=\"\",\"\",申込一覧表A!E52)","v":""},"",{"$f":"IF(申込一覧表A!G52=\"\",\"\",申込一覧表A!G52)","v":""},{"$f":"IF(申込一覧表A!H52=\"\",\"\",申込一覧表A!H52)","v":""}]
[null,{"$f":"IF(申込一覧表A!B53=\"\",\"\",IF(申込一覧表A!C53=\"\",申込一覧表A!B53,申込一覧表A!B53&\"(\"&申込一覧表A!C53&\")\"))","v":""},{"$f":"IF(申込一覧表A!D53=\"\",\"\",申込一覧表A!D53)","v":""},{"$f":"IF(申込一覧表A!F53=\"\",\"\",申込一覧表A!F53)","v":""},10,{"$f":"IF(申込一覧表A!Y53=\"\",\"\",申込一覧表A!Y53)","v":100000},{"$f":"IF(申込一覧表A!I53=\"\",\"\",申込一覧表A!I53)","v":""},{"$f":"IF(申込一覧表A!M53=\"\",\"\",申込一覧表A!M53&\" \"&申込一覧表A!O53)","v":""},{"$f":"IF(申込一覧表A!Q53=\"\",\"\",申込一覧表A!Q53&\" \"&申込一覧表A!S53)","v":""},{"$f":"IF(申込一覧表A!U53=\"\",\"\",申込一覧表A!U53&\" \"&申込一覧表A!W53)","v":""},null,{"$f":"IF(申込一覧表A!J53=\"\",\"\",\"0\"&申込一覧表A!J53)","v":""},{"$f":"IF(申込一覧表A!K53=\"\",\"\",申込一覧表A!K53)","v":""},{"$f":"IF(申込一覧表A!L53=\"\",\"\",申込一覧表A!L53)","v":""},null,{"$f":"IF(申込一覧表A!E53=\"\",\"\",申込一覧表A!E53)","v":""},"",{"$f":"IF(申込一覧表A!G53=\"\",\"\",申込一覧表A!G53)","v":""},{"$f":"IF(申込一覧表A!H53=\"\",\"\",申込一覧表A!H53)","v":""}]
[null,{"$f":"IF(申込一覧表A!B54=\"\",\"\",IF(申込一覧表A!C54=\"\",申込一覧表A!B54,申込一覧表A!B54&\"(\"&申込一覧表A!C54&\")\"))","v":""},{"$f":"IF(申込一覧表A!D54=\"\",\"\",申込一覧表A!D54)","v":""},{"$f":"IF(申込一覧表A!F54=\"\",\"\",申込一覧表A!F54)","v":""},10,{"$f":"IF(申込一覧表A!Y54=\"\",\"\",申込一覧表A!Y54)","v":100000},{"$f":"IF(申込一覧表A!I54=\"\",\"\",申込一覧表A!I54)","v":""},{"$f":"IF(申込一覧表A!M54=\"\",\"\",申込一覧表A!M54&\" \"&申込一覧表A!O54)","v":""},{"$f":"IF(申込一覧表A!Q54=\"\",\"\",申込一覧表A!Q54&\" \"&申込一覧表A!S54)","v":""},{"$f":"IF(申込一覧表A!U54=\"\",\"\",申込一覧表A!U54&\" \"&申込一覧表A!W54)","v":""},null,{"$f":"IF(申込一覧表A!J54=\"\",\"\",\"0\"&申込一覧表A!J54)","v":""},{"$f":"IF(申込一覧表A!K54=\"\",\"\",申込一覧表A!K54)","v":""},{"$f":"IF(申込一覧表A!L54=\"\",\"\",申込一覧表A!L54)","v":""},null,{"$f":"IF(申込一覧表A!E54=\"\",\"\",申込一覧表A!E54)","v":""},"",{"$f":"IF(申込一覧表A!G54=\"\",\"\",申込一覧表A!G54)","v":""},{"$f":"IF(申込一覧表A!H54=\"\",\"\",申込一覧表A!H54)","v":""}]
[null,{"$f":"IF(申込一覧表A!B55=\"\",\"\",IF(申込一覧表A!C55=\"\",申込一覧表A!B55,申込一覧表A!B55&\"(\"&申込一覧表A!C55&\")\"))","v":""},{"$f":"IF(申込一覧表A!D55=\"\",\"\",申込一覧表A!D55)","v":""},{"$f":"IF(申込一覧表A!F55=\"\",\"\",申込一覧表A!F55)","v":""},10,{"$f":"IF(申込一覧表A!Y55=\"\",\"\",申込一覧表A!Y55)","v":100000},{"$f":"IF(申込一覧表A!I55=\"\",\"\",申込一覧表A!I55)","v":""},{"$f":"IF(申込一覧表A!M55=\"\",\"\",申込一覧表A!M55&\" \"&申込一覧表A!O55)","v":""},{"$f":"IF(申込一覧表A!Q55=\"\",\"\",申込一覧表A!Q55&\" \"&申込一覧表A!S55)","v":""},{"$f":"IF(申込一覧表A!U55=\"\",\"\",申込一覧表A!U55&\" \"&申込一覧表A!W55)","v":""},null,{"$f":"IF(申込一覧表A!J55=\"\",\"\",\"0\"&申込一覧表A!J55)","v":""},{"$f":"IF(申込一覧表A!K55=\"\",\"\",申込一覧表A!K55)","v":""},{"$f":"IF(申込一覧表A!L55=\"\",\"\",申込一覧表A!L55)","v":""},null,{"$f":"IF(申込一覧表A!E55=\"\",\"\",申込一覧表A!E55)","v":""},"",{"$f":"IF(申込一覧表A!G55=\"\",\"\",申込一覧表A!G55)","v":""},{"$f":"IF(申込一覧表A!H55=\"\",\"\",申込一覧表A!H55)","v":""}]
[null,{"$f":"IF(申込一覧表A!B56=\"\",\"\",IF(申込一覧表A!C56=\"\",申込一覧表A!B56,申込一覧表A!B56&\"(\"&申込一覧表A!C56&\")\"))","v":""},{"$f":"IF(申込一覧表A!D56=\"\",\"\",申込一覧表A!D56)","v":""},{"$f":"IF(申込一覧表A!F56=\"\",\"\",申込一覧表A!F56)","v":""},10,{"$f":"IF(申込一覧表A!Y56=\"\",\"\",申込一覧表A!Y56)","v":100000},{"$f":"IF(申込一覧表A!I56=\"\",\"\",申込一覧表A!I56)","v":""},{"$f":"IF(申込一覧表A!M56=\"\",\"\",申込一覧表A!M56&\" \"&申込一覧表A!O56)","v":""},{"$f":"IF(申込一覧表A!Q56=\"\",\"\",申込一覧表A!Q56&\" \"&申込一覧表A!S56)","v":""},{"$f":"IF(申込一覧表A!U56=\"\",\"\",申込一覧表A!U56&\" \"&申込一覧表A!W56)","v":""},null,{"$f":"IF(申込一覧表A!J56=\"\",\"\",\"0\"&申込一覧表A!J56)","v":""},{"$f":"IF(申込一覧表A!K56=\"\",\"\",申込一覧表A!K56)","v":""},{"$f":"IF(申込一覧表A!L56=\"\",\"\",申込一覧表A!L56)","v":""},null,{"$f":"IF(申込一覧表A!E56=\"\",\"\",申込一覧表A!E56)","v":""},"",{"$f":"IF(申込一覧表A!G56=\"\",\"\",申込一覧表A!G56)","v":""},{"$f":"IF(申込一覧表A!H56=\"\",\"\",申込一覧表A!H56)","v":""}]
[null,{"$f":"IF(申込一覧表A!B57=\"\",\"\",IF(申込一覧表A!C57=\"\",申込一覧表A!B57,申込一覧表A!B57&\"(\"&申込一覧表A!C57&\")\"))","v":""},{"$f":"IF(申込一覧表A!D57=\"\",\"\",申込一覧表A!D57)","v":""},{"$f":"IF(申込一覧表A!F57=\"\",\"\",申込一覧表A!F57)","v":""},10,{"$f":"IF(申込一覧表A!Y57=\"\",\"\",申込一覧表A!Y57)","v":100000},{"$f":"IF(申込一覧表A!I57=\"\",\"\",申込一覧表A!I57)","v":""},{"$f":"IF(申込一覧表A!M57=\"\",\"\",申込一覧表A!M57&\" \"&申込一覧表A!O57)","v":""},{"$f":"IF(申込一覧表A!Q57=\"\",\"\",申込一覧表A!Q57&\" \"&申込一覧表A!S57)","v":""},{"$f":"IF(申込一覧表A!U57=\"\",\"\",申込一覧表A!U57&\" \"&申込一覧表A!W57)","v":""},null,{"$f":"IF(申込一覧表A!J57=\"\",\"\",\"0\"&申込一覧表A!J57)","v":""},{"$f":"IF(申込一覧表A!K57=\"\",\"\",申込一覧表A!K57)","v":""},{"$f":"IF(申込一覧表A!L57=\"\",\"\",申込一覧表A!L57)","v":""},null,{"$f":"IF(申込一覧表A!E57=\"\",\"\",申込一覧表A!E57)","v":""},"",{"$f":"IF(申込一覧表A!G57=\"\",\"\",申込一覧表A!G57)","v":""},{"$f":"IF(申込一覧表A!H57=\"\",\"\",申込一覧表A!H57)","v":""}]
[null,{"$f":"IF(申込一覧表A!B58=\"\",\"\",IF(申込一覧表A!C58=\"\",申込一覧表A!B58,申込一覧表A!B58&\"(\"&申込一覧表A!C58&\")\"))","v":""},{"$f":"IF(申込一覧表A!D58=\"\",\"\",申込一覧表A!D58)","v":""},{"$f":"IF(申込一覧表A!F58=\"\",\"\",申込一覧表A!F58)","v":""},10,{"$f":"IF(申込一覧表A!Y58=\"\",\"\",申込一覧表A!Y58)","v":100000},{"$f":"IF(申込一覧表A!I58=\"\",\"\",申込一覧表A!I58)","v":""},{"$f":"IF(申込一覧表A!M58=\"\",\"\",申込一覧表A!M58&\" \"&申込一覧表A!O58)","v":""},{"$f":"IF(申込一覧表A!Q58=\"\",\"\",申込一覧表A!Q58&\" \"&申込一覧表A!S58)","v":""},{"$f":"IF(申込一覧表A!U58=\"\",\"\",申込一覧表A!U58&\" \"&申込一覧表A!W58)","v":""},null,{"$f":"IF(申込一覧表A!J58=\"\",\"\",\"0\"&申込一覧表A!J58)","v":""},{"$f":"IF(申込一覧表A!K58=\"\",\"\",申込一覧表A!K58)","v":""},{"$f":"IF(申込一覧表A!L58=\"\",\"\",申込一覧表A!L58)","v":""},null,{"$f":"IF(申込一覧表A!E58=\"\",\"\",申込一覧表A!E58)","v":""},"",{"$f":"IF(申込一覧表A!G58=\"\",\"\",申込一覧表A!G58)","v":""},{"$f":"IF(申込一覧表A!H58=\"\",\"\",申込一覧表A!H58)","v":""}]
[null,{"$f":"IF(申込一覧表A!B59=\"\",\"\",IF(申込一覧表A!C59=\"\",申込一覧表A!B59,申込一覧表A!B59&\"(\"&申込一覧表A!C59&\")\"))","v":""},{"$f":"IF(申込一覧表A!D59=\"\",\"\",申込一覧表A!D59)","v":""},{"$f":"IF(申込一覧表A!F59=\"\",\"\",申込一覧表A!F59)","v":""},10,{"$f":"IF(申込一覧表A!Y59=\"\",\"\",申込一覧表A!Y59)","v":100000},{"$f":"IF(申込一覧表A!I59=\"\",\"\",申込一覧表A!I59)","v":""},{"$f":"IF(申込一覧表A!M59=\"\",\"\",申込一覧表A!M59&\" \"&申込一覧表A!O59)","v":""},{"$f":"IF(申込一覧表A!Q59=\"\",\"\",申込一覧表A!Q59&\" \"&申込一覧表A!S59)","v":""},{"$f":"IF(申込一覧表A!U59=\"\",\"\",申込一覧表A!U59&\" \"&申込一覧表A!W59)","v":""},null,{"$f":"IF(申込一覧表A!J59=\"\",\"\",\"0\"&申込一覧表A!J59)","v":""},{"$f":"IF(申込一覧表A!K59=\"\",\"\",申込一覧表A!K59)","v":""},{"$f":"IF(申込一覧表A!L59=\"\",\"\",申込一覧表A!L59)","v":""},null,{"$f":"IF(申込一覧表A!E59=\"\",\"\",申込一覧表A!E59)","v":""},"",{"$f":"IF(申込一覧表A!G59=\"\",\"\",申込一覧表A!G59)","v":""},{"$f":"IF(申込一覧表A!H59=\"\",\"\",申込一覧表A!H59)","v":""}]
[null,{"$f":"IF(申込一覧表A!B60=\"\",\"\",IF(申込一覧表A!C60=\"\",申込一覧表A!B60,申込一覧表A!B60&\"(\"&申込一覧表A!C60&\")\"))","v":""},{"$f":"IF(申込一覧表A!D60=\"\",\"\",申込一覧表A!D60)","v":""},{"$f":"IF(申込一覧表A!F60=\"\",\"\",申込一覧表A!F60)","v":""},10,{"$f":"IF(申込一覧表A!Y60=\"\",\"\",申込一覧表A!Y60)","v":100000},{"$f":"IF(申込一覧表A!I60=\"\",\"\",申込一覧表A!I60)","v":""},{"$f":"IF(申込一覧表A!M60=\"\",\"\",申込一覧表A!M60&\" \"&申込一覧表A!O60)","v":""},{"$f":"IF(申込一覧表A!Q60=\"\",\"\",申込一覧表A!Q60&\" \"&申込一覧表A!S60)","v":""},{"$f":"IF(申込一覧表A!U60=\"\",\"\",申込一覧表A!U60&\" \"&申込一覧表A!W60)","v":""},null,{"$f":"IF(申込一覧表A!J60=\"\",\"\",\"0\"&申込一覧表A!J60)","v":""},{"$f":"IF(申込一覧表A!K60=\"\",\"\",申込一覧表A!K60)","v":""},{"$f":"IF(申込一覧表A!L60=\"\",\"\",申込一覧表A!L60)","v":""},null,{"$f":"IF(申込一覧表A!E60=\"\",\"\",申込一覧表A!E60)","v":""},"",{"$f":"IF(申込一覧表A!G60=\"\",\"\",申込一覧表A!G60)","v":""},{"$f":"IF(申込一覧表A!H60=\"\",\"\",申込一覧表A!H60)","v":""}]
[null,{"$f":"IF(申込一覧表A!B61=\"\",\"\",IF(申込一覧表A!C61=\"\",申込一覧表A!B61,申込一覧表A!B61&\"(\"&申込一覧表A!C61&\")\"))","v":""},{"$f":"IF(申込一覧表A!D61=\"\",\"\",申込一覧表A!D61)","v":""},{"$f":"IF(申込一覧表A!F61=\"\",\"\",申込一覧表A!F61)","v":""},10,{"$f":"IF(申込一覧表A!Y61=\"\",\"\",申込一覧表A!Y61)","v":100000},{"$f":"IF(申込一覧表A!I61=\"\",\"\",申込一覧表A!I61)","v":""},{"$f":"IF(申込一覧表A!M61=\"\",\"\",申込一覧表A!M61&\" \"&申込一覧表A!O61)","v":""},{"$f":"IF(申込一覧表A!Q61=\"\",\"\",申込一覧表A!Q61&\" \"&申込一覧表A!S61)","v":""},{"$f":"IF(申込一覧表A!U61=\"\",\"\",申込一覧表A!U61&\" \"&申込一覧表A!W61)","v":""},null,{"$f":"IF(申込一覧表A!J61=\"\",\"\",\"0\"&申込一覧表A!J61)","v":""},{"$f":"IF(申込一覧表A!K61=\"\",\"\",申込一覧表A!K61)","v":""},{"$f":"IF(申込一覧表A!L61=\"\",\"\",申込一覧表A!L61)","v":""},null,{"$f":"IF(申込一覧表A!E61=\"\",\"\",申込一覧表A!E61)","v":""},"",{"$f":"IF(申込一覧表A!G61=\"\",\"\",申込一覧表A!G61)","v":""},{"$f":"IF(申込一覧表A!H61=\"\",\"\",申込一覧表A!H61)","v":""}]
[null,{"$f":"IF(申込一覧表A!B62=\"\",\"\",IF(申込一覧表A!C62=\"\",申込一覧表A!B62,申込一覧表A!B62&\"(\"&申込一覧表A!C62&\")\"))","v":""},{"$f":"IF(申込一覧表A!D62=\"\",\"\",申込一覧表A!D62)","v":""},{"$f":"IF(申込一覧表A!F62=\"\",\"\",申込一覧表A!F62)","v":""},10,{"$f":"IF(申込一覧表A!Y62=\"\",\"\",申込一覧表A!Y62)","v":100000},{"$f":"IF(申込一覧表A!I62=\"\",\"\",申込一覧表A!I62)","v":""},{"$f":"IF(申込一覧表A!M62=\"\",\"\",申込一覧表A!M62&\" \"&申込一覧表A!O62)","v":""},{"$f":"IF(申込一覧表A!Q62=\"\",\"\",申込一覧表A!Q62&\" \"&申込一覧表A!S62)","v":""},{"$f":"IF(申込一覧表A!U62=\"\",\"\",申込一覧表A!U62&\" \"&申込一覧表A!W62)","v":""},null,{"$f":"IF(申込一覧表A!J62=\"\",\"\",\"0\"&申込一覧表A!J62)","v":""},{"$f":"IF(申込一覧表A!K62=\"\",\"\",申込一覧表A!K62)","v":""},{"$f":"IF(申込一覧表A!L62=\"\",\"\",申込一覧表A!L62)","v":""},null,{"$f":"IF(申込一覧表A!E62=\"\",\"\",申込一覧表A!E62)","v":""},"",{"$f":"IF(申込一覧表A!G62=\"\",\"\",申込一覧表A!G62)","v":""},{"$f":"IF(申込一覧表A!H62=\"\",\"\",申込一覧表A!H62)","v":""}]
[null,{"$f":"IF(申込一覧表A!B63=\"\",\"\",IF(申込一覧表A!C63=\"\",申込一覧表A!B63,申込一覧表A!B63&\"(\"&申込一覧表A!C63&\")\"))","v":""},{"$f":"IF(申込一覧表A!D63=\"\",\"\",申込一覧表A!D63)","v":""},{"$f":"IF(申込一覧表A!F63=\"\",\"\",申込一覧表A!F63)","v":""},10,{"$f":"IF(申込一覧表A!Y63=\"\",\"\",申込一覧表A!Y63)","v":100000},{"$f":"IF(申込一覧表A!I63=\"\",\"\",申込一覧表A!I63)","v":""},{"$f":"IF(申込一覧表A!M63=\"\",\"\",申込一覧表A!M63&\" \"&申込一覧表A!O63)","v":""},{"$f":"IF(申込一覧表A!Q63=\"\",\"\",申込一覧表A!Q63&\" \"&申込一覧表A!S63)","v":""},{"$f":"IF(申込一覧表A!U63=\"\",\"\",申込一覧表A!U63&\" \"&申込一覧表A!W63)","v":""},null,{"$f":"IF(申込一覧表A!J63=\"\",\"\",\"0\"&申込一覧表A!J63)","v":""},{"$f":"IF(申込一覧表A!K63=\"\",\"\",申込一覧表A!K63)","v":""},{"$f":"IF(申込一覧表A!L63=\"\",\"\",申込一覧表A!L63)","v":""},null,{"$f":"IF(申込一覧表A!E63=\"\",\"\",申込一覧表A!E63)","v":""},"",{"$f":"IF(申込一覧表A!G63=\"\",\"\",申込一覧表A!G63)","v":""},{"$f":"IF(申込一覧表A!H63=\"\",\"\",申込一覧表A!H63)","v":""}]
[null,{"$f":"IF(申込一覧表A!B64=\"\",\"\",IF(申込一覧表A!C64=\"\",申込一覧表A!B64,申込一覧表A!B64&\"(\"&申込一覧表A!C64&\")\"))","v":""},{"$f":"IF(申込一覧表A!D64=\"\",\"\",申込一覧表A!D64)","v":""},{"$f":"IF(申込一覧表A!F64=\"\",\"\",申込一覧表A!F64)","v":""},10,{"$f":"IF(申込一覧表A!Y64=\"\",\"\",申込一覧表A!Y64)","v":100000},{"$f":"IF(申込一覧表A!I64=\"\",\"\",申込一覧表A!I64)","v":""},{"$f":"IF(申込一覧表A!M64=\"\",\"\",申込一覧表A!M64&\" \"&申込一覧表A!O64)","v":""},{"$f":"IF(申込一覧表A!Q64=\"\",\"\",申込一覧表A!Q64&\" \"&申込一覧表A!S64)","v":""},{"$f":"IF(申込一覧表A!U64=\"\",\"\",申込一覧表A!U64&\" \"&申込一覧表A!W64)","v":""},null,{"$f":"IF(申込一覧表A!J64=\"\",\"\",\"0\"&申込一覧表A!J64)","v":""},{"$f":"IF(申込一覧表A!K64=\"\",\"\",申込一覧表A!K64)","v":""},{"$f":"IF(申込一覧表A!L64=\"\",\"\",申込一覧表A!L64)","v":""},null,{"$f":"IF(申込一覧表A!E64=\"\",\"\",申込一覧表A!E64)","v":""},"",{"$f":"IF(申込一覧表A!G64=\"\",\"\",申込一覧表A!G64)","v":""},{"$f":"IF(申込一覧表A!H64=\"\",\"\",申込一覧表A!H64)","v":""}]
[null,{"$f":"IF(申込一覧表A!B65=\"\",\"\",IF(申込一覧表A!C65=\"\",申込一覧表A!B65,申込一覧表A!B65&\"(\"&申込一覧表A!C65&\")\"))","v":""},{"$f":"IF(申込一覧表A!D65=\"\",\"\",申込一覧表A!D65)","v":""},{"$f":"IF(申込一覧表A!F65=\"\",\"\",申込一覧表A!F65)","v":""},10,{"$f":"IF(申込一覧表A!Y65=\"\",\"\",申込一覧表A!Y65)","v":100000},{"$f":"IF(申込一覧表A!I65=\"\",\"\",申込一覧表A!I65)","v":""},{"$f":"IF(申込一覧表A!M65=\"\",\"\",申込一覧表A!M65&\" \"&申込一覧表A!O65)","v":""},{"$f":"IF(申込一覧表A!Q65=\"\",\"\",申込一覧表A!Q65&\" \"&申込一覧表A!S65)","v":""},{"$f":"IF(申込一覧表A!U65=\"\",\"\",申込一覧表A!U65&\" \"&申込一覧表A!W65)","v":""},null,{"$f":"IF(申込一覧表A!J65=\"\",\"\",\"0\"&申込一覧表A!J65)","v":""},{"$f":"IF(申込一覧表A!K65=\"\",\"\",申込一覧表A!K65)","v":""},{"$f":"IF(申込一覧表A!L65=\"\",\"\",申込一覧表A!L65)","v":""},null,{"$f":"IF(申込一覧表A!E65=\"\",\"\",申込一覧表A!E65)","v":""},"",{"$f":"IF(申込一覧表A!G65=\"\",\"\",申込一覧表A!G65)","v":""},{"$f":"IF(申込一覧表A!H65=\"\",\"\",申込一覧表A!H65)","v":""}]
[null,{"$f":"IF(申込一覧表A!B66=\"\",\"\",IF(申込一覧表A!C66=\"\",申込一覧表A!B66,申込一覧表A!B66&\"(\"&申込一覧表A!C66&\")\"))","v":""},{"$f":"IF(申込一覧表A!D66=\"\",\"\",申込一覧表A!D66)","v":""},{"$f":"IF(申込一覧表A!F66=\"\",\"\",申込一覧表A!F66)","v":""},10,{"$f":"IF(申込一覧表A!Y66=\"\",\"\",申込一覧表A!Y66)","v":100000},{"$f":"IF(申込一覧表A!I66=\"\",\"\",申込一覧表A!I66)","v":""},{"$f":"IF(申込一覧表A!M66=\"\",\"\",申込一覧表A!M66&\" \"&申込一覧表A!O66)","v":""},{"$f":"IF(申込一覧表A!Q66=\"\",\"\",申込一覧表A!Q66&\" \"&申込一覧表A!S66)","v":""},{"$f":"IF(申込一覧表A!U66=\"\",\"\",申込一覧表A!U66&\" \"&申込一覧表A!W66)","v":""},null,{"$f":"IF(申込一覧表A!J66=\"\",\"\",\"0\"&申込一覧表A!J66)","v":""},{"$f":"IF(申込一覧表A!K66=\"\",\"\",申込一覧表A!K66)","v":""},{"$f":"IF(申込一覧表A!L66=\"\",\"\",申込一覧表A!L66)","v":""},null,{"$f":"IF(申込一覧表A!E66=\"\",\"\",申込一覧表A!E66)","v":""},"",{"$f":"IF(申込一覧表A!G66=\"\",\"\",申込一覧表A!G66)","v":""},{"$f":"IF(申込一覧表A!H66=\"\",\"\",申込一覧表A!H66)","v":""}]
[null,{"$f":"IF(申込一覧表A!B67=\"\",\"\",IF(申込一覧表A!C67=\"\",申込一覧表A!B67,申込一覧表A!B67&\"(\"&申込一覧表A!C67&\")\"))","v":""},{"$f":"IF(申込一覧表A!D67=\"\",\"\",申込一覧表A!D67)","v":""},{"$f":"IF(申込一覧表A!F67=\"\",\"\",申込一覧表A!F67)","v":""},10,{"$f":"IF(申込一覧表A!Y67=\"\",\"\",申込一覧表A!Y67)","v":100000},{"$f":"IF(申込一覧表A!I67=\"\",\"\",申込一覧表A!I67)","v":""},{"$f":"IF(申込一覧表A!M67=\"\",\"\",申込一覧表A!M67&\" \"&申込一覧表A!O67)","v":""},{"$f":"IF(申込一覧表A!Q67=\"\",\"\",申込一覧表A!Q67&\" \"&申込一覧表A!S67)","v":""},{"$f":"IF(申込一覧表A!U67=\"\",\"\",申込一覧表A!U67&\" \"&申込一覧表A!W67)","v":""},null,{"$f":"IF(申込一覧表A!J67=\"\",\"\",\"0\"&申込一覧表A!J67)","v":""},{"$f":"IF(申込一覧表A!K67=\"\",\"\",申込一覧表A!K67)","v":""},{"$f":"IF(申込一覧表A!L67=\"\",\"\",申込一覧表A!L67)","v":""},null,{"$f":"IF(申込一覧表A!E67=\"\",\"\",申込一覧表A!E67)","v":""},"",{"$f":"IF(申込一覧表A!G67=\"\",\"\",申込一覧表A!G67)","v":""},{"$f":"IF(申込一覧表A!H67=\"\",\"\",申込一覧表A!H67)","v":""}]
[null,{"$f":"IF(申込一覧表A!B68=\"\",\"\",IF(申込一覧表A!C68=\"\",申込一覧表A!B68,申込一覧表A!B68&\"(\"&申込一覧表A!C68&\")\"))","v":""},{"$f":"IF(申込一覧表A!D68=\"\",\"\",申込一覧表A!D68)","v":""},{"$f":"IF(申込一覧表A!F68=\"\",\"\",申込一覧表A!F68)","v":""},10,{"$f":"IF(申込一覧表A!Y68=\"\",\"\",申込一覧表A!Y68)","v":100000},{"$f":"IF(申込一覧表A!I68=\"\",\"\",申込一覧表A!I68)","v":""},{"$f":"IF(申込一覧表A!M68=\"\",\"\",申込一覧表A!M68&\" \"&申込一覧表A!O68)","v":""},{"$f":"IF(申込一覧表A!Q68=\"\",\"\",申込一覧表A!Q68&\" \"&申込一覧表A!S68)","v":""},{"$f":"IF(申込一覧表A!U68=\"\",\"\",申込一覧表A!U68&\" \"&申込一覧表A!W68)","v":""},null,{"$f":"IF(申込一覧表A!J68=\"\",\"\",\"0\"&申込一覧表A!J68)","v":""},{"$f":"IF(申込一覧表A!K68=\"\",\"\",申込一覧表A!K68)","v":""},{"$f":"IF(申込一覧表A!L68=\"\",\"\",申込一覧表A!L68)","v":""},null,{"$f":"IF(申込一覧表A!E68=\"\",\"\",申込一覧表A!E68)","v":""},"",{"$f":"IF(申込一覧表A!G68=\"\",\"\",申込一覧表A!G68)","v":""},{"$f":"IF(申込一覧表A!H68=\"\",\"\",申込一覧表A!H68)","v":""}]
[null,{"$f":"IF(申込一覧表A!B69=\"\",\"\",IF(申込一覧表A!C69=\"\",申込一覧表A!B69,申込一覧表A!B69&\"(\"&申込一覧表A!C69&\")\"))","v":""},{"$f":"IF(申込一覧表A!D69=\"\",\"\",申込一覧表A!D69)","v":""},{"$f":"IF(申込一覧表A!F69=\"\",\"\",申込一覧表A!F69)","v":""},10,{"$f":"IF(申込一覧表A!Y69=\"\",\"\",申込一覧表A!Y69)","v":100000},{"$f":"IF(申込一覧表A!I69=\"\",\"\",申込一覧表A!I69)","v":""},{"$f":"IF(申込一覧表A!M69=\"\",\"\",申込一覧表A!M69&\" \"&申込一覧表A!O69)","v":""},{"$f":"IF(申込一覧表A!Q69=\"\",\"\",申込一覧表A!Q69&\" \"&申込一覧表A!S69)","v":""},{"$f":"IF(申込一覧表A!U69=\"\",\"\",申込一覧表A!U69&\" \"&申込一覧表A!W69)","v":""},null,{"$f":"IF(申込一覧表A!J69=\"\",\"\",\"0\"&申込一覧表A!J69)","v":""},{"$f":"IF(申込一覧表A!K69=\"\",\"\",申込一覧表A!K69)","v":""},{"$f":"IF(申込一覧表A!L69=\"\",\"\",申込一覧表A!L69)","v":""},null,{"$f":"IF(申込一覧表A!E69=\"\",\"\",申込一覧表A!E69)","v":""},"",{"$f":"IF(申込一覧表A!G69=\"\",\"\",申込一覧表A!G69)","v":""},{"$f":"IF(申込一覧表A!H69=\"\",\"\",申込一覧表A!H69)","v":""}]
[null,{"$f":"IF(申込一覧表A!B70=\"\",\"\",IF(申込一覧表A!C70=\"\",申込一覧表A!B70,申込一覧表A!B70&\"(\"&申込一覧表A!C70&\")\"))","v":""},{"$f":"IF(申込一覧表A!D70=\"\",\"\",申込一覧表A!D70)","v":""},{"$f":"IF(申込一覧表A!F70=\"\",\"\",申込一覧表A!F70)","v":""},10,{"$f":"IF(申込一覧表A!Y70=\"\",\"\",申込一覧表A!Y70)","v":100000},{"$f":"IF(申込一覧表A!I70=\"\",\"\",申込一覧表A!I70)","v":""},{"$f":"IF(申込一覧表A!M70=\"\",\"\",申込一覧表A!M70&\" \"&申込一覧表A!O70)","v":""},{"$f":"IF(申込一覧表A!Q70=\"\",\"\",申込一覧表A!Q70&\" \"&申込一覧表A!S70)","v":""},{"$f":"IF(申込一覧表A!U70=\"\",\"\",申込一覧表A!U70&\" \"&申込一覧表A!W70)","v":""},null,{"$f":"IF(申込一覧表A!J70=\"\",\"\",\"0\"&申込一覧表A!J70)","v":""},{"$f":"IF(申込一覧表A!K70=\"\",\"\",申込一覧表A!K70)","v":""},{"$f":"IF(申込一覧表A!L70=\"\",\"\",申込一覧表A!L70)","v":""},null,{"$f":"IF(申込一覧表A!E70=\"\",\"\",申込一覧表A!E70)","v":""},"",{"$f":"IF(申込一覧表A!G70=\"\",\"\",申込一覧表A!G70)","v":""},{"$f":"IF(申込一覧表A!H70=\"\",\"\",申込一覧表A!H70)","v":""}]
[null,{"$f":"IF(申込一覧表A!B71=\"\",\"\",IF(申込一覧表A!C71=\"\",申込一覧表A!B71,申込一覧表A!B71&\"(\"&申込一覧表A!C71&\")\"))","v":""},{"$f":"IF(申込一覧表A!D71=\"\",\"\",申込一覧表A!D71)","v":""},{"$f":"IF(申込一覧表A!F71=\"\",\"\",申込一覧表A!F71)","v":""},10,{"$f":"IF(申込一覧表A!Y71=\"\",\"\",申込一覧表A!Y71)","v":100000},{"$f":"IF(申込一覧表A!I71=\"\",\"\",申込一覧表A!I71)","v":""},{"$f":"IF(申込一覧表A!M71=\"\",\"\",申込一覧表A!M71&\" \"&申込一覧表A!O71)","v":""},{"$f":"IF(申込一覧表A!Q71=\"\",\"\",申込一覧表A!Q71&\" \"&申込一覧表A!S71)","v":""},{"$f":"IF(申込一覧表A!U71=\"\",\"\",申込一覧表A!U71&\" \"&申込一覧表A!W71)","v":""},null,{"$f":"IF(申込一覧表A!J71=\"\",\"\",\"0\"&申込一覧表A!J71)","v":""},{"$f":"IF(申込一覧表A!K71=\"\",\"\",申込一覧表A!K71)","v":""},{"$f":"IF(申込一覧表A!L71=\"\",\"\",申込一覧表A!L71)","v":""},null,{"$f":"IF(申込一覧表A!E71=\"\",\"\",申込一覧表A!E71)","v":""},{"$f":"IF(D66=\"\",\"\",IF(D66=1,\"m\",\"f\"))","v":""},{"$f":"IF(申込一覧表A!G71=\"\",\"\",申込一覧表A!G71)","v":""},{"$f":"IF(申込一覧表A!H71=\"\",\"\",申込一覧表A!H71)","v":""}]
[null,{"$f":"IF(申込一覧表A!B72=\"\",\"\",IF(申込一覧表A!C72=\"\",申込一覧表A!B72,申込一覧表A!B72&\"(\"&申込一覧表A!C72&\")\"))","v":""},{"$f":"IF(申込一覧表A!D72=\"\",\"\",申込一覧表A!D72)","v":""},{"$f":"IF(申込一覧表A!F72=\"\",\"\",申込一覧表A!F72)","v":""},10,{"$f":"IF(申込一覧表A!Y72=\"\",\"\",申込一覧表A!Y72)","v":100000},{"$f":"IF(申込一覧表A!I72=\"\",\"\",申込一覧表A!I72)","v":""},{"$f":"IF(申込一覧表A!M72=\"\",\"\",申込一覧表A!M72&\" \"&申込一覧表A!O72)","v":""},{"$f":"IF(申込一覧表A!Q72=\"\",\"\",申込一覧表A!Q72&\" \"&申込一覧表A!S72)","v":""},{"$f":"IF(申込一覧表A!U72=\"\",\"\",申込一覧表A!U72&\" \"&申込一覧表A!W72)","v":""},null,{"$f":"IF(申込一覧表A!J72=\"\",\"\",\"0\"&申込一覧表A!J72)","v":""},{"$f":"IF(申込一覧表A!K72=\"\",\"\",申込一覧表A!K72)","v":""},{"$f":"IF(申込一覧表A!L72=\"\",\"\",申込一覧表A!L72)","v":""},null,{"$f":"IF(申込一覧表A!E72=\"\",\"\",申込一覧表A!E72)","v":""},"",{"$f":"IF(申込一覧表A!G72=\"\",\"\",申込一覧表A!G72)","v":""},{"$f":"IF(申込一覧表A!H72=\"\",\"\",申込一覧表A!H72)","v":""}]
[null,{"$f":"IF(申込一覧表A!B73=\"\",\"\",IF(申込一覧表A!C73=\"\",申込一覧表A!B73,申込一覧表A!B73&\"(\"&申込一覧表A!C73&\")\"))","v":""},{"$f":"IF(申込一覧表A!D73=\"\",\"\",申込一覧表A!D73)","v":""},{"$f":"IF(申込一覧表A!F73=\"\",\"\",申込一覧表A!F73)","v":""},10,{"$f":"IF(申込一覧表A!Y73=\"\",\"\",申込一覧表A!Y73)","v":100000},{"$f":"IF(申込一覧表A!I73=\"\",\"\",申込一覧表A!I73)","v":""},{"$f":"IF(申込一覧表A!M73=\"\",\"\",申込一覧表A!M73&\" \"&申込一覧表A!O73)","v":""},{"$f":"IF(申込一覧表A!Q73=\"\",\"\",申込一覧表A!Q73&\" \"&申込一覧表A!S73)","v":""},{"$f":"IF(申込一覧表A!U73=\"\",\"\",申込一覧表A!U73&\" \"&申込一覧表A!W73)","v":""},null,{"$f":"IF(申込一覧表A!J73=\"\",\"\",\"0\"&申込一覧表A!J73)","v":""},{"$f":"IF(申込一覧表A!K73=\"\",\"\",申込一覧表A!K73)","v":""},{"$f":"IF(申込一覧表A!L73=\"\",\"\",申込一覧表A!L73)","v":""},null,{"$f":"IF(申込一覧表A!E73=\"\",\"\",申込一覧表A!E73)","v":""},"",{"$f":"IF(申込一覧表A!G73=\"\",\"\",申込一覧表A!G73)","v":""},{"$f":"IF(申込一覧表A!H73=\"\",\"\",申込一覧表A!H73)","v":""}]
[null,{"$f":"IF(申込一覧表A!B74=\"\",\"\",IF(申込一覧表A!C74=\"\",申込一覧表A!B74,申込一覧表A!B74&\"(\"&申込一覧表A!C74&\")\"))","v":""},{"$f":"IF(申込一覧表A!D74=\"\",\"\",申込一覧表A!D74)","v":""},{"$f":"IF(申込一覧表A!F74=\"\",\"\",申込一覧表A!F74)","v":""},10,{"$f":"IF(申込一覧表A!Y74=\"\",\"\",申込一覧表A!Y74)","v":100000},{"$f":"IF(申込一覧表A!I74=\"\",\"\",申込一覧表A!I74)","v":""},{"$f":"IF(申込一覧表A!M74=\"\",\"\",申込一覧表A!M74&\" \"&申込一覧表A!O74)","v":""},{"$f":"IF(申込一覧表A!Q74=\"\",\"\",申込一覧表A!Q74&\" \"&申込一覧表A!S74)","v":""},{"$f":"IF(申込一覧表A!U74=\"\",\"\",申込一覧表A!U74&\" \"&申込一覧表A!W74)","v":""},null,{"$f":"IF(申込一覧表A!J74=\"\",\"\",\"0\"&申込一覧表A!J74)","v":""},{"$f":"IF(申込一覧表A!K74=\"\",\"\",申込一覧表A!K74)","v":""},{"$f":"IF(申込一覧表A!L74=\"\",\"\",申込一覧表A!L74)","v":""},null,{"$f":"IF(申込一覧表A!E74=\"\",\"\",申込一覧表A!E74)","v":""},"",{"$f":"IF(申込一覧表A!G74=\"\",\"\",申込一覧表A!G74)","v":""},{"$f":"IF(申込一覧表A!H74=\"\",\"\",申込一覧表A!H74)","v":""}]
[null,{"$f":"IF(申込一覧表A!B75=\"\",\"\",IF(申込一覧表A!C75=\"\",申込一覧表A!B75,申込一覧表A!B75&\"(\"&申込一覧表A!C75&\")\"))","v":""},{"$f":"IF(申込一覧表A!D75=\"\",\"\",申込一覧表A!D75)","v":""},{"$f":"IF(申込一覧表A!F75=\"\",\"\",申込一覧表A!F75)","v":""},10,{"$f":"IF(申込一覧表A!Y75=\"\",\"\",申込一覧表A!Y75)","v":100000},{"$f":"IF(申込一覧表A!I75=\"\",\"\",申込一覧表A!I75)","v":""},{"$f":"IF(申込一覧表A!M75=\"\",\"\",申込一覧表A!M75&\" \"&申込一覧表A!O75)","v":""},{"$f":"IF(申込一覧表A!Q75=\"\",\"\",申込一覧表A!Q75&\" \"&申込一覧表A!S75)","v":""},{"$f":"IF(申込一覧表A!U75=\"\",\"\",申込一覧表A!U75&\" \"&申込一覧表A!W75)","v":""},null,{"$f":"IF(申込一覧表A!J75=\"\",\"\",\"0\"&申込一覧表A!J75)","v":""},{"$f":"IF(申込一覧表A!K75=\"\",\"\",申込一覧表A!K75)","v":""},{"$f":"IF(申込一覧表A!L75=\"\",\"\",申込一覧表A!L75)","v":""},null,{"$f":"IF(申込一覧表A!E75=\"\",\"\",申込一覧表A!E75)","v":""},"",{"$f":"IF(申込一覧表A!G75=\"\",\"\",申込一覧表A!G75)","v":""},{"$f":"IF(申込一覧表A!H75=\"\",\"\",申込一覧表A!H75)","v":""}]
[null,{"$f":"IF(申込一覧表A!B76=\"\",\"\",IF(申込一覧表A!C76=\"\",申込一覧表A!B76,申込一覧表A!B76&\"(\"&申込一覧表A!C76&\")\"))","v":""},{"$f":"IF(申込一覧表A!D76=\"\",\"\",申込一覧表A!D76)","v":""},{"$f":"IF(申込一覧表A!F76=\"\",\"\",申込一覧表A!F76)","v":""},10,{"$f":"IF(申込一覧表A!Y76=\"\",\"\",申込一覧表A!Y76)","v":100000},{"$f":"IF(申込一覧表A!I76=\"\",\"\",申込一覧表A!I76)","v":""},{"$f":"IF(申込一覧表A!M76=\"\",\"\",申込一覧表A!M76&\" \"&申込一覧表A!O76)","v":""},{"$f":"IF(申込一覧表A!Q76=\"\",\"\",申込一覧表A!Q76&\" \"&申込一覧表A!S76)","v":""},{"$f":"IF(申込一覧表A!U76=\"\",\"\",申込一覧表A!U76&\" \"&申込一覧表A!W76)","v":""},null,{"$f":"IF(申込一覧表A!J76=\"\",\"\",\"0\"&申込一覧表A!J76)","v":""},{"$f":"IF(申込一覧表A!K76=\"\",\"\",申込一覧表A!K76)","v":""},{"$f":"IF(申込一覧表A!L76=\"\",\"\",申込一覧表A!L76)","v":""},null,{"$f":"IF(申込一覧表A!E76=\"\",\"\",申込一覧表A!E76)","v":""},"",{"$f":"IF(申込一覧表A!G76=\"\",\"\",申込一覧表A!G76)","v":""},{"$f":"IF(申込一覧表A!H76=\"\",\"\",申込一覧表A!H76)","v":""}]
[null,{"$f":"IF(申込一覧表A!B77=\"\",\"\",IF(申込一覧表A!C77=\"\",申込一覧表A!B77,申込一覧表A!B77&\"(\"&申込一覧表A!C77&\")\"))","v":""},{"$f":"IF(申込一覧表A!D77=\"\",\"\",申込一覧表A!D77)","v":""},{"$f":"IF(申込一覧表A!F77=\"\",\"\",申込一覧表A!F77)","v":""},10,{"$f":"IF(申込一覧表A!Y77=\"\",\"\",申込一覧表A!Y77)","v":100000},{"$f":"IF(申込一覧表A!I77=\"\",\"\",申込一覧表A!I77)","v":""},{"$f":"IF(申込一覧表A!M77=\"\",\"\",申込一覧表A!M77&\" \"&申込一覧表A!O77)","v":""},{"$f":"IF(申込一覧表A!Q77=\"\",\"\",申込一覧表A!Q77&\" \"&申込一覧表A!S77)","v":""},{"$f":"IF(申込一覧表A!U77=\"\",\"\",申込一覧表A!U77&\" \"&申込一覧表A!W77)","v":""},null,{"$f":"IF(申込一覧表A!J77=\"\",\"\",\"0\"&申込一覧表A!J77)","v":""},{"$f":"IF(申込一覧表A!K77=\"\",\"\",申込一覧表A!K77)","v":""},{"$f":"IF(申込一覧表A!L77=\"\",\"\",申込一覧表A!L77)","v":""},null,{"$f":"IF(申込一覧表A!E77=\"\",\"\",申込一覧表A!E77)","v":""},"",{"$f":"IF(申込一覧表A!G77=\"\",\"\",申込一覧表A!G77)","v":""},{"$f":"IF(申込一覧表A!H77=\"\",\"\",申込一覧表A!H77)","v":""}]
[null,{"$f":"IF(申込一覧表A!B78=\"\",\"\",IF(申込一覧表A!C78=\"\",申込一覧表A!B78,申込一覧表A!B78&\"(\"&申込一覧表A!C78&\")\"))","v":""},{"$f":"IF(申込一覧表A!D78=\"\",\"\",申込一覧表A!D78)","v":""},{"$f":"IF(申込一覧表A!F78=\"\",\"\",申込一覧表A!F78)","v":""},10,{"$f":"IF(申込一覧表A!Y78=\"\",\"\",申込一覧表A!Y78)","v":100000},{"$f":"IF(申込一覧表A!I78=\"\",\"\",申込一覧表A!I78)","v":""},{"$f":"IF(申込一覧表A!M78=\"\",\"\",申込一覧表A!M78&\" \"&申込一覧表A!O78)","v":""},{"$f":"IF(申込一覧表A!Q78=\"\",\"\",申込一覧表A!Q78&\" \"&申込一覧表A!S78)","v":""},{"$f":"IF(申込一覧表A!U78=\"\",\"\",申込一覧表A!U78&\" \"&申込一覧表A!W78)","v":""},null,{"$f":"IF(申込一覧表A!J78=\"\",\"\",\"0\"&申込一覧表A!J78)","v":""},{"$f":"IF(申込一覧表A!K78=\"\",\"\",申込一覧表A!K78)","v":""},{"$f":"IF(申込一覧表A!L78=\"\",\"\",申込一覧表A!L78)","v":""},null,{"$f":"IF(申込一覧表A!E78=\"\",\"\",申込一覧表A!E78)","v":""},"",{"$f":"IF(申込一覧表A!G78=\"\",\"\",申込一覧表A!G78)","v":""},{"$f":"IF(申込一覧表A!H78=\"\",\"\",申込一覧表A!H78)","v":""}]
[null,{"$f":"IF(申込一覧表A!B79=\"\",\"\",IF(申込一覧表A!C79=\"\",申込一覧表A!B79,申込一覧表A!B79&\"(\"&申込一覧表A!C79&\")\"))","v":""},{"$f":"IF(申込一覧表A!D79=\"\",\"\",申込一覧表A!D79)","v":""},{"$f":"IF(申込一覧表A!F79=\"\",\"\",申込一覧表A!F79)","v":""},10,{"$f":"IF(申込一覧表A!Y79=\"\",\"\",申込一覧表A!Y79)","v":100000},{"$f":"IF(申込一覧表A!I79=\"\",\"\",申込一覧表A!I79)","v":""},{"$f":"IF(申込一覧表A!M79=\"\",\"\",申込一覧表A!M79&\" \"&申込一覧表A!O79)","v":""},{"$f":"IF(申込一覧表A!Q79=\"\",\"\",申込一覧表A!Q79&\" \"&申込一覧表A!S79)","v":""},{"$f":"IF(申込一覧表A!U79=\"\",\"\",申込一覧表A!U79&\" \"&申込一覧表A!W79)","v":""},null,{"$f":"IF(申込一覧表A!J79=\"\",\"\",\"0\"&申込一覧表A!J79)","v":""},{"$f":"IF(申込一覧表A!K79=\"\",\"\",申込一覧表A!K79)","v":""},{"$f":"IF(申込一覧表A!L79=\"\",\"\",申込一覧表A!L79)","v":""},null,{"$f":"IF(申込一覧表A!E79=\"\",\"\",申込一覧表A!E79)","v":""},"",{"$f":"IF(申込一覧表A!G79=\"\",\"\",申込一覧表A!G79)","v":""},{"$f":"IF(申込一覧表A!H79=\"\",\"\",申込一覧表A!H79)","v":""}]
[null,{"$f":"IF(申込一覧表A!B80=\"\",\"\",IF(申込一覧表A!C80=\"\",申込一覧表A!B80,申込一覧表A!B80&\"(\"&申込一覧表A!C80&\")\"))","v":""},{"$f":"IF(申込一覧表A!D80=\"\",\"\",申込一覧表A!D80)","v":""},{"$f":"IF(申込一覧表A!F80=\"\",\"\",申込一覧表A!F80)","v":""},10,{"$f":"IF(申込一覧表A!Y80=\"\",\"\",申込一覧表A!Y80)","v":100000},{"$f":"IF(申込一覧表A!I80=\"\",\"\",申込一覧表A!I80)","v":""},{"$f":"IF(申込一覧表A!M80=\"\",\"\",申込一覧表A!M80&\" \"&申込一覧表A!O80)","v":""},{"$f":"IF(申込一覧表A!Q80=\"\",\"\",申込一覧表A!Q80&\" \"&申込一覧表A!S80)","v":""},{"$f":"IF(申込一覧表A!U80=\"\",\"\",申込一覧表A!U80&\" \"&申込一覧表A!W80)","v":""},null,{"$f":"IF(申込一覧表A!J80=\"\",\"\",\"0\"&申込一覧表A!J80)","v":""},{"$f":"IF(申込一覧表A!K80=\"\",\"\",申込一覧表A!K80)","v":""},{"$f":"IF(申込一覧表A!L80=\"\",\"\",申込一覧表A!L80)","v":""},null,{"$f":"IF(申込一覧表A!E80=\"\",\"\",申込一覧表A!E80)","v":""},"",{"$f":"IF(申込一覧表A!G80=\"\",\"\",申込一覧表A!G80)","v":""},{"$f":"IF(申込一覧表A!H80=\"\",\"\",申込一覧表A!H80)","v":""}]
[null,{"$f":"IF(申込一覧表A!B81=\"\",\"\",IF(申込一覧表A!C81=\"\",申込一覧表A!B81,申込一覧表A!B81&\"(\"&申込一覧表A!C81&\")\"))","v":""},{"$f":"IF(申込一覧表A!D81=\"\",\"\",申込一覧表A!D81)","v":""},{"$f":"IF(申込一覧表A!F81=\"\",\"\",申込一覧表A!F81)","v":""},10,{"$f":"IF(申込一覧表A!Y81=\"\",\"\",申込一覧表A!Y81)","v":100000},{"$f":"IF(申込一覧表A!I81=\"\",\"\",申込一覧表A!I81)","v":""},{"$f":"IF(申込一覧表A!M81=\"\",\"\",申込一覧表A!M81&\" \"&申込一覧表A!O81)","v":""},{"$f":"IF(申込一覧表A!Q81=\"\",\"\",申込一覧表A!Q81&\" \"&申込一覧表A!S81)","v":""},{"$f":"IF(申込一覧表A!U81=\"\",\"\",申込一覧表A!U81&\" \"&申込一覧表A!W81)","v":""},null,{"$f":"IF(申込一覧表A!J81=\"\",\"\",\"0\"&申込一覧表A!J81)","v":""},{"$f":"IF(申込一覧表A!K81=\"\",\"\",申込一覧表A!K81)","v":""},{"$f":"IF(申込一覧表A!L81=\"\",\"\",申込一覧表A!L81)","v":""},null,{"$f":"IF(申込一覧表A!E81=\"\",\"\",申込一覧表A!E81)","v":""},"",{"$f":"IF(申込一覧表A!G81=\"\",\"\",申込一覧表A!G81)","v":""},{"$f":"IF(申込一覧表A!H81=\"\",\"\",申込一覧表A!H81)","v":""}]
[null,{"$f":"IF(申込一覧表A!B82=\"\",\"\",IF(申込一覧表A!C82=\"\",申込一覧表A!B82,申込一覧表A!B82&\"(\"&申込一覧表A!C82&\")\"))","v":""},{"$f":"IF(申込一覧表A!D82=\"\",\"\",申込一覧表A!D82)","v":""},{"$f":"IF(申込一覧表A!F82=\"\",\"\",申込一覧表A!F82)","v":""},10,{"$f":"IF(申込一覧表A!Y82=\"\",\"\",申込一覧表A!Y82)","v":100000},{"$f":"IF(申込一覧表A!I82=\"\",\"\",申込一覧表A!I82)","v":""},{"$f":"IF(申込一覧表A!M82=\"\",\"\",申込一覧表A!M82&\" \"&申込一覧表A!O82)","v":""},{"$f":"IF(申込一覧表A!Q82=\"\",\"\",申込一覧表A!Q82&\" \"&申込一覧表A!S82)","v":""},{"$f":"IF(申込一覧表A!U82=\"\",\"\",申込一覧表A!U82&\" \"&申込一覧表A!W82)","v":""},null,{"$f":"IF(申込一覧表A!J82=\"\",\"\",\"0\"&申込一覧表A!J82)","v":""},{"$f":"IF(申込一覧表A!K82=\"\",\"\",申込一覧表A!K82)","v":""},{"$f":"IF(申込一覧表A!L82=\"\",\"\",申込一覧表A!L82)","v":""},null,{"$f":"IF(申込一覧表A!E82=\"\",\"\",申込一覧表A!E82)","v":""},"",{"$f":"IF(申込一覧表A!G82=\"\",\"\",申込一覧表A!G82)","v":""},{"$f":"IF(申込一覧表A!H82=\"\",\"\",申込一覧表A!H82)","v":""}]
[null,{"$f":"IF(申込一覧表A!B83=\"\",\"\",IF(申込一覧表A!C83=\"\",申込一覧表A!B83,申込一覧表A!B83&\"(\"&申込一覧表A!C83&\")\"))","v":""},{"$f":"IF(申込一覧表A!D83=\"\",\"\",申込一覧表A!D83)","v":""},{"$f":"IF(申込一覧表A!F83=\"\",\"\",申込一覧表A!F83)","v":""},10,{"$f":"IF(申込一覧表A!Y83=\"\",\"\",申込一覧表A!Y83)","v":100000},{"$f":"IF(申込一覧表A!I83=\"\",\"\",申込一覧表A!I83)","v":""},{"$f":"IF(申込一覧表A!M83=\"\",\"\",申込一覧表A!M83&\" \"&申込一覧表A!O83)","v":""},{"$f":"IF(申込一覧表A!Q83=\"\",\"\",申込一覧表A!Q83&\" \"&申込一覧表A!S83)","v":""},{"$f":"IF(申込一覧表A!U83=\"\",\"\",申込一覧表A!U83&\" \"&申込一覧表A!W83)","v":""},null,{"$f":"IF(申込一覧表A!J83=\"\",\"\",\"0\"&申込一覧表A!J83)","v":""},{"$f":"IF(申込一覧表A!K83=\"\",\"\",申込一覧表A!K83)","v":""},{"$f":"IF(申込一覧表A!L83=\"\",\"\",申込一覧表A!L83)","v":""},null,{"$f":"IF(申込一覧表A!E83=\"\",\"\",申込一覧表A!E83)","v":""},"",{"$f":"IF(申込一覧表A!G83=\"\",\"\",申込一覧表A!G83)","v":""},{"$f":"IF(申込一覧表A!H83=\"\",\"\",申込一覧表A!H83)","v":""}]
[null,{"$f":"IF(申込一覧表A!B84=\"\",\"\",IF(申込一覧表A!C84=\"\",申込一覧表A!B84,申込一覧表A!B84&\"(\"&申込一覧表A!C84&\")\"))","v":""},{"$f":"IF(申込一覧表A!D84=\"\",\"\",申込一覧表A!D84)","v":""},{"$f":"IF(申込一覧表A!F84=\"\",\"\",申込一覧表A!F84)","v":""},10,{"$f":"IF(申込一覧表A!Y84=\"\",\"\",申込一覧表A!Y84)","v":100000},{"$f":"IF(申込一覧表A!I84=\"\",\"\",申込一覧表A!I84)","v":""},{"$f":"IF(申込一覧表A!M84=\"\",\"\",申込一覧表A!M84&\" \"&申込一覧表A!O84)","v":""},{"$f":"IF(申込一覧表A!Q84=\"\",\"\",申込一覧表A!Q84&\" \"&申込一覧表A!S84)","v":""},{"$f":"IF(申込一覧表A!U84=\"\",\"\",申込一覧表A!U84&\" \"&申込一覧表A!W84)","v":""},null,{"$f":"IF(申込一覧表A!J84=\"\",\"\",\"0\"&申込一覧表A!J84)","v":""},{"$f":"IF(申込一覧表A!K84=\"\",\"\",申込一覧表A!K84)","v":""},{"$f":"IF(申込一覧表A!L84=\"\",\"\",申込一覧表A!L84)","v":""},null,{"$f":"IF(申込一覧表A!E84=\"\",\"\",申込一覧表A!E84)","v":""},"",{"$f":"IF(申込一覧表A!G84=\"\",\"\",申込一覧表A!G84)","v":""},{"$f":"IF(申込一覧表A!H84=\"\",\"\",申込一覧表A!H84)","v":""}]
[null,{"$f":"IF(申込一覧表A!B85=\"\",\"\",IF(申込一覧表A!C85=\"\",申込一覧表A!B85,申込一覧表A!B85&\"(\"&申込一覧表A!C85&\")\"))","v":""},{"$f":"IF(申込一覧表A!D85=\"\",\"\",申込一覧表A!D85)","v":""},{"$f":"IF(申込一覧表A!F85=\"\",\"\",申込一覧表A!F85)","v":""},10,{"$f":"IF(申込一覧表A!Y85=\"\",\"\",申込一覧表A!Y85)","v":100000},{"$f":"IF(申込一覧表A!I85=\"\",\"\",申込一覧表A!I85)","v":""},{"$f":"IF(申込一覧表A!M85=\"\",\"\",申込一覧表A!M85&\" \"&申込一覧表A!O85)","v":""},{"$f":"IF(申込一覧表A!Q85=\"\",\"\",申込一覧表A!Q85&\" \"&申込一覧表A!S85)","v":""},{"$f":"IF(申込一覧表A!U85=\"\",\"\",申込一覧表A!U85&\" \"&申込一覧表A!W85)","v":""},null,{"$f":"IF(申込一覧表A!J85=\"\",\"\",\"0\"&申込一覧表A!J85)","v":""},{"$f":"IF(申込一覧表A!K85=\"\",\"\",申込一覧表A!K85)","v":""},{"$f":"IF(申込一覧表A!L85=\"\",\"\",申込一覧表A!L85)","v":""},null,{"$f":"IF(申込一覧表A!E85=\"\",\"\",申込一覧表A!E85)","v":""},"",{"$f":"IF(申込一覧表A!G85=\"\",\"\",申込一覧表A!G85)","v":""},{"$f":"IF(申込一覧表A!H85=\"\",\"\",申込一覧表A!H85)","v":""}]
[null,{"$f":"IF(申込一覧表A!B86=\"\",\"\",IF(申込一覧表A!C86=\"\",申込一覧表A!B86,申込一覧表A!B86&\"(\"&申込一覧表A!C86&\")\"))","v":""},{"$f":"IF(申込一覧表A!D86=\"\",\"\",申込一覧表A!D86)","v":""},{"$f":"IF(申込一覧表A!F86=\"\",\"\",申込一覧表A!F86)","v":""},10,{"$f":"IF(申込一覧表A!Y86=\"\",\"\",申込一覧表A!Y86)","v":100000},{"$f":"IF(申込一覧表A!I86=\"\",\"\",申込一覧表A!I86)","v":""},{"$f":"IF(申込一覧表A!M86=\"\",\"\",申込一覧表A!M86&\" \"&申込一覧表A!O86)","v":""},{"$f":"IF(申込一覧表A!Q86=\"\",\"\",申込一覧表A!Q86&\" \"&申込一覧表A!S86)","v":""},{"$f":"IF(申込一覧表A!U86=\"\",\"\",申込一覧表A!U86&\" \"&申込一覧表A!W86)","v":""},null,{"$f":"IF(申込一覧表A!J86=\"\",\"\",\"0\"&申込一覧表A!J86)","v":""},{"$f":"IF(申込一覧表A!K86=\"\",\"\",申込一覧表A!K86)","v":""},{"$f":"IF(申込一覧表A!L86=\"\",\"\",申込一覧表A!L86)","v":""},null,{"$f":"IF(申込一覧表A!E86=\"\",\"\",申込一覧表A!E86)","v":""},"",{"$f":"IF(申込一覧表A!G86=\"\",\"\",申込一覧表A!G86)","v":""},{"$f":"IF(申込一覧表A!H86=\"\",\"\",申込一覧表A!H86)","v":""}]
[null,{"$f":"IF(申込一覧表A!B87=\"\",\"\",IF(申込一覧表A!C87=\"\",申込一覧表A!B87,申込一覧表A!B87&\"(\"&申込一覧表A!C87&\")\"))","v":""},{"$f":"IF(申込一覧表A!D87=\"\",\"\",申込一覧表A!D87)","v":""},{"$f":"IF(申込一覧表A!F87=\"\",\"\",申込一覧表A!F87)","v":""},10,{"$f":"IF(申込一覧表A!Y87=\"\",\"\",申込一覧表A!Y87)","v":100000},{"$f":"IF(申込一覧表A!I87=\"\",\"\",申込一覧表A!I87)","v":""},{"$f":"IF(申込一覧表A!M87=\"\",\"\",申込一覧表A!M87&\" \"&申込一覧表A!O87)","v":""},{"$f":"IF(申込一覧表A!Q87=\"\",\"\",申込一覧表A!Q87&\" \"&申込一覧表A!S87)","v":""},{"$f":"IF(申込一覧表A!U87=\"\",\"\",申込一覧表A!U87&\" \"&申込一覧表A!W87)","v":""},null,{"$f":"IF(申込一覧表A!J87=\"\",\"\",\"0\"&申込一覧表A!J87)","v":""},{"$f":"IF(申込一覧表A!K87=\"\",\"\",申込一覧表A!K87)","v":""},{"$f":"IF(申込一覧表A!L87=\"\",\"\",申込一覧表A!L87)","v":""},null,{"$f":"IF(申込一覧表A!E87=\"\",\"\",申込一覧表A!E87)","v":""},"",{"$f":"IF(申込一覧表A!G87=\"\",\"\",申込一覧表A!G87)","v":""},{"$f":"IF(申込一覧表A!H87=\"\",\"\",申込一覧表A!H87)","v":""}]
[null,{"$f":"IF(申込一覧表A!B88=\"\",\"\",IF(申込一覧表A!C88=\"\",申込一覧表A!B88,申込一覧表A!B88&\"(\"&申込一覧表A!C88&\")\"))","v":""},{"$f":"IF(申込一覧表A!D88=\"\",\"\",申込一覧表A!D88)","v":""},{"$f":"IF(申込一覧表A!F88=\"\",\"\",申込一覧表A!F88)","v":""},10,{"$f":"IF(申込一覧表A!Y88=\"\",\"\",申込一覧表A!Y88)","v":100000},{"$f":"IF(申込一覧表A!I88=\"\",\"\",申込一覧表A!I88)","v":""},{"$f":"IF(申込一覧表A!M88=\"\",\"\",申込一覧表A!M88&\" \"&申込一覧表A!O88)","v":""},{"$f":"IF(申込一覧表A!Q88=\"\",\"\",申込一覧表A!Q88&\" \"&申込一覧表A!S88)","v":""},{"$f":"IF(申込一覧表A!U88=\"\",\"\",申込一覧表A!U88&\" \"&申込一覧表A!W88)","v":""},null,{"$f":"IF(申込一覧表A!J88=\"\",\"\",\"0\"&申込一覧表A!J88)","v":""},{"$f":"IF(申込一覧表A!K88=\"\",\"\",申込一覧表A!K88)","v":""},{"$f":"IF(申込一覧表A!L88=\"\",\"\",申込一覧表A!L88)","v":""},null,{"$f":"IF(申込一覧表A!E88=\"\",\"\",申込一覧表A!E88)","v":""},"",{"$f":"IF(申込一覧表A!G88=\"\",\"\",申込一覧表A!G88)","v":""},{"$f":"IF(申込一覧表A!H88=\"\",\"\",申込一覧表A!H88)","v":""}]
[null,{"$f":"IF(申込一覧表A!B89=\"\",\"\",IF(申込一覧表A!C89=\"\",申込一覧表A!B89,申込一覧表A!B89&\"(\"&申込一覧表A!C89&\")\"))","v":""},{"$f":"IF(申込一覧表A!D89=\"\",\"\",申込一覧表A!D89)","v":""},{"$f":"IF(申込一覧表A!F89=\"\",\"\",申込一覧表A!F89)","v":""},10,{"$f":"IF(申込一覧表A!Y89=\"\",\"\",申込一覧表A!Y89)","v":100000},{"$f":"IF(申込一覧表A!I89=\"\",\"\",申込一覧表A!I89)","v":""},{"$f":"IF(申込一覧表A!M89=\"\",\"\",申込一覧表A!M89&\" \"&申込一覧表A!O89)","v":""},{"$f":"IF(申込一覧表A!Q89=\"\",\"\",申込一覧表A!Q89&\" \"&申込一覧表A!S89)","v":""},{"$f":"IF(申込一覧表A!U89=\"\",\"\",申込一覧表A!U89&\" \"&申込一覧表A!W89)","v":""},null,{"$f":"IF(申込一覧表A!J89=\"\",\"\",\"0\"&申込一覧表A!J89)","v":""},{"$f":"IF(申込一覧表A!K89=\"\",\"\",申込一覧表A!K89)","v":""},{"$f":"IF(申込一覧表A!L89=\"\",\"\",申込一覧表A!L89)","v":""},null,{"$f":"IF(申込一覧表A!E89=\"\",\"\",申込一覧表A!E89)","v":""},"",{"$f":"IF(申込一覧表A!G89=\"\",\"\",申込一覧表A!G89)","v":""},{"$f":"IF(申込一覧表A!H89=\"\",\"\",申込一覧表A!H89)","v":""}]
[null,{"$f":"IF(申込一覧表A!B90=\"\",\"\",IF(申込一覧表A!C90=\"\",申込一覧表A!B90,申込一覧表A!B90&\"(\"&申込一覧表A!C90&\")\"))","v":""},{"$f":"IF(申込一覧表A!D90=\"\",\"\",申込一覧表A!D90)","v":""},{"$f":"IF(申込一覧表A!F90=\"\",\"\",申込一覧表A!F90)","v":""},10,{"$f":"IF(申込一覧表A!Y90=\"\",\"\",申込一覧表A!Y90)","v":100000},{"$f":"IF(申込一覧表A!I90=\"\",\"\",申込一覧表A!I90)","v":""},{"$f":"IF(申込一覧表A!M90=\"\",\"\",申込一覧表A!M90&\" \"&申込一覧表A!O90)","v":""},{"$f":"IF(申込一覧表A!Q90=\"\",\"\",申込一覧表A!Q90&\" \"&申込一覧表A!S90)","v":""},{"$f":"IF(申込一覧表A!U90=\"\",\"\",申込一覧表A!U90&\" \"&申込一覧表A!W90)","v":""},null,{"$f":"IF(申込一覧表A!J90=\"\",\"\",\"0\"&申込一覧表A!J90)","v":""},{"$f":"IF(申込一覧表A!K90=\"\",\"\",申込一覧表A!K90)","v":""},{"$f":"IF(申込一覧表A!L90=\"\",\"\",申込一覧表A!L90)","v":""},null,{"$f":"IF(申込一覧表A!E90=\"\",\"\",申込一覧表A!E90)","v":""},"",{"$f":"IF(申込一覧表A!G90=\"\",\"\",申込一覧表A!G90)","v":""},{"$f":"IF(申込一覧表A!H90=\"\",\"\",申込一覧表A!H90)","v":""}]
[null,{"$f":"IF(申込一覧表A!B91=\"\",\"\",IF(申込一覧表A!C91=\"\",申込一覧表A!B91,申込一覧表A!B91&\"(\"&申込一覧表A!C91&\")\"))","v":""},{"$f":"IF(申込一覧表A!D91=\"\",\"\",申込一覧表A!D91)","v":""},{"$f":"IF(申込一覧表A!F91=\"\",\"\",申込一覧表A!F91)","v":""},10,{"$f":"IF(申込一覧表A!Y91=\"\",\"\",申込一覧表A!Y91)","v":100000},{"$f":"IF(申込一覧表A!I91=\"\",\"\",申込一覧表A!I91)","v":""},{"$f":"IF(申込一覧表A!M91=\"\",\"\",申込一覧表A!M91&\" \"&申込一覧表A!O91)","v":""},{"$f":"IF(申込一覧表A!Q91=\"\",\"\",申込一覧表A!Q91&\" \"&申込一覧表A!S91)","v":""},{"$f":"IF(申込一覧表A!U91=\"\",\"\",申込一覧表A!U91&\" \"&申込一覧表A!W91)","v":""},null,{"$f":"IF(申込一覧表A!J91=\"\",\"\",\"0\"&申込一覧表A!J91)","v":""},{"$f":"IF(申込一覧表A!K91=\"\",\"\",申込一覧表A!K91)","v":""},{"$f":"IF(申込一覧表A!L91=\"\",\"\",申込一覧表A!L91)","v":""},null,{"$f":"IF(申込一覧表A!E91=\"\",\"\",申込一覧表A!E91)","v":""},"",{"$f":"IF(申込一覧表A!G91=\"\",\"\",申込一覧表A!G91)","v":""},{"$f":"IF(申込一覧表A!H91=\"\",\"\",申込一覧表A!H91)","v":""}]
[null,{"$f":"IF(申込一覧表A!B92=\"\",\"\",IF(申込一覧表A!C92=\"\",申込一覧表A!B92,申込一覧表A!B92&\"(\"&申込一覧表A!C92&\")\"))","v":""},{"$f":"IF(申込一覧表A!D92=\"\",\"\",申込一覧表A!D92)","v":""},{"$f":"IF(申込一覧表A!F92=\"\",\"\",申込一覧表A!F92)","v":""},10,{"$f":"IF(申込一覧表A!Y92=\"\",\"\",申込一覧表A!Y92)","v":100000},{"$f":"IF(申込一覧表A!I92=\"\",\"\",申込一覧表A!I92)","v":""},{"$f":"IF(申込一覧表A!M92=\"\",\"\",申込一覧表A!M92&\" \"&申込一覧表A!O92)","v":""},{"$f":"IF(申込一覧表A!Q92=\"\",\"\",申込一覧表A!Q92&\" \"&申込一覧表A!S92)","v":""},{"$f":"IF(申込一覧表A!U92=\"\",\"\",申込一覧表A!U92&\" \"&申込一覧表A!W92)","v":""},null,{"$f":"IF(申込一覧表A!J92=\"\",\"\",\"0\"&申込一覧表A!J92)","v":""},{"$f":"IF(申込一覧表A!K92=\"\",\"\",申込一覧表A!K92)","v":""},{"$f":"IF(申込一覧表A!L92=\"\",\"\",申込一覧表A!L92)","v":""},null,{"$f":"IF(申込一覧表A!E92=\"\",\"\",申込一覧表A!E92)","v":""},"",{"$f":"IF(申込一覧表A!G92=\"\",\"\",申込一覧表A!G92)","v":""},{"$f":"IF(申込一覧表A!H92=\"\",\"\",申込一覧表A!H92)","v":""}]
[null,{"$f":"IF(申込一覧表A!B93=\"\",\"\",IF(申込一覧表A!C93=\"\",申込一覧表A!B93,申込一覧表A!B93&\"(\"&申込一覧表A!C93&\")\"))","v":""},{"$f":"IF(申込一覧表A!D93=\"\",\"\",申込一覧表A!D93)","v":""},{"$f":"IF(申込一覧表A!F93=\"\",\"\",申込一覧表A!F93)","v":""},10,{"$f":"IF(申込一覧表A!Y93=\"\",\"\",申込一覧表A!Y93)","v":100000},{"$f":"IF(申込一覧表A!I93=\"\",\"\",申込一覧表A!I93)","v":""},{"$f":"IF(申込一覧表A!M93=\"\",\"\",申込一覧表A!M93&\" \"&申込一覧表A!O93)","v":""},{"$f":"IF(申込一覧表A!Q93=\"\",\"\",申込一覧表A!Q93&\" \"&申込一覧表A!S93)","v":""},{"$f":"IF(申込一覧表A!U93=\"\",\"\",申込一覧表A!U93&\" \"&申込一覧表A!W93)","v":""},null,{"$f":"IF(申込一覧表A!J93=\"\",\"\",\"0\"&申込一覧表A!J93)","v":""},{"$f":"IF(申込一覧表A!K93=\"\",\"\",申込一覧表A!K93)","v":""},{"$f":"IF(申込一覧表A!L93=\"\",\"\",申込一覧表A!L93)","v":""},null,{"$f":"IF(申込一覧表A!E93=\"\",\"\",申込一覧表A!E93)","v":""},"",{"$f":"IF(申込一覧表A!G93=\"\",\"\",申込一覧表A!G93)","v":""},{"$f":"IF(申込一覧表A!H93=\"\",\"\",申込一覧表A!H93)","v":""}]
[null,{"$f":"IF(申込一覧表A!B94=\"\",\"\",IF(申込一覧表A!C94=\"\",申込一覧表A!B94,申込一覧表A!B94&\"(\"&申込一覧表A!C94&\")\"))","v":""},{"$f":"IF(申込一覧表A!D94=\"\",\"\",申込一覧表A!D94)","v":""},{"$f":"IF(申込一覧表A!F94=\"\",\"\",申込一覧表A!F94)","v":""},10,{"$f":"IF(申込一覧表A!Y94=\"\",\"\",申込一覧表A!Y94)","v":100000},{"$f":"IF(申込一覧表A!I94=\"\",\"\",申込一覧表A!I94)","v":""},{"$f":"IF(申込一覧表A!M94=\"\",\"\",申込一覧表A!M94&\" \"&申込一覧表A!O94)","v":""},{"$f":"IF(申込一覧表A!Q94=\"\",\"\",申込一覧表A!Q94&\" \"&申込一覧表A!S94)","v":""},{"$f":"IF(申込一覧表A!U94=\"\",\"\",申込一覧表A!U94&\" \"&申込一覧表A!W94)","v":""},null,{"$f":"IF(申込一覧表A!J94=\"\",\"\",\"0\"&申込一覧表A!J94)","v":""},{"$f":"IF(申込一覧表A!K94=\"\",\"\",申込一覧表A!K94)","v":""},{"$f":"IF(申込一覧表A!L94=\"\",\"\",申込一覧表A!L94)","v":""},null,{"$f":"IF(申込一覧表A!E94=\"\",\"\",申込一覧表A!E94)","v":""},"",{"$f":"IF(申込一覧表A!G94=\"\",\"\",申込一覧表A!G94)","v":""},{"$f":"IF(申込一覧表A!H94=\"\",\"\",申込一覧表A!H94)","v":""}]
[null,{"$f":"IF(申込一覧表A!B95=\"\",\"\",IF(申込一覧表A!C95=\"\",申込一覧表A!B95,申込一覧表A!B95&\"(\"&申込一覧表A!C95&\")\"))","v":""},{"$f":"IF(申込一覧表A!D95=\"\",\"\",申込一覧表A!D95)","v":""},{"$f":"IF(申込一覧表A!F95=\"\",\"\",申込一覧表A!F95)","v":""},10,{"$f":"IF(申込一覧表A!Y95=\"\",\"\",申込一覧表A!Y95)","v":100000},{"$f":"IF(申込一覧表A!I95=\"\",\"\",申込一覧表A!I95)","v":""},{"$f":"IF(申込一覧表A!M95=\"\",\"\",申込一覧表A!M95&\" \"&申込一覧表A!O95)","v":""},{"$f":"IF(申込一覧表A!Q95=\"\",\"\",申込一覧表A!Q95&\" \"&申込一覧表A!S95)","v":""},{"$f":"IF(申込一覧表A!U95=\"\",\"\",申込一覧表A!U95&\" \"&申込一覧表A!W95)","v":""},null,{"$f":"IF(申込一覧表A!J95=\"\",\"\",\"0\"&申込一覧表A!J95)","v":""},{"$f":"IF(申込一覧表A!K95=\"\",\"\",申込一覧表A!K95)","v":""},{"$f":"IF(申込一覧表A!L95=\"\",\"\",申込一覧表A!L95)","v":""},null,{"$f":"IF(申込一覧表A!E95=\"\",\"\",申込一覧表A!E95)","v":""},"",{"$f":"IF(申込一覧表A!G95=\"\",\"\",申込一覧表A!G95)","v":""},{"$f":"IF(申込一覧表A!H95=\"\",\"\",申込一覧表A!H95)","v":""}]
[null,{"$f":"IF(申込一覧表A!B96=\"\",\"\",IF(申込一覧表A!C96=\"\",申込一覧表A!B96,申込一覧表A!B96&\"(\"&申込一覧表A!C96&\")\"))","v":""},{"$f":"IF(申込一覧表A!D96=\"\",\"\",申込一覧表A!D96)","v":""},{"$f":"IF(申込一覧表A!F96=\"\",\"\",申込一覧表A!F96)","v":""},10,{"$f":"IF(申込一覧表A!Y96=\"\",\"\",申込一覧表A!Y96)","v":100000},{"$f":"IF(申込一覧表A!I96=\"\",\"\",申込一覧表A!I96)","v":""},{"$f":"IF(申込一覧表A!M96=\"\",\"\",申込一覧表A!M96&\" \"&申込一覧表A!O96)","v":""},{"$f":"IF(申込一覧表A!Q96=\"\",\"\",申込一覧表A!Q96&\" \"&申込一覧表A!S96)","v":""},{"$f":"IF(申込一覧表A!U96=\"\",\"\",申込一覧表A!U96&\" \"&申込一覧表A!W96)","v":""},null,{"$f":"IF(申込一覧表A!J96=\"\",\"\",\"0\"&申込一覧表A!J96)","v":""},{"$f":"IF(申込一覧表A!K96=\"\",\"\",申込一覧表A!K96)","v":""},{"$f":"IF(申込一覧表A!L96=\"\",\"\",申込一覧表A!L96)","v":""},null,{"$f":"IF(申込一覧表A!E96=\"\",\"\",申込一覧表A!E96)","v":""},"",{"$f":"IF(申込一覧表A!G96=\"\",\"\",申込一覧表A!G96)","v":""},{"$f":"IF(申込一覧表A!H96=\"\",\"\",申込一覧表A!H96)","v":""}]
[null,{"$f":"IF(申込一覧表A!B97=\"\",\"\",IF(申込一覧表A!C97=\"\",申込一覧表A!B97,申込一覧表A!B97&\"(\"&申込一覧表A!C97&\")\"))","v":""},{"$f":"IF(申込一覧表A!D97=\"\",\"\",申込一覧表A!D97)","v":""},{"$f":"IF(申込一覧表A!F97=\"\",\"\",申込一覧表A!F97)","v":""},10,{"$f":"IF(申込一覧表A!Y97=\"\",\"\",申込一覧表A!Y97)","v":""},{"$f":"IF(申込一覧表A!I97=\"\",\"\",申込一覧表A!I97)","v":""},{"$f":"IF(申込一覧表A!M97=\"\",\"\",申込一覧表A!M97&\" \"&申込一覧表A!O97)","v":""},{"$f":"IF(申込一覧表A!Q97=\"\",\"\",申込一覧表A!Q97&\" \"&申込一覧表A!S97)","v":""},{"$f":"IF(申込一覧表A!U97=\"\",\"\",申込一覧表A!U97&\" \"&申込一覧表A!W97)","v":""},null,{"$f":"IF(申込一覧表A!J97=\"\",\"\",\"0\"&申込一覧表A!J97)","v":"00"},{"$f":"IF(申込一覧表A!K97=\"\",\"\",申込一覧表A!K97)","v":0},{"$f":"IF(申込一覧表A!L97=\"\",\"\",申込一覧表A!L97)","v":0},null,{"$f":"IF(申込一覧表A!E97=\"\",\"\",申込一覧表A!E97)","v":""},"",{"$f":"IF(申込一覧表A!G97=\"\",\"\",申込一覧表A!G97)","v":""},{"$f":"IF(申込一覧表A!H97=\"\",\"\",申込一覧表A!H97)","v":""}]